Test-Label: checkpatch Test-Status: SUCCESS http://dpdk.org/patch/84249 _coding style OK_
[-- Attachment #1: Type: text/plain, Size: 1265 bytes --] Test-Label: iol-broadcom-Performance Test-Status: SUCCESS http://dpdk.org/patch/84249 _Performance Testing PASS_ Submitter: Ivan Malov <Ivan.Malov@oktetlabs.ru> Date: Monday, November 16 2020 19:23:03 DPDK git baseline: Repo:dpdk Branch: master CommitID:27cc0779220d6ae689329a0cbddb893acf1f1cd1 84249 --> performance testing pass Test environment and result as below: Ubuntu 18.04 Kernel: 4.15.0-65-generic Compiler: gcc gcc (Ubuntu 7.4.0-1ubuntu1~18.04.1) 7.4.0 NIC: Broadcom Inc. brcm_57414 25000 Mbps Target: x86_64-native-linuxapp-gcc Fail/Total: 0/2 Detail performance results: +------------+---------+-------------------------------------+ | frame_size | txd/rxd | throughput difference from expected | +============+=========+=====================================+ | 64 | 512 | -0.059 | +------------+---------+-------------------------------------+ | 64 | 2048 | 0.088 | +------------+---------+-------------------------------------+ To view detailed results, visit: https://lab.dpdk.org/results/dashboard/patchsets/14516/ UNH-IOL DPDK Community Lab To manage your email subscriptions, visit: https://lab.dpdk.org/results/dashboard/preferences/subscriptions/
[-- Attachment #1: Type: text/plain, Size: 792 bytes --] Test-Label: iol-broadcom-Functional Test-Status: SUCCESS http://dpdk.org/patch/84249 _Functional Testing PASS_ Submitter: Ivan Malov <Ivan.Malov@oktetlabs.ru> Date: Monday, November 16 2020 19:23:03 DPDK git baseline: Repo:dpdk Branch: master CommitID:27cc0779220d6ae689329a0cbddb893acf1f1cd1 84249 --> functional testing pass Test environment and result as below: Ubuntu 18.04 Kernel: 4.15.0-65-generic Compiler: gcc gcc (Ubuntu 7.4.0-1ubuntu1~18.04.1) 7.4.0 NIC: Broadcom Inc. brcm_57414 25000 Mbps Target: x86_64-native-linuxapp-gcc Fail/Total: 0/3 To view detailed results, visit: https://lab.dpdk.org/results/dashboard/patchsets/14516/ UNH-IOL DPDK Community Lab To manage your email subscriptions, visit: https://lab.dpdk.org/results/dashboard/preferences/subscriptions/
[-- Attachment #1: Type: text/plain, Size: 2331 bytes --] Test-Label: iol-testing Test-Status: SUCCESS http://dpdk.org/patch/84249 _Testing PASS_ Submitter: Ivan Malov <Ivan.Malov@oktetlabs.ru> Date: Monday, November 16 2020 19:23:03 DPDK git baseline: Repo:dpdk Branch: master CommitID:27cc0779220d6ae689329a0cbddb893acf1f1cd1 84249 --> testing pass Test environment and result as below: +---------------------+--------------------+-------------------+----------------+ | Environment | dpdk_meson_compile | dpdk_compile_spdk | dpdk_unit_test | +=====================+====================+===================+================+ | Windows Server 2019 | PASS | SKIPPED | SKIPPED | +---------------------+--------------------+-------------------+----------------+ | FreeBSD 11.2 | PASS | SKIPPED | SKIPPED | +---------------------+--------------------+-------------------+----------------+ | Fedora 31 | PASS | SKIPPED | SKIPPED | +---------------------+--------------------+-------------------+----------------+ | CentOS 8 | PASS | SKIPPED | SKIPPED | +---------------------+--------------------+-------------------+----------------+ | Ubuntu 18.04 | PASS | PASS | PASS | +---------------------+--------------------+-------------------+----------------+ | openSUSE Leap 15 | PASS | SKIPPED | SKIPPED | +---------------------+--------------------+-------------------+----------------+ | Arch Linux | PASS | SKIPPED | SKIPPED | +---------------------+--------------------+-------------------+----------------+ Windows Server 2019 Kernel: 10.0 Compiler: clang 9.0 FreeBSD 11.2 Kernel: 11.2 Compiler: gcc 8.3 Fedora 31 Kernel: 5.3.16 Compiler: gcc 9.2.1 CentOS 8 Kernel: 4.18.0.el8_0 Compiler: gcc 8.3.1 Ubuntu 18.04 Kernel: 4.15.0-generic Compiler: gcc 7.5 openSUSE Leap 15 Kernel: 4.12.14 Compiler: gcc 7.4.1 Arch Linux Kernel: latest Compiler: gcc latest To view detailed results, visit: https://lab.dpdk.org/results/dashboard/patchsets/14516/ UNH-IOL DPDK Community Lab To manage your email subscriptions, visit: https://lab.dpdk.org/results/dashboard/preferences/subscriptions/
[-- Attachment #1: Type: text/plain, Size: 1914 bytes --] Test-Label: iol-intel-Performance Test-Status: SUCCESS http://dpdk.org/patch/84249 _Performance Testing PASS_ Submitter: Ivan Malov <Ivan.Malov@oktetlabs.ru> Date: Monday, November 16 2020 19:23:03 DPDK git baseline: Repo:dpdk Branch: master CommitID:27cc0779220d6ae689329a0cbddb893acf1f1cd1 84249 --> performance testing pass Test environment and result as below: Ubuntu 18.04 Kernel: 4.15.0-generic Compiler: gcc 7.4 NIC: Intel Corporation Ethernet Converged Network Adapter XL710-QDA2 40000 Mbps Target: x86_64-native-linuxapp-gcc Fail/Total: 0/2 Detail performance results: +------------+---------+-------------------------------------+ | frame_size | txd/rxd | throughput difference from expected | +============+=========+=====================================+ | 64 | 512 | 2.759 | +------------+---------+-------------------------------------+ | 64 | 2048 | 2.203 | +------------+---------+-------------------------------------+ Ubuntu 18.04 Kernel: 4.15.0-generic Compiler: gcc 7.4 NIC: Intel Corporation Ethernet Converged Network Adapter 82599ES 10000 Mbps Target: x86_64-native-linuxapp-gcc Fail/Total: 0/2 Detail performance results: +------------+---------+-------------------------------------+ | frame_size | txd/rxd | throughput difference from expected | +============+=========+=====================================+ | 64 | 512 | 2.318 | +------------+---------+-------------------------------------+ | 64 | 2048 | 1.122 | +------------+---------+-------------------------------------+ To view detailed results, visit: https://lab.dpdk.org/results/dashboard/patchsets/14516/ UNH-IOL DPDK Community Lab To manage your email subscriptions, visit: https://lab.dpdk.org/results/dashboard/preferences/subscriptions/
[-- Attachment #1: Type: text/plain, Size: 3964 bytes --] Test-Label: iol-mellanox-Performance Test-Status: SUCCESS http://dpdk.org/patch/84249 _Performance Testing PASS_ Submitter: Ivan Malov <Ivan.Malov@oktetlabs.ru> Date: Monday, November 16 2020 19:23:03 DPDK git baseline: Repo:dpdk Branch: master CommitID:27cc0779220d6ae689329a0cbddb893acf1f1cd1 84249 --> performance testing pass Test environment and result as below: Ubuntu 18.04 Kernel: 4.15.0-generic Compiler: gcc 7.4 NIC: Mellanox ConnectX-5 100000 Mbps Target: x86_64-native-linuxapp-gcc Fail/Total: 0/6 Detail performance results: +------------+---------+-------------------------------------+ | frame_size | txd/rxd | throughput difference from expected | +============+=========+=====================================+ | 64 | 256 | -0.050 | +------------+---------+-------------------------------------+ | 128 | 256 | 0.100 | +------------+---------+-------------------------------------+ | 256 | 256 | -0.180 | +------------+---------+-------------------------------------+ | 512 | 256 | -0.353 | +------------+---------+-------------------------------------+ | 1024 | 256 | 0.077 | +------------+---------+-------------------------------------+ | 1518 | 256 | -0.002 | +------------+---------+-------------------------------------+ Ubuntu 18.04 Kernel: 4.15.0-generic Compiler: gcc 7.4 NIC: Mellanox ConnectX-4 Lx 25000 Mbps Target: x86_64-native-linuxapp-gcc Fail/Total: 0/6 Detail performance results: +------------+---------+-------------------------------------+ | frame_size | txd/rxd | throughput difference from expected | +============+=========+=====================================+ | 64 | 256 | -0.051 | +------------+---------+-------------------------------------+ | 128 | 256 | -0.123 | +------------+---------+-------------------------------------+ | 256 | 256 | -0.114 | +------------+---------+-------------------------------------+ | 512 | 256 | -0.060 | +------------+---------+-------------------------------------+ | 1024 | 256 | -0.009 | +------------+---------+-------------------------------------+ | 1518 | 256 | 0.011 | +------------+---------+-------------------------------------+ Ubuntu 18.04 Kernel: 4.15.0-generic Compiler: gcc 7.4 NIC: Mellanox ConnectX-4 Lx 40000 Mbps Target: x86_64-native-linuxapp-gcc Fail/Total: 0/6 Detail performance results: +------------+---------+-------------------------------------+ | frame_size | txd/rxd | throughput difference from expected | +============+=========+=====================================+ | 64 | 256 | -0.097 | +------------+---------+-------------------------------------+ | 128 | 256 | 0.180 | +------------+---------+-------------------------------------+ | 256 | 256 | 0.369 | +------------+---------+-------------------------------------+ | 512 | 256 | -0.013 | +------------+---------+-------------------------------------+ | 1024 | 256 | -0.001 | +------------+---------+-------------------------------------+ | 1518 | 256 | -0.005 | +------------+---------+-------------------------------------+ To view detailed results, visit: https://lab.dpdk.org/results/dashboard/patchsets/14516/ UNH-IOL DPDK Community Lab To manage your email subscriptions, visit: https://lab.dpdk.org/results/dashboard/preferences/subscriptions/