Test-Label: checkpatch Test-Status: SUCCESS http://dpdk.org/patch/84498 _coding style OK_
[-- Attachment #1: Type: text/plain, Size: 1275 bytes --] Test-Label: iol-broadcom-Performance Test-Status: SUCCESS http://dpdk.org/patch/84498 _Performance Testing PASS_ Submitter: Bruce Richardson <bruce.richardson@intel.com> Date: Tuesday, November 24 2020 09:46:56 DPDK git baseline: Repo:dpdk Branch: master CommitID:61bd270c4adc7dff1f9c8af1f2c72618860d4395 84498 --> performance testing pass Test environment and result as below: Ubuntu 18.04 Kernel: 4.15.0-65-generic Compiler: gcc gcc (Ubuntu 7.4.0-1ubuntu1~18.04.1) 7.4.0 NIC: Broadcom Inc. brcm_57414 25000 Mbps Target: x86_64-native-linuxapp-gcc Fail/Total: 0/2 Detail performance results: +------------+---------+-------------------------------------+ | frame_size | txd/rxd | throughput difference from expected | +============+=========+=====================================+ | 64 | 512 | 0.063 | +------------+---------+-------------------------------------+ | 64 | 2048 | 0.003 | +------------+---------+-------------------------------------+ To view detailed results, visit: https://lab.dpdk.org/results/dashboard/patchsets/14639/ UNH-IOL DPDK Community Lab To manage your email subscriptions, visit: https://lab.dpdk.org/results/dashboard/preferences/subscriptions/
[-- Attachment #1: Type: text/plain, Size: 802 bytes --] Test-Label: iol-broadcom-Functional Test-Status: SUCCESS http://dpdk.org/patch/84498 _Functional Testing PASS_ Submitter: Bruce Richardson <bruce.richardson@intel.com> Date: Tuesday, November 24 2020 09:46:56 DPDK git baseline: Repo:dpdk Branch: master CommitID:61bd270c4adc7dff1f9c8af1f2c72618860d4395 84498 --> functional testing pass Test environment and result as below: Ubuntu 18.04 Kernel: 4.15.0-65-generic Compiler: gcc gcc (Ubuntu 7.4.0-1ubuntu1~18.04.1) 7.4.0 NIC: Broadcom Inc. brcm_57414 25000 Mbps Target: x86_64-native-linuxapp-gcc Fail/Total: 0/2 To view detailed results, visit: https://lab.dpdk.org/results/dashboard/patchsets/14639/ UNH-IOL DPDK Community Lab To manage your email subscriptions, visit: https://lab.dpdk.org/results/dashboard/preferences/subscriptions/
[-- Attachment #1: Type: text/plain, Size: 2341 bytes --] Test-Label: iol-testing Test-Status: SUCCESS http://dpdk.org/patch/84498 _Testing PASS_ Submitter: Bruce Richardson <bruce.richardson@intel.com> Date: Tuesday, November 24 2020 09:46:56 DPDK git baseline: Repo:dpdk Branch: master CommitID:61bd270c4adc7dff1f9c8af1f2c72618860d4395 84498 --> testing pass Test environment and result as below: +---------------------+--------------------+-------------------+----------------+ | Environment | dpdk_meson_compile | dpdk_compile_spdk | dpdk_unit_test | +=====================+====================+===================+================+ | Windows Server 2019 | PASS | SKIPPED | SKIPPED | +---------------------+--------------------+-------------------+----------------+ | FreeBSD 11.2 | PASS | SKIPPED | SKIPPED | +---------------------+--------------------+-------------------+----------------+ | CentOS 8 | PASS | SKIPPED | SKIPPED | +---------------------+--------------------+-------------------+----------------+ | Fedora 31 | PASS | SKIPPED | SKIPPED | +---------------------+--------------------+-------------------+----------------+ | Ubuntu 18.04 | PASS | PASS | PASS | +---------------------+--------------------+-------------------+----------------+ | openSUSE Leap 15 | PASS | SKIPPED | SKIPPED | +---------------------+--------------------+-------------------+----------------+ | Arch Linux | PASS | SKIPPED | SKIPPED | +---------------------+--------------------+-------------------+----------------+ Windows Server 2019 Kernel: 10.0 Compiler: clang 9.0 FreeBSD 11.2 Kernel: 11.2 Compiler: gcc 8.3 CentOS 8 Kernel: 4.18.0.el8_0 Compiler: gcc 8.3.1 Fedora 31 Kernel: 5.3.16 Compiler: gcc 9.2.1 Ubuntu 18.04 Kernel: 4.15.0-generic Compiler: gcc 7.5 openSUSE Leap 15 Kernel: 4.12.14 Compiler: gcc 7.4.1 Arch Linux Kernel: latest Compiler: gcc latest To view detailed results, visit: https://lab.dpdk.org/results/dashboard/patchsets/14639/ UNH-IOL DPDK Community Lab To manage your email subscriptions, visit: https://lab.dpdk.org/results/dashboard/preferences/subscriptions/
[-- Attachment #1: Type: text/plain, Size: 981 bytes --] Test-Label: iol-intel-Functional Test-Status: SUCCESS http://dpdk.org/patch/84498 _Functional Testing PASS_ Submitter: Bruce Richardson <bruce.richardson@intel.com> Date: Tuesday, November 24 2020 09:46:56 DPDK git baseline: Repo:dpdk Branch: master CommitID:61bd270c4adc7dff1f9c8af1f2c72618860d4395 84498 --> functional testing pass Test environment and result as below: Ubuntu 18.04 Kernel: 4.15.0-generic Compiler: gcc 7.4 NIC: Intel Corporation Ethernet Converged Network Adapter XL710-QDA2 40000 Mbps Target: x86_64-native-linuxapp-gcc Fail/Total: 0/2 Ubuntu 18.04 Kernel: 4.15.0-generic Compiler: gcc 7.4 NIC: Intel Corporation Ethernet Converged Network Adapter 82599ES 10000 Mbps Target: x86_64-native-linuxapp-gcc Fail/Total: 0/4 To view detailed results, visit: https://lab.dpdk.org/results/dashboard/patchsets/14639/ UNH-IOL DPDK Community Lab To manage your email subscriptions, visit: https://lab.dpdk.org/results/dashboard/preferences/subscriptions/
[-- Attachment #1: Type: text/plain, Size: 1924 bytes --] Test-Label: iol-intel-Performance Test-Status: SUCCESS http://dpdk.org/patch/84498 _Performance Testing PASS_ Submitter: Bruce Richardson <bruce.richardson@intel.com> Date: Tuesday, November 24 2020 09:46:56 DPDK git baseline: Repo:dpdk Branch: master CommitID:61bd270c4adc7dff1f9c8af1f2c72618860d4395 84498 --> performance testing pass Test environment and result as below: Ubuntu 18.04 Kernel: 4.15.0-generic Compiler: gcc 7.4 NIC: Intel Corporation Ethernet Converged Network Adapter XL710-QDA2 40000 Mbps Target: x86_64-native-linuxapp-gcc Fail/Total: 0/2 Detail performance results: +------------+---------+-------------------------------------+ | frame_size | txd/rxd | throughput difference from expected | +============+=========+=====================================+ | 64 | 512 | 2.826 | +------------+---------+-------------------------------------+ | 64 | 2048 | 2.067 | +------------+---------+-------------------------------------+ Ubuntu 18.04 Kernel: 4.15.0-generic Compiler: gcc 7.4 NIC: Intel Corporation Ethernet Converged Network Adapter 82599ES 10000 Mbps Target: x86_64-native-linuxapp-gcc Fail/Total: 0/2 Detail performance results: +------------+---------+-------------------------------------+ | frame_size | txd/rxd | throughput difference from expected | +============+=========+=====================================+ | 64 | 512 | 1.906 | +------------+---------+-------------------------------------+ | 64 | 2048 | 1.027 | +------------+---------+-------------------------------------+ To view detailed results, visit: https://lab.dpdk.org/results/dashboard/patchsets/14639/ UNH-IOL DPDK Community Lab To manage your email subscriptions, visit: https://lab.dpdk.org/results/dashboard/preferences/subscriptions/
[-- Attachment #1: Type: text/plain, Size: 3974 bytes --] Test-Label: iol-mellanox-Performance Test-Status: SUCCESS http://dpdk.org/patch/84498 _Performance Testing PASS_ Submitter: Bruce Richardson <bruce.richardson@intel.com> Date: Tuesday, November 24 2020 09:46:56 DPDK git baseline: Repo:dpdk Branch: master CommitID:61bd270c4adc7dff1f9c8af1f2c72618860d4395 84498 --> performance testing pass Test environment and result as below: Ubuntu 18.04 Kernel: 4.15.0-generic Compiler: gcc 7.4 NIC: Mellanox ConnectX-5 100000 Mbps Target: x86_64-native-linuxapp-gcc Fail/Total: 0/6 Detail performance results: +------------+---------+-------------------------------------+ | frame_size | txd/rxd | throughput difference from expected | +============+=========+=====================================+ | 64 | 256 | 0.203 | +------------+---------+-------------------------------------+ | 128 | 256 | 0.052 | +------------+---------+-------------------------------------+ | 256 | 256 | 0.191 | +------------+---------+-------------------------------------+ | 512 | 256 | -0.117 | +------------+---------+-------------------------------------+ | 1024 | 256 | -0.142 | +------------+---------+-------------------------------------+ | 1518 | 256 | -0.013 | +------------+---------+-------------------------------------+ Ubuntu 18.04 Kernel: 4.15.0-generic Compiler: gcc 7.4 NIC: Mellanox ConnectX-4 Lx 25000 Mbps Target: x86_64-native-linuxapp-gcc Fail/Total: 0/6 Detail performance results: +------------+---------+-------------------------------------+ | frame_size | txd/rxd | throughput difference from expected | +============+=========+=====================================+ | 64 | 256 | -0.022 | +------------+---------+-------------------------------------+ | 128 | 256 | 0.011 | +------------+---------+-------------------------------------+ | 256 | 256 | -0.033 | +------------+---------+-------------------------------------+ | 512 | 256 | -0.083 | +------------+---------+-------------------------------------+ | 1024 | 256 | 0.009 | +------------+---------+-------------------------------------+ | 1518 | 256 | 0 | +------------+---------+-------------------------------------+ Ubuntu 18.04 Kernel: 4.15.0-generic Compiler: gcc 7.4 NIC: Mellanox ConnectX-4 Lx 40000 Mbps Target: x86_64-native-linuxapp-gcc Fail/Total: 0/6 Detail performance results: +------------+---------+-------------------------------------+ | frame_size | txd/rxd | throughput difference from expected | +============+=========+=====================================+ | 64 | 256 | -0.279 | +------------+---------+-------------------------------------+ | 128 | 256 | -0.058 | +------------+---------+-------------------------------------+ | 256 | 256 | -0.130 | +------------+---------+-------------------------------------+ | 512 | 256 | -0.059 | +------------+---------+-------------------------------------+ | 1024 | 256 | 0.023 | +------------+---------+-------------------------------------+ | 1518 | 256 | 0.011 | +------------+---------+-------------------------------------+ To view detailed results, visit: https://lab.dpdk.org/results/dashboard/patchsets/14639/ UNH-IOL DPDK Community Lab To manage your email subscriptions, visit: https://lab.dpdk.org/results/dashboard/preferences/subscriptions/