Test-Label: checkpatch Test-Status: SUCCESS http://dpdk.org/patch/84514 _coding style OK_
[-- Attachment #1: Type: text/plain, Size: 800 bytes --] Test-Label: iol-broadcom-Functional Test-Status: SUCCESS http://dpdk.org/patch/84514 _Functional Testing PASS_ Submitter: Anatoly Burakov <anatoly.burakov@intel.com> Date: Tuesday, November 24 2020 13:26:11 DPDK git baseline: Repo:dpdk Branch: master CommitID:61bd270c4adc7dff1f9c8af1f2c72618860d4395 84514 --> functional testing pass Test environment and result as below: Ubuntu 18.04 Kernel: 4.15.0-65-generic Compiler: gcc gcc (Ubuntu 7.4.0-1ubuntu1~18.04.1) 7.4.0 NIC: Broadcom Inc. brcm_57414 25000 Mbps Target: x86_64-native-linuxapp-gcc Fail/Total: 0/2 To view detailed results, visit: https://lab.dpdk.org/results/dashboard/patchsets/14648/ UNH-IOL DPDK Community Lab To manage your email subscriptions, visit: https://lab.dpdk.org/results/dashboard/preferences/subscriptions/
[-- Attachment #1: Type: text/plain, Size: 1273 bytes --] Test-Label: iol-broadcom-Performance Test-Status: SUCCESS http://dpdk.org/patch/84514 _Performance Testing PASS_ Submitter: Anatoly Burakov <anatoly.burakov@intel.com> Date: Tuesday, November 24 2020 13:26:11 DPDK git baseline: Repo:dpdk Branch: master CommitID:61bd270c4adc7dff1f9c8af1f2c72618860d4395 84514 --> performance testing pass Test environment and result as below: Ubuntu 18.04 Kernel: 4.15.0-65-generic Compiler: gcc gcc (Ubuntu 7.4.0-1ubuntu1~18.04.1) 7.4.0 NIC: Broadcom Inc. brcm_57414 25000 Mbps Target: x86_64-native-linuxapp-gcc Fail/Total: 0/2 Detail performance results: +------------+---------+-------------------------------------+ | frame_size | txd/rxd | throughput difference from expected | +============+=========+=====================================+ | 64 | 512 | 0.070 | +------------+---------+-------------------------------------+ | 64 | 2048 | -0.005 | +------------+---------+-------------------------------------+ To view detailed results, visit: https://lab.dpdk.org/results/dashboard/patchsets/14648/ UNH-IOL DPDK Community Lab To manage your email subscriptions, visit: https://lab.dpdk.org/results/dashboard/preferences/subscriptions/
[-- Attachment #1: Type: text/plain, Size: 2339 bytes --] Test-Label: iol-testing Test-Status: SUCCESS http://dpdk.org/patch/84514 _Testing PASS_ Submitter: Anatoly Burakov <anatoly.burakov@intel.com> Date: Tuesday, November 24 2020 13:26:11 DPDK git baseline: Repo:dpdk Branch: master CommitID:61bd270c4adc7dff1f9c8af1f2c72618860d4395 84514 --> testing pass Test environment and result as below: +---------------------+--------------------+-------------------+----------------+ | Environment | dpdk_meson_compile | dpdk_compile_spdk | dpdk_unit_test | +=====================+====================+===================+================+ | Windows Server 2019 | PASS | SKIPPED | SKIPPED | +---------------------+--------------------+-------------------+----------------+ | FreeBSD 11.2 | PASS | SKIPPED | SKIPPED | +---------------------+--------------------+-------------------+----------------+ | CentOS 8 | PASS | SKIPPED | SKIPPED | +---------------------+--------------------+-------------------+----------------+ | Fedora 31 | PASS | SKIPPED | SKIPPED | +---------------------+--------------------+-------------------+----------------+ | Ubuntu 18.04 | PASS | PASS | PASS | +---------------------+--------------------+-------------------+----------------+ | openSUSE Leap 15 | PASS | SKIPPED | SKIPPED | +---------------------+--------------------+-------------------+----------------+ | Arch Linux | PASS | SKIPPED | SKIPPED | +---------------------+--------------------+-------------------+----------------+ Windows Server 2019 Kernel: 10.0 Compiler: clang 9.0 FreeBSD 11.2 Kernel: 11.2 Compiler: gcc 8.3 CentOS 8 Kernel: 4.18.0.el8_0 Compiler: gcc 8.3.1 Fedora 31 Kernel: 5.3.16 Compiler: gcc 9.2.1 Ubuntu 18.04 Kernel: 4.15.0-generic Compiler: gcc 7.5 openSUSE Leap 15 Kernel: 4.12.14 Compiler: gcc 7.4.1 Arch Linux Kernel: latest Compiler: gcc latest To view detailed results, visit: https://lab.dpdk.org/results/dashboard/patchsets/14648/ UNH-IOL DPDK Community Lab To manage your email subscriptions, visit: https://lab.dpdk.org/results/dashboard/preferences/subscriptions/
[-- Attachment #1: Type: text/plain, Size: 979 bytes --] Test-Label: iol-intel-Functional Test-Status: SUCCESS http://dpdk.org/patch/84514 _Functional Testing PASS_ Submitter: Anatoly Burakov <anatoly.burakov@intel.com> Date: Tuesday, November 24 2020 13:26:11 DPDK git baseline: Repo:dpdk Branch: master CommitID:61bd270c4adc7dff1f9c8af1f2c72618860d4395 84514 --> functional testing pass Test environment and result as below: Ubuntu 18.04 Kernel: 4.15.0-generic Compiler: gcc 7.4 NIC: Intel Corporation Ethernet Converged Network Adapter XL710-QDA2 40000 Mbps Target: x86_64-native-linuxapp-gcc Fail/Total: 0/2 Ubuntu 18.04 Kernel: 4.15.0-generic Compiler: gcc 7.4 NIC: Intel Corporation Ethernet Converged Network Adapter 82599ES 10000 Mbps Target: x86_64-native-linuxapp-gcc Fail/Total: 0/4 To view detailed results, visit: https://lab.dpdk.org/results/dashboard/patchsets/14648/ UNH-IOL DPDK Community Lab To manage your email subscriptions, visit: https://lab.dpdk.org/results/dashboard/preferences/subscriptions/
[-- Attachment #1: Type: text/plain, Size: 1922 bytes --] Test-Label: iol-intel-Performance Test-Status: SUCCESS http://dpdk.org/patch/84514 _Performance Testing PASS_ Submitter: Anatoly Burakov <anatoly.burakov@intel.com> Date: Tuesday, November 24 2020 13:26:11 DPDK git baseline: Repo:dpdk Branch: master CommitID:61bd270c4adc7dff1f9c8af1f2c72618860d4395 84514 --> performance testing pass Test environment and result as below: Ubuntu 18.04 Kernel: 4.15.0-generic Compiler: gcc 7.4 NIC: Intel Corporation Ethernet Converged Network Adapter XL710-QDA2 40000 Mbps Target: x86_64-native-linuxapp-gcc Fail/Total: 0/2 Detail performance results: +------------+---------+-------------------------------------+ | frame_size | txd/rxd | throughput difference from expected | +============+=========+=====================================+ | 64 | 512 | 2.980 | +------------+---------+-------------------------------------+ | 64 | 2048 | 2.031 | +------------+---------+-------------------------------------+ Ubuntu 18.04 Kernel: 4.15.0-generic Compiler: gcc 7.4 NIC: Intel Corporation Ethernet Converged Network Adapter 82599ES 10000 Mbps Target: x86_64-native-linuxapp-gcc Fail/Total: 0/2 Detail performance results: +------------+---------+-------------------------------------+ | frame_size | txd/rxd | throughput difference from expected | +============+=========+=====================================+ | 64 | 512 | 2.145 | +------------+---------+-------------------------------------+ | 64 | 2048 | 1.245 | +------------+---------+-------------------------------------+ To view detailed results, visit: https://lab.dpdk.org/results/dashboard/patchsets/14648/ UNH-IOL DPDK Community Lab To manage your email subscriptions, visit: https://lab.dpdk.org/results/dashboard/preferences/subscriptions/
[-- Attachment #1: Type: text/plain, Size: 3972 bytes --] Test-Label: iol-mellanox-Performance Test-Status: SUCCESS http://dpdk.org/patch/84514 _Performance Testing PASS_ Submitter: Anatoly Burakov <anatoly.burakov@intel.com> Date: Tuesday, November 24 2020 13:26:11 DPDK git baseline: Repo:dpdk Branch: master CommitID:61bd270c4adc7dff1f9c8af1f2c72618860d4395 84514 --> performance testing pass Test environment and result as below: Ubuntu 18.04 Kernel: 4.15.0-generic Compiler: gcc 7.4 NIC: Mellanox ConnectX-5 100000 Mbps Target: x86_64-native-linuxapp-gcc Fail/Total: 0/6 Detail performance results: +------------+---------+-------------------------------------+ | frame_size | txd/rxd | throughput difference from expected | +============+=========+=====================================+ | 64 | 256 | 0.183 | +------------+---------+-------------------------------------+ | 128 | 256 | 0.010 | +------------+---------+-------------------------------------+ | 256 | 256 | 0.088 | +------------+---------+-------------------------------------+ | 512 | 256 | -0.091 | +------------+---------+-------------------------------------+ | 1024 | 256 | -0.148 | +------------+---------+-------------------------------------+ | 1518 | 256 | 0.012 | +------------+---------+-------------------------------------+ Ubuntu 18.04 Kernel: 4.15.0-generic Compiler: gcc 7.4 NIC: Mellanox ConnectX-4 Lx 25000 Mbps Target: x86_64-native-linuxapp-gcc Fail/Total: 0/6 Detail performance results: +------------+---------+-------------------------------------+ | frame_size | txd/rxd | throughput difference from expected | +============+=========+=====================================+ | 64 | 256 | 0.048 | +------------+---------+-------------------------------------+ | 128 | 256 | -0.134 | +------------+---------+-------------------------------------+ | 256 | 256 | 0.057 | +------------+---------+-------------------------------------+ | 512 | 256 | 0.003 | +------------+---------+-------------------------------------+ | 1024 | 256 | 0.008 | +------------+---------+-------------------------------------+ | 1518 | 256 | -0.001 | +------------+---------+-------------------------------------+ Ubuntu 18.04 Kernel: 4.15.0-generic Compiler: gcc 7.4 NIC: Mellanox ConnectX-4 Lx 40000 Mbps Target: x86_64-native-linuxapp-gcc Fail/Total: 0/6 Detail performance results: +------------+---------+-------------------------------------+ | frame_size | txd/rxd | throughput difference from expected | +============+=========+=====================================+ | 64 | 256 | -0.024 | +------------+---------+-------------------------------------+ | 128 | 256 | -0.181 | +------------+---------+-------------------------------------+ | 256 | 256 | -0.011 | +------------+---------+-------------------------------------+ | 512 | 256 | -0.019 | +------------+---------+-------------------------------------+ | 1024 | 256 | 0.026 | +------------+---------+-------------------------------------+ | 1518 | 256 | 0.015 | +------------+---------+-------------------------------------+ To view detailed results, visit: https://lab.dpdk.org/results/dashboard/patchsets/14648/ UNH-IOL DPDK Community Lab To manage your email subscriptions, visit: https://lab.dpdk.org/results/dashboard/preferences/subscriptions/
From: robot@bytheb.org Test-Label: travis-robot Test-Status: SUCCESS http://dpdk.org/patch/84514 _Travis build: passed_ Build URL: https://travis-ci.com/ovsrobot/dpdk/builds/208110482