[-- Attachment #1: Type: text/plain, Size: 1274 bytes --] Test-Label: iol-broadcom-Performance Test-Status: SUCCESS http://dpdk.org/patch/84512 _Performance Testing PASS_ Submitter: Maxime Coquelin <maxime.coquelin@redhat.com> Date: Tuesday, November 24 2020 12:45:57 DPDK git baseline: Repo:dpdk Branch: master CommitID:61bd270c4adc7dff1f9c8af1f2c72618860d4395 84512 --> performance testing pass Test environment and result as below: Ubuntu 18.04 Kernel: 4.15.0-65-generic Compiler: gcc gcc (Ubuntu 7.4.0-1ubuntu1~18.04.1) 7.4.0 NIC: Broadcom Inc. brcm_57414 25000 Mbps Target: x86_64-native-linuxapp-gcc Fail/Total: 0/2 Detail performance results: +------------+---------+-------------------------------------+ | frame_size | txd/rxd | throughput difference from expected | +============+=========+=====================================+ | 64 | 512 | 0.072 | +------------+---------+-------------------------------------+ | 64 | 2048 | -0.021 | +------------+---------+-------------------------------------+ To view detailed results, visit: https://lab.dpdk.org/results/dashboard/patchsets/14646/ UNH-IOL DPDK Community Lab To manage your email subscriptions, visit: https://lab.dpdk.org/results/dashboard/preferences/subscriptions/
[-- Attachment #1: Type: text/plain, Size: 801 bytes --] Test-Label: iol-broadcom-Functional Test-Status: SUCCESS http://dpdk.org/patch/84512 _Functional Testing PASS_ Submitter: Maxime Coquelin <maxime.coquelin@redhat.com> Date: Tuesday, November 24 2020 12:45:57 DPDK git baseline: Repo:dpdk Branch: master CommitID:61bd270c4adc7dff1f9c8af1f2c72618860d4395 84512 --> functional testing pass Test environment and result as below: Ubuntu 18.04 Kernel: 4.15.0-65-generic Compiler: gcc gcc (Ubuntu 7.4.0-1ubuntu1~18.04.1) 7.4.0 NIC: Broadcom Inc. brcm_57414 25000 Mbps Target: x86_64-native-linuxapp-gcc Fail/Total: 0/2 To view detailed results, visit: https://lab.dpdk.org/results/dashboard/patchsets/14646/ UNH-IOL DPDK Community Lab To manage your email subscriptions, visit: https://lab.dpdk.org/results/dashboard/preferences/subscriptions/
[-- Attachment #1: Type: text/plain, Size: 2340 bytes --] Test-Label: iol-testing Test-Status: SUCCESS http://dpdk.org/patch/84512 _Testing PASS_ Submitter: Maxime Coquelin <maxime.coquelin@redhat.com> Date: Tuesday, November 24 2020 12:45:57 DPDK git baseline: Repo:dpdk Branch: master CommitID:61bd270c4adc7dff1f9c8af1f2c72618860d4395 84512 --> testing pass Test environment and result as below: +---------------------+--------------------+-------------------+----------------+ | Environment | dpdk_meson_compile | dpdk_compile_spdk | dpdk_unit_test | +=====================+====================+===================+================+ | Windows Server 2019 | PASS | SKIPPED | SKIPPED | +---------------------+--------------------+-------------------+----------------+ | FreeBSD 11.2 | PASS | SKIPPED | SKIPPED | +---------------------+--------------------+-------------------+----------------+ | CentOS 8 | PASS | SKIPPED | SKIPPED | +---------------------+--------------------+-------------------+----------------+ | Fedora 31 | PASS | SKIPPED | SKIPPED | +---------------------+--------------------+-------------------+----------------+ | openSUSE Leap 15 | PASS | SKIPPED | SKIPPED | +---------------------+--------------------+-------------------+----------------+ | Ubuntu 18.04 | PASS | PASS | PASS | +---------------------+--------------------+-------------------+----------------+ | Arch Linux | PASS | SKIPPED | SKIPPED | +---------------------+--------------------+-------------------+----------------+ Windows Server 2019 Kernel: 10.0 Compiler: clang 9.0 FreeBSD 11.2 Kernel: 11.2 Compiler: gcc 8.3 CentOS 8 Kernel: 4.18.0.el8_0 Compiler: gcc 8.3.1 Fedora 31 Kernel: 5.3.16 Compiler: gcc 9.2.1 openSUSE Leap 15 Kernel: 4.12.14 Compiler: gcc 7.4.1 Ubuntu 18.04 Kernel: 4.15.0-generic Compiler: gcc 7.5 Arch Linux Kernel: latest Compiler: gcc latest To view detailed results, visit: https://lab.dpdk.org/results/dashboard/patchsets/14646/ UNH-IOL DPDK Community Lab To manage your email subscriptions, visit: https://lab.dpdk.org/results/dashboard/preferences/subscriptions/
[-- Attachment #1: Type: text/plain, Size: 980 bytes --] Test-Label: iol-intel-Functional Test-Status: SUCCESS http://dpdk.org/patch/84512 _Functional Testing PASS_ Submitter: Maxime Coquelin <maxime.coquelin@redhat.com> Date: Tuesday, November 24 2020 12:45:57 DPDK git baseline: Repo:dpdk Branch: master CommitID:61bd270c4adc7dff1f9c8af1f2c72618860d4395 84512 --> functional testing pass Test environment and result as below: Ubuntu 18.04 Kernel: 4.15.0-generic Compiler: gcc 7.4 NIC: Intel Corporation Ethernet Converged Network Adapter XL710-QDA2 40000 Mbps Target: x86_64-native-linuxapp-gcc Fail/Total: 0/2 Ubuntu 18.04 Kernel: 4.15.0-generic Compiler: gcc 7.4 NIC: Intel Corporation Ethernet Converged Network Adapter 82599ES 10000 Mbps Target: x86_64-native-linuxapp-gcc Fail/Total: 0/4 To view detailed results, visit: https://lab.dpdk.org/results/dashboard/patchsets/14646/ UNH-IOL DPDK Community Lab To manage your email subscriptions, visit: https://lab.dpdk.org/results/dashboard/preferences/subscriptions/
[-- Attachment #1: Type: text/plain, Size: 1923 bytes --] Test-Label: iol-intel-Performance Test-Status: SUCCESS http://dpdk.org/patch/84512 _Performance Testing PASS_ Submitter: Maxime Coquelin <maxime.coquelin@redhat.com> Date: Tuesday, November 24 2020 12:45:57 DPDK git baseline: Repo:dpdk Branch: master CommitID:61bd270c4adc7dff1f9c8af1f2c72618860d4395 84512 --> performance testing pass Test environment and result as below: Ubuntu 18.04 Kernel: 4.15.0-generic Compiler: gcc 7.4 NIC: Intel Corporation Ethernet Converged Network Adapter XL710-QDA2 40000 Mbps Target: x86_64-native-linuxapp-gcc Fail/Total: 0/2 Detail performance results: +------------+---------+-------------------------------------+ | frame_size | txd/rxd | throughput difference from expected | +============+=========+=====================================+ | 64 | 512 | 3.089 | +------------+---------+-------------------------------------+ | 64 | 2048 | 2.069 | +------------+---------+-------------------------------------+ Ubuntu 18.04 Kernel: 4.15.0-generic Compiler: gcc 7.4 NIC: Intel Corporation Ethernet Converged Network Adapter 82599ES 10000 Mbps Target: x86_64-native-linuxapp-gcc Fail/Total: 0/2 Detail performance results: +------------+---------+-------------------------------------+ | frame_size | txd/rxd | throughput difference from expected | +============+=========+=====================================+ | 64 | 512 | 2.076 | +------------+---------+-------------------------------------+ | 64 | 2048 | 0.961 | +------------+---------+-------------------------------------+ To view detailed results, visit: https://lab.dpdk.org/results/dashboard/patchsets/14646/ UNH-IOL DPDK Community Lab To manage your email subscriptions, visit: https://lab.dpdk.org/results/dashboard/preferences/subscriptions/
[-- Attachment #1: Type: text/plain, Size: 3973 bytes --] Test-Label: iol-mellanox-Performance Test-Status: SUCCESS http://dpdk.org/patch/84512 _Performance Testing PASS_ Submitter: Maxime Coquelin <maxime.coquelin@redhat.com> Date: Tuesday, November 24 2020 12:45:57 DPDK git baseline: Repo:dpdk Branch: master CommitID:61bd270c4adc7dff1f9c8af1f2c72618860d4395 84512 --> performance testing pass Test environment and result as below: Ubuntu 18.04 Kernel: 4.15.0-generic Compiler: gcc 7.4 NIC: Mellanox ConnectX-5 100000 Mbps Target: x86_64-native-linuxapp-gcc Fail/Total: 0/6 Detail performance results: +------------+---------+-------------------------------------+ | frame_size | txd/rxd | throughput difference from expected | +============+=========+=====================================+ | 64 | 256 | 0.224 | +------------+---------+-------------------------------------+ | 128 | 256 | 0.044 | +------------+---------+-------------------------------------+ | 256 | 256 | 0.113 | +------------+---------+-------------------------------------+ | 512 | 256 | -0.180 | +------------+---------+-------------------------------------+ | 1024 | 256 | -0.176 | +------------+---------+-------------------------------------+ | 1518 | 256 | -0.013 | +------------+---------+-------------------------------------+ Ubuntu 18.04 Kernel: 4.15.0-generic Compiler: gcc 7.4 NIC: Mellanox ConnectX-4 Lx 25000 Mbps Target: x86_64-native-linuxapp-gcc Fail/Total: 0/6 Detail performance results: +------------+---------+-------------------------------------+ | frame_size | txd/rxd | throughput difference from expected | +============+=========+=====================================+ | 64 | 256 | -0.033 | +------------+---------+-------------------------------------+ | 128 | 256 | -0.054 | +------------+---------+-------------------------------------+ | 256 | 256 | 0.151 | +------------+---------+-------------------------------------+ | 512 | 256 | 0.023 | +------------+---------+-------------------------------------+ | 1024 | 256 | 0 | +------------+---------+-------------------------------------+ | 1518 | 256 | -0.004 | +------------+---------+-------------------------------------+ Ubuntu 18.04 Kernel: 4.15.0-generic Compiler: gcc 7.4 NIC: Mellanox ConnectX-4 Lx 40000 Mbps Target: x86_64-native-linuxapp-gcc Fail/Total: 0/6 Detail performance results: +------------+---------+-------------------------------------+ | frame_size | txd/rxd | throughput difference from expected | +============+=========+=====================================+ | 64 | 256 | -0.136 | +------------+---------+-------------------------------------+ | 128 | 256 | -0.003 | +------------+---------+-------------------------------------+ | 256 | 256 | -0.184 | +------------+---------+-------------------------------------+ | 512 | 256 | 0.022 | +------------+---------+-------------------------------------+ | 1024 | 256 | 0.043 | +------------+---------+-------------------------------------+ | 1518 | 256 | 0.008 | +------------+---------+-------------------------------------+ To view detailed results, visit: https://lab.dpdk.org/results/dashboard/patchsets/14646/ UNH-IOL DPDK Community Lab To manage your email subscriptions, visit: https://lab.dpdk.org/results/dashboard/preferences/subscriptions/