* [dpdk-test-report] |SUCCESS| pw84626 [PATCH] net/virtio-user: fix error run close(0)
@ 2020-11-28 15:31 dpdklab
0 siblings, 0 replies; 7+ messages in thread
From: dpdklab @ 2020-11-28 15:31 UTC (permalink / raw)
To: Ajit Khaparde, Test Report; +Cc: dpdk-test-reports
[-- Attachment #1: Type: text/plain, Size: 790 bytes --]
Test-Label: iol-broadcom-Functional
Test-Status: SUCCESS
http://dpdk.org/patch/84626
_Functional Testing PASS_
Submitter: Jiawei Zhu <17826875952@163.com>
Date: Saturday, November 28 2020 14:50:20
DPDK git baseline: Repo:dpdk
Branch: master
CommitID:b1d36cf828771e28eb0130b59dcf606c2a0bc94d
84626 --> functional testing pass
Test environment and result as below:
Ubuntu 18.04
Kernel: 4.15.0-65-generic
Compiler: gcc gcc (Ubuntu 7.4.0-1ubuntu1~18.04.1) 7.4.0
NIC: Broadcom Inc. brcm_57414 25000 Mbps
Target: x86_64-native-linuxapp-gcc
Fail/Total: 0/2
To view detailed results, visit:
https://lab.dpdk.org/results/dashboard/patchsets/14691/
UNH-IOL DPDK Community Lab
To manage your email subscriptions, visit:
https://lab.dpdk.org/results/dashboard/preferences/subscriptions/
^ permalink raw reply [flat|nested] 7+ messages in thread
* [dpdk-test-report] |SUCCESS| pw84626 [PATCH] net/virtio-user: fix error run close(0)
@ 2020-11-28 16:04 dpdklab
0 siblings, 0 replies; 7+ messages in thread
From: dpdklab @ 2020-11-28 16:04 UTC (permalink / raw)
To: Ali Alnubani, Test Report; +Cc: dpdk-test-reports
[-- Attachment #1: Type: text/plain, Size: 3962 bytes --]
Test-Label: iol-mellanox-Performance
Test-Status: SUCCESS
http://dpdk.org/patch/84626
_Performance Testing PASS_
Submitter: Jiawei Zhu <17826875952@163.com>
Date: Saturday, November 28 2020 14:50:20
DPDK git baseline: Repo:dpdk
Branch: master
CommitID:b1d36cf828771e28eb0130b59dcf606c2a0bc94d
84626 --> performance testing pass
Test environment and result as below:
Ubuntu 18.04
Kernel: 4.15.0-generic
Compiler: gcc 7.4
NIC: Mellanox ConnectX-5 100000 Mbps
Target: x86_64-native-linuxapp-gcc
Fail/Total: 0/6
Detail performance results:
+------------+---------+-------------------------------------+
| frame_size | txd/rxd | throughput difference from expected |
+============+=========+=====================================+
| 64 | 256 | -0.001 |
+------------+---------+-------------------------------------+
| 128 | 256 | 0.022 |
+------------+---------+-------------------------------------+
| 256 | 256 | 0.139 |
+------------+---------+-------------------------------------+
| 512 | 256 | 0.374 |
+------------+---------+-------------------------------------+
| 1024 | 256 | 0.006 |
+------------+---------+-------------------------------------+
| 1518 | 256 | -0.024 |
+------------+---------+-------------------------------------+
Ubuntu 18.04
Kernel: 4.15.0-generic
Compiler: gcc 7.4
NIC: Mellanox ConnectX-4 Lx 25000 Mbps
Target: x86_64-native-linuxapp-gcc
Fail/Total: 0/6
Detail performance results:
+------------+---------+-------------------------------------+
| frame_size | txd/rxd | throughput difference from expected |
+============+=========+=====================================+
| 64 | 256 | 0.052 |
+------------+---------+-------------------------------------+
| 128 | 256 | 0.107 |
+------------+---------+-------------------------------------+
| 256 | 256 | -0.037 |
+------------+---------+-------------------------------------+
| 512 | 256 | 0.096 |
+------------+---------+-------------------------------------+
| 1024 | 256 | -0.015 |
+------------+---------+-------------------------------------+
| 1518 | 256 | 0.005 |
+------------+---------+-------------------------------------+
Ubuntu 18.04
Kernel: 4.15.0-generic
Compiler: gcc 7.4
NIC: Mellanox ConnectX-4 Lx 40000 Mbps
Target: x86_64-native-linuxapp-gcc
Fail/Total: 0/6
Detail performance results:
+------------+---------+-------------------------------------+
| frame_size | txd/rxd | throughput difference from expected |
+============+=========+=====================================+
| 64 | 256 | -0.097 |
+------------+---------+-------------------------------------+
| 128 | 256 | 0.127 |
+------------+---------+-------------------------------------+
| 256 | 256 | -0.453 |
+------------+---------+-------------------------------------+
| 512 | 256 | -0.002 |
+------------+---------+-------------------------------------+
| 1024 | 256 | -0.042 |
+------------+---------+-------------------------------------+
| 1518 | 256 | 0.008 |
+------------+---------+-------------------------------------+
To view detailed results, visit:
https://lab.dpdk.org/results/dashboard/patchsets/14691/
UNH-IOL DPDK Community Lab
To manage your email subscriptions, visit:
https://lab.dpdk.org/results/dashboard/preferences/subscriptions/
^ permalink raw reply [flat|nested] 7+ messages in thread
* [dpdk-test-report] |SUCCESS| pw84626 [PATCH] net/virtio-user: fix error run close(0)
@ 2020-11-28 15:48 dpdklab
0 siblings, 0 replies; 7+ messages in thread
From: dpdklab @ 2020-11-28 15:48 UTC (permalink / raw)
To: Test Report; +Cc: dpdk-test-reports
[-- Attachment #1: Type: text/plain, Size: 1912 bytes --]
Test-Label: iol-intel-Performance
Test-Status: SUCCESS
http://dpdk.org/patch/84626
_Performance Testing PASS_
Submitter: Jiawei Zhu <17826875952@163.com>
Date: Saturday, November 28 2020 14:50:20
DPDK git baseline: Repo:dpdk
Branch: master
CommitID:b1d36cf828771e28eb0130b59dcf606c2a0bc94d
84626 --> performance testing pass
Test environment and result as below:
Ubuntu 18.04
Kernel: 4.15.0-generic
Compiler: gcc 7.4
NIC: Intel Corporation Ethernet Converged Network Adapter XL710-QDA2 40000 Mbps
Target: x86_64-native-linuxapp-gcc
Fail/Total: 0/2
Detail performance results:
+------------+---------+-------------------------------------+
| frame_size | txd/rxd | throughput difference from expected |
+============+=========+=====================================+
| 64 | 512 | 2.727 |
+------------+---------+-------------------------------------+
| 64 | 2048 | 2.179 |
+------------+---------+-------------------------------------+
Ubuntu 18.04
Kernel: 4.15.0-generic
Compiler: gcc 7.4
NIC: Intel Corporation Ethernet Converged Network Adapter 82599ES 10000 Mbps
Target: x86_64-native-linuxapp-gcc
Fail/Total: 0/2
Detail performance results:
+------------+---------+-------------------------------------+
| frame_size | txd/rxd | throughput difference from expected |
+============+=========+=====================================+
| 64 | 512 | 2.064 |
+------------+---------+-------------------------------------+
| 64 | 2048 | 1.304 |
+------------+---------+-------------------------------------+
To view detailed results, visit:
https://lab.dpdk.org/results/dashboard/patchsets/14691/
UNH-IOL DPDK Community Lab
To manage your email subscriptions, visit:
https://lab.dpdk.org/results/dashboard/preferences/subscriptions/
^ permalink raw reply [flat|nested] 7+ messages in thread
* [dpdk-test-report] |SUCCESS| pw84626 [PATCH] net/virtio-user: fix error run close(0)
@ 2020-11-28 15:38 dpdklab
0 siblings, 0 replies; 7+ messages in thread
From: dpdklab @ 2020-11-28 15:38 UTC (permalink / raw)
To: Test Report; +Cc: dpdk-test-reports
[-- Attachment #1: Type: text/plain, Size: 969 bytes --]
Test-Label: iol-intel-Functional
Test-Status: SUCCESS
http://dpdk.org/patch/84626
_Functional Testing PASS_
Submitter: Jiawei Zhu <17826875952@163.com>
Date: Saturday, November 28 2020 14:50:20
DPDK git baseline: Repo:dpdk
Branch: master
CommitID:b1d36cf828771e28eb0130b59dcf606c2a0bc94d
84626 --> functional testing pass
Test environment and result as below:
Ubuntu 18.04
Kernel: 4.15.0-generic
Compiler: gcc 7.4
NIC: Intel Corporation Ethernet Converged Network Adapter XL710-QDA2 40000 Mbps
Target: x86_64-native-linuxapp-gcc
Fail/Total: 0/2
Ubuntu 18.04
Kernel: 4.15.0-generic
Compiler: gcc 7.4
NIC: Intel Corporation Ethernet Converged Network Adapter 82599ES 10000 Mbps
Target: x86_64-native-linuxapp-gcc
Fail/Total: 0/4
To view detailed results, visit:
https://lab.dpdk.org/results/dashboard/patchsets/14691/
UNH-IOL DPDK Community Lab
To manage your email subscriptions, visit:
https://lab.dpdk.org/results/dashboard/preferences/subscriptions/
^ permalink raw reply [flat|nested] 7+ messages in thread
* [dpdk-test-report] |SUCCESS| pw84626 [PATCH] net/virtio-user: fix error run close(0)
@ 2020-11-28 15:34 dpdklab
0 siblings, 0 replies; 7+ messages in thread
From: dpdklab @ 2020-11-28 15:34 UTC (permalink / raw)
To: Test Report; +Cc: dpdk-test-reports
[-- Attachment #1: Type: text/plain, Size: 2329 bytes --]
Test-Label: iol-testing
Test-Status: SUCCESS
http://dpdk.org/patch/84626
_Testing PASS_
Submitter: Jiawei Zhu <17826875952@163.com>
Date: Saturday, November 28 2020 14:50:20
DPDK git baseline: Repo:dpdk
Branch: master
CommitID:b1d36cf828771e28eb0130b59dcf606c2a0bc94d
84626 --> testing pass
Test environment and result as below:
+---------------------+--------------------+-------------------+----------------+
| Environment | dpdk_meson_compile | dpdk_compile_spdk | dpdk_unit_test |
+=====================+====================+===================+================+
| Windows Server 2019 | PASS | SKIPPED | SKIPPED |
+---------------------+--------------------+-------------------+----------------+
| FreeBSD 11.2 | PASS | SKIPPED | SKIPPED |
+---------------------+--------------------+-------------------+----------------+
| Fedora 31 | PASS | SKIPPED | SKIPPED |
+---------------------+--------------------+-------------------+----------------+
| CentOS 8 | PASS | SKIPPED | SKIPPED |
+---------------------+--------------------+-------------------+----------------+
| openSUSE Leap 15 | PASS | SKIPPED | SKIPPED |
+---------------------+--------------------+-------------------+----------------+
| Ubuntu 18.04 | PASS | PASS | PASS |
+---------------------+--------------------+-------------------+----------------+
| Arch Linux | PASS | SKIPPED | SKIPPED |
+---------------------+--------------------+-------------------+----------------+
Windows Server 2019
Kernel: 10.0
Compiler: clang 9.0
FreeBSD 11.2
Kernel: 11.2
Compiler: gcc 8.3
Fedora 31
Kernel: 5.3.16
Compiler: gcc 9.2.1
CentOS 8
Kernel: 4.18.0.el8_0
Compiler: gcc 8.3.1
openSUSE Leap 15
Kernel: 4.12.14
Compiler: gcc 7.4.1
Ubuntu 18.04
Kernel: 4.15.0-generic
Compiler: gcc 7.5
Arch Linux
Kernel: latest
Compiler: gcc latest
To view detailed results, visit:
https://lab.dpdk.org/results/dashboard/patchsets/14691/
UNH-IOL DPDK Community Lab
To manage your email subscriptions, visit:
https://lab.dpdk.org/results/dashboard/preferences/subscriptions/
^ permalink raw reply [flat|nested] 7+ messages in thread
* [dpdk-test-report] |SUCCESS| pw84626 [PATCH] net/virtio-user: fix error run close(0)
@ 2020-11-28 15:24 dpdklab
0 siblings, 0 replies; 7+ messages in thread
From: dpdklab @ 2020-11-28 15:24 UTC (permalink / raw)
To: Ajit Khaparde, Test Report; +Cc: dpdk-test-reports
[-- Attachment #1: Type: text/plain, Size: 1263 bytes --]
Test-Label: iol-broadcom-Performance
Test-Status: SUCCESS
http://dpdk.org/patch/84626
_Performance Testing PASS_
Submitter: Jiawei Zhu <17826875952@163.com>
Date: Saturday, November 28 2020 14:50:20
DPDK git baseline: Repo:dpdk
Branch: master
CommitID:b1d36cf828771e28eb0130b59dcf606c2a0bc94d
84626 --> performance testing pass
Test environment and result as below:
Ubuntu 18.04
Kernel: 4.15.0-65-generic
Compiler: gcc gcc (Ubuntu 7.4.0-1ubuntu1~18.04.1) 7.4.0
NIC: Broadcom Inc. brcm_57414 25000 Mbps
Target: x86_64-native-linuxapp-gcc
Fail/Total: 0/2
Detail performance results:
+------------+---------+-------------------------------------+
| frame_size | txd/rxd | throughput difference from expected |
+============+=========+=====================================+
| 64 | 512 | 0.093 |
+------------+---------+-------------------------------------+
| 64 | 2048 | 0.055 |
+------------+---------+-------------------------------------+
To view detailed results, visit:
https://lab.dpdk.org/results/dashboard/patchsets/14691/
UNH-IOL DPDK Community Lab
To manage your email subscriptions, visit:
https://lab.dpdk.org/results/dashboard/preferences/subscriptions/
^ permalink raw reply [flat|nested] 7+ messages in thread
* [dpdk-test-report] |SUCCESS| pw84626 [PATCH] net/virtio-user: fix error run close(0)
[not found] <1606575020-2973-1-git-send-email-17826875952@163.com>
@ 2020-11-28 14:51 ` checkpatch
0 siblings, 0 replies; 7+ messages in thread
From: checkpatch @ 2020-11-28 14:51 UTC (permalink / raw)
To: test-report
Test-Label: checkpatch
Test-Status: SUCCESS
http://dpdk.org/patch/84626
_coding style OK_
^ permalink raw reply [flat|nested] 7+ messages in thread
end of thread, other threads:[~2020-11-28 16:04 UTC | newest]
Thread overview: 7+ messages (download: mbox.gz / follow: Atom feed)
-- links below jump to the message on this page --
2020-11-28 15:31 [dpdk-test-report] |SUCCESS| pw84626 [PATCH] net/virtio-user: fix error run close(0) dpdklab
-- strict thread matches above, loose matches on Subject: below --
2020-11-28 16:04 dpdklab
2020-11-28 15:48 dpdklab
2020-11-28 15:38 dpdklab
2020-11-28 15:34 dpdklab
2020-11-28 15:24 dpdklab
[not found] <1606575020-2973-1-git-send-email-17826875952@163.com>
2020-11-28 14:51 ` checkpatch
This is a public inbox, see mirroring instructions
for how to clone and mirror all data and code used for this inbox;
as well as URLs for NNTP newsgroup(s).