* [dpdk-test-report] |SUCCESS| pw85214 [PATCH] fib6: improve lookup performance
@ 2020-12-15 19:09 dpdklab
0 siblings, 0 replies; 6+ messages in thread
From: dpdklab @ 2020-12-15 19:09 UTC (permalink / raw)
To: Test Report; +Cc: dpdk-test-reports
[-- Attachment #1: Type: text/plain, Size: 2345 bytes --]
Test-Label: iol-testing
Test-Status: SUCCESS
http://dpdk.org/patch/85214
_Testing PASS_
Submitter: Vladimir Medvedkin <vladimir.medvedkin@intel.com>
Date: Tuesday, December 15 2020 18:25:19
DPDK git baseline: Repo:dpdk
Branch: master
CommitID:443267090edc42e7c3d0e6e5dbc7580d0b27163c
85214 --> testing pass
Test environment and result as below:
+---------------------+--------------------+-------------------+----------------+
| Environment | dpdk_meson_compile | dpdk_compile_spdk | dpdk_unit_test |
+=====================+====================+===================+================+
| Windows Server 2019 | PASS | SKIPPED | SKIPPED |
+---------------------+--------------------+-------------------+----------------+
| FreeBSD 11.2 | PASS | SKIPPED | SKIPPED |
+---------------------+--------------------+-------------------+----------------+
| CentOS 8 | PASS | SKIPPED | SKIPPED |
+---------------------+--------------------+-------------------+----------------+
| Fedora 31 | PASS | SKIPPED | SKIPPED |
+---------------------+--------------------+-------------------+----------------+
| Ubuntu 18.04 | PASS | PASS | PASS |
+---------------------+--------------------+-------------------+----------------+
| openSUSE Leap 15 | PASS | SKIPPED | SKIPPED |
+---------------------+--------------------+-------------------+----------------+
| Arch Linux | PASS | SKIPPED | SKIPPED |
+---------------------+--------------------+-------------------+----------------+
Windows Server 2019
Kernel: 10.0
Compiler: clang 9.0
FreeBSD 11.2
Kernel: 11.2
Compiler: gcc 8.3
CentOS 8
Kernel: 4.18.0.el8_0
Compiler: gcc 8.3.1
Fedora 31
Kernel: 5.3.16
Compiler: gcc 9.2.1
Ubuntu 18.04
Kernel: 4.15.0-generic
Compiler: gcc 7.5
openSUSE Leap 15
Kernel: 4.12.14
Compiler: gcc 7.4.1
Arch Linux
Kernel: latest
Compiler: gcc latest
To view detailed results, visit:
https://lab.dpdk.org/results/dashboard/patchsets/14831/
UNH-IOL DPDK Community Lab
To manage your email subscriptions, visit:
https://lab.dpdk.org/results/dashboard/preferences/subscriptions/
^ permalink raw reply [flat|nested] 6+ messages in thread
* [dpdk-test-report] |SUCCESS| pw85214 [PATCH] fib6: improve lookup performance
@ 2020-12-15 19:25 dpdklab
0 siblings, 0 replies; 6+ messages in thread
From: dpdklab @ 2020-12-15 19:25 UTC (permalink / raw)
To: Test Report; +Cc: dpdk-test-reports
[-- Attachment #1: Type: text/plain, Size: 1928 bytes --]
Test-Label: iol-intel-Performance
Test-Status: SUCCESS
http://dpdk.org/patch/85214
_Performance Testing PASS_
Submitter: Vladimir Medvedkin <vladimir.medvedkin@intel.com>
Date: Tuesday, December 15 2020 18:25:19
DPDK git baseline: Repo:dpdk
Branch: master
CommitID:443267090edc42e7c3d0e6e5dbc7580d0b27163c
85214 --> performance testing pass
Test environment and result as below:
Ubuntu 18.04
Kernel: 4.15.0-generic
Compiler: gcc 7.4
NIC: Intel Corporation Ethernet Converged Network Adapter XL710-QDA2 40000 Mbps
Target: x86_64-native-linuxapp-gcc
Fail/Total: 0/2
Detail performance results:
+------------+---------+-------------------------------------+
| frame_size | txd/rxd | throughput difference from expected |
+============+=========+=====================================+
| 64 | 512 | 3.046 |
+------------+---------+-------------------------------------+
| 64 | 2048 | 1.977 |
+------------+---------+-------------------------------------+
Ubuntu 18.04
Kernel: 4.15.0-generic
Compiler: gcc 7.4
NIC: Intel Corporation Ethernet Converged Network Adapter 82599ES 10000 Mbps
Target: x86_64-native-linuxapp-gcc
Fail/Total: 0/2
Detail performance results:
+------------+---------+-------------------------------------+
| frame_size | txd/rxd | throughput difference from expected |
+============+=========+=====================================+
| 64 | 512 | 2.176 |
+------------+---------+-------------------------------------+
| 64 | 2048 | 0.963 |
+------------+---------+-------------------------------------+
To view detailed results, visit:
https://lab.dpdk.org/results/dashboard/patchsets/14831/
UNH-IOL DPDK Community Lab
To manage your email subscriptions, visit:
https://lab.dpdk.org/results/dashboard/preferences/subscriptions/
^ permalink raw reply [flat|nested] 6+ messages in thread
* [dpdk-test-report] |SUCCESS| pw85214 [PATCH] fib6: improve lookup performance
@ 2020-12-15 19:15 dpdklab
0 siblings, 0 replies; 6+ messages in thread
From: dpdklab @ 2020-12-15 19:15 UTC (permalink / raw)
To: Test Report; +Cc: dpdk-test-reports
[-- Attachment #1: Type: text/plain, Size: 985 bytes --]
Test-Label: iol-intel-Functional
Test-Status: SUCCESS
http://dpdk.org/patch/85214
_Functional Testing PASS_
Submitter: Vladimir Medvedkin <vladimir.medvedkin@intel.com>
Date: Tuesday, December 15 2020 18:25:19
DPDK git baseline: Repo:dpdk
Branch: master
CommitID:443267090edc42e7c3d0e6e5dbc7580d0b27163c
85214 --> functional testing pass
Test environment and result as below:
Ubuntu 18.04
Kernel: 4.15.0-generic
Compiler: gcc 7.4
NIC: Intel Corporation Ethernet Converged Network Adapter XL710-QDA2 40000 Mbps
Target: x86_64-native-linuxapp-gcc
Fail/Total: 0/3
Ubuntu 18.04
Kernel: 4.15.0-generic
Compiler: gcc 7.4
NIC: Intel Corporation Ethernet Converged Network Adapter 82599ES 10000 Mbps
Target: x86_64-native-linuxapp-gcc
Fail/Total: 0/5
To view detailed results, visit:
https://lab.dpdk.org/results/dashboard/patchsets/14831/
UNH-IOL DPDK Community Lab
To manage your email subscriptions, visit:
https://lab.dpdk.org/results/dashboard/preferences/subscriptions/
^ permalink raw reply [flat|nested] 6+ messages in thread
* [dpdk-test-report] |SUCCESS| pw85214 [PATCH] fib6: improve lookup performance
@ 2020-12-15 19:04 dpdklab
0 siblings, 0 replies; 6+ messages in thread
From: dpdklab @ 2020-12-15 19:04 UTC (permalink / raw)
To: Ajit Khaparde, Test Report; +Cc: dpdk-test-reports
[-- Attachment #1: Type: text/plain, Size: 1279 bytes --]
Test-Label: iol-broadcom-Performance
Test-Status: SUCCESS
http://dpdk.org/patch/85214
_Performance Testing PASS_
Submitter: Vladimir Medvedkin <vladimir.medvedkin@intel.com>
Date: Tuesday, December 15 2020 18:25:19
DPDK git baseline: Repo:dpdk
Branch: master
CommitID:443267090edc42e7c3d0e6e5dbc7580d0b27163c
85214 --> performance testing pass
Test environment and result as below:
Ubuntu 18.04
Kernel: 4.15.0-65-generic
Compiler: gcc gcc (Ubuntu 7.4.0-1ubuntu1~18.04.1) 7.4.0
NIC: Broadcom Inc. brcm_57414 25000 Mbps
Target: x86_64-native-linuxapp-gcc
Fail/Total: 0/2
Detail performance results:
+------------+---------+-------------------------------------+
| frame_size | txd/rxd | throughput difference from expected |
+============+=========+=====================================+
| 64 | 512 | 0.005 |
+------------+---------+-------------------------------------+
| 64 | 2048 | 0.139 |
+------------+---------+-------------------------------------+
To view detailed results, visit:
https://lab.dpdk.org/results/dashboard/patchsets/14831/
UNH-IOL DPDK Community Lab
To manage your email subscriptions, visit:
https://lab.dpdk.org/results/dashboard/preferences/subscriptions/
^ permalink raw reply [flat|nested] 6+ messages in thread
* [dpdk-test-report] |SUCCESS| pw85214 [PATCH] fib6: improve lookup performance
@ 2020-12-15 18:58 dpdklab
0 siblings, 0 replies; 6+ messages in thread
From: dpdklab @ 2020-12-15 18:58 UTC (permalink / raw)
To: Ajit Khaparde, Test Report; +Cc: dpdk-test-reports
[-- Attachment #1: Type: text/plain, Size: 806 bytes --]
Test-Label: iol-broadcom-Functional
Test-Status: SUCCESS
http://dpdk.org/patch/85214
_Functional Testing PASS_
Submitter: Vladimir Medvedkin <vladimir.medvedkin@intel.com>
Date: Tuesday, December 15 2020 18:25:19
DPDK git baseline: Repo:dpdk
Branch: master
CommitID:443267090edc42e7c3d0e6e5dbc7580d0b27163c
85214 --> functional testing pass
Test environment and result as below:
Ubuntu 18.04
Kernel: 4.15.0-65-generic
Compiler: gcc gcc (Ubuntu 7.4.0-1ubuntu1~18.04.1) 7.4.0
NIC: Broadcom Inc. brcm_57414 25000 Mbps
Target: x86_64-native-linuxapp-gcc
Fail/Total: 0/3
To view detailed results, visit:
https://lab.dpdk.org/results/dashboard/patchsets/14831/
UNH-IOL DPDK Community Lab
To manage your email subscriptions, visit:
https://lab.dpdk.org/results/dashboard/preferences/subscriptions/
^ permalink raw reply [flat|nested] 6+ messages in thread
* [dpdk-test-report] |SUCCESS| pw85214 [PATCH] fib6: improve lookup performance
[not found] <1608056719-400147-1-git-send-email-vladimir.medvedkin@intel.com>
@ 2020-12-15 18:26 ` checkpatch
0 siblings, 0 replies; 6+ messages in thread
From: checkpatch @ 2020-12-15 18:26 UTC (permalink / raw)
To: test-report
Test-Label: checkpatch
Test-Status: SUCCESS
http://dpdk.org/patch/85214
_coding style OK_
^ permalink raw reply [flat|nested] 6+ messages in thread
end of thread, other threads:[~2020-12-15 19:25 UTC | newest]
Thread overview: 6+ messages (download: mbox.gz / follow: Atom feed)
-- links below jump to the message on this page --
2020-12-15 19:09 [dpdk-test-report] |SUCCESS| pw85214 [PATCH] fib6: improve lookup performance dpdklab
-- strict thread matches above, loose matches on Subject: below --
2020-12-15 19:25 dpdklab
2020-12-15 19:15 dpdklab
2020-12-15 19:04 dpdklab
2020-12-15 18:58 dpdklab
[not found] <1608056719-400147-1-git-send-email-vladimir.medvedkin@intel.com>
2020-12-15 18:26 ` checkpatch
This is a public inbox, see mirroring instructions
for how to clone and mirror all data and code used for this inbox;
as well as URLs for NNTP newsgroup(s).