* [dpdk-test-report] |SUCCESS| pw86009-86006 [PATCH] [v2, 6/6] net/hns3: remove unnecessary memset
@ 2021-01-06 4:21 dpdklab
0 siblings, 0 replies; 6+ messages in thread
From: dpdklab @ 2021-01-06 4:21 UTC (permalink / raw)
To: Ajit Khaparde, Test Report; +Cc: dpdk-test-reports
[-- Attachment #1: Type: text/plain, Size: 802 bytes --]
Test-Label: iol-broadcom-Functional
Test-Status: SUCCESS
http://dpdk.org/patch/86006
_Functional Testing PASS_
Submitter: Lijun Ou <oulijun@huawei.com>
Date: Wednesday, January 06 2021 03:46:32
DPDK git baseline: Repo:dpdk-next-net
Branch: master
CommitID:d27d8f2d85bb50660c439316e75a945165bff954
86009-86006 --> functional testing pass
Test environment and result as below:
Ubuntu 18.04
Kernel: 4.15.0-65-generic
Compiler: gcc gcc (Ubuntu 7.4.0-1ubuntu1~18.04.1) 7.4.0
NIC: Broadcom Inc. brcm_57414 25000 Mbps
Target: x86_64-native-linuxapp-gcc
Fail/Total: 0/3
To view detailed results, visit:
https://lab.dpdk.org/results/dashboard/patchsets/15013/
UNH-IOL DPDK Community Lab
To manage your email subscriptions, visit:
https://lab.dpdk.org/results/dashboard/preferences/subscriptions/
^ permalink raw reply [flat|nested] 6+ messages in thread
* [dpdk-test-report] |SUCCESS| pw86009-86006 [PATCH] [v2, 6/6] net/hns3: remove unnecessary memset
@ 2021-01-06 4:27 dpdklab
0 siblings, 0 replies; 6+ messages in thread
From: dpdklab @ 2021-01-06 4:27 UTC (permalink / raw)
To: Ajit Khaparde, Test Report; +Cc: dpdk-test-reports
[-- Attachment #1: Type: text/plain, Size: 1275 bytes --]
Test-Label: iol-broadcom-Performance
Test-Status: SUCCESS
http://dpdk.org/patch/86006
_Performance Testing PASS_
Submitter: Lijun Ou <oulijun@huawei.com>
Date: Wednesday, January 06 2021 03:46:32
DPDK git baseline: Repo:dpdk-next-net
Branch: master
CommitID:d27d8f2d85bb50660c439316e75a945165bff954
86009-86006 --> performance testing pass
Test environment and result as below:
Ubuntu 18.04
Kernel: 4.15.0-65-generic
Compiler: gcc gcc (Ubuntu 7.4.0-1ubuntu1~18.04.1) 7.4.0
NIC: Broadcom Inc. brcm_57414 25000 Mbps
Target: x86_64-native-linuxapp-gcc
Fail/Total: 0/2
Detail performance results:
+------------+---------+-------------------------------------+
| frame_size | txd/rxd | throughput difference from expected |
+============+=========+=====================================+
| 64 | 512 | -0.057 |
+------------+---------+-------------------------------------+
| 64 | 2048 | -0.020 |
+------------+---------+-------------------------------------+
To view detailed results, visit:
https://lab.dpdk.org/results/dashboard/patchsets/15013/
UNH-IOL DPDK Community Lab
To manage your email subscriptions, visit:
https://lab.dpdk.org/results/dashboard/preferences/subscriptions/
^ permalink raw reply [flat|nested] 6+ messages in thread
* [dpdk-test-report] |SUCCESS| pw86009-86006 [PATCH] [v2, 6/6] net/hns3: remove unnecessary memset
@ 2021-01-06 4:28 dpdklab
0 siblings, 0 replies; 6+ messages in thread
From: dpdklab @ 2021-01-06 4:28 UTC (permalink / raw)
To: Test Report; +Cc: dpdk-test-reports
[-- Attachment #1: Type: text/plain, Size: 797 bytes --]
Test-Label: iol-intel-Functional
Test-Status: SUCCESS
http://dpdk.org/patch/86006
_Functional Testing PASS_
Submitter: Lijun Ou <oulijun@huawei.com>
Date: Wednesday, January 06 2021 03:46:32
DPDK git baseline: Repo:dpdk-next-net
Branch: master
CommitID:d27d8f2d85bb50660c439316e75a945165bff954
86009-86006 --> functional testing pass
Test environment and result as below:
Ubuntu 18.04
Kernel: 4.15.0-generic
Compiler: gcc 7.4
NIC: Intel Corporation Ethernet Converged Network Adapter XL710-QDA2 40000 Mbps
Target: x86_64-native-linuxapp-gcc
Fail/Total: 0/3
To view detailed results, visit:
https://lab.dpdk.org/results/dashboard/patchsets/15013/
UNH-IOL DPDK Community Lab
To manage your email subscriptions, visit:
https://lab.dpdk.org/results/dashboard/preferences/subscriptions/
^ permalink raw reply [flat|nested] 6+ messages in thread
* [dpdk-test-report] |SUCCESS| pw86009-86006 [PATCH] [v2, 6/6] net/hns3: remove unnecessary memset
@ 2021-01-06 4:45 dpdklab
0 siblings, 0 replies; 6+ messages in thread
From: dpdklab @ 2021-01-06 4:45 UTC (permalink / raw)
To: Test Report; +Cc: dpdk-test-reports
[-- Attachment #1: Type: text/plain, Size: 1924 bytes --]
Test-Label: iol-intel-Performance
Test-Status: SUCCESS
http://dpdk.org/patch/86006
_Performance Testing PASS_
Submitter: Lijun Ou <oulijun@huawei.com>
Date: Wednesday, January 06 2021 03:46:32
DPDK git baseline: Repo:dpdk-next-net
Branch: master
CommitID:d27d8f2d85bb50660c439316e75a945165bff954
86009-86006 --> performance testing pass
Test environment and result as below:
Ubuntu 18.04
Kernel: 4.15.0-generic
Compiler: gcc 7.4
NIC: Intel Corporation Ethernet Converged Network Adapter XL710-QDA2 40000 Mbps
Target: x86_64-native-linuxapp-gcc
Fail/Total: 0/2
Detail performance results:
+------------+---------+-------------------------------------+
| frame_size | txd/rxd | throughput difference from expected |
+============+=========+=====================================+
| 64 | 512 | 2.768 |
+------------+---------+-------------------------------------+
| 64 | 2048 | 1.955 |
+------------+---------+-------------------------------------+
Ubuntu 18.04
Kernel: 4.15.0-generic
Compiler: gcc 7.4
NIC: Intel Corporation Ethernet Converged Network Adapter 82599ES 10000 Mbps
Target: x86_64-native-linuxapp-gcc
Fail/Total: 0/2
Detail performance results:
+------------+---------+-------------------------------------+
| frame_size | txd/rxd | throughput difference from expected |
+============+=========+=====================================+
| 64 | 512 | 2.189 |
+------------+---------+-------------------------------------+
| 64 | 2048 | 1.303 |
+------------+---------+-------------------------------------+
To view detailed results, visit:
https://lab.dpdk.org/results/dashboard/patchsets/15013/
UNH-IOL DPDK Community Lab
To manage your email subscriptions, visit:
https://lab.dpdk.org/results/dashboard/preferences/subscriptions/
^ permalink raw reply [flat|nested] 6+ messages in thread
* [dpdk-test-report] |SUCCESS| pw86009-86006 [PATCH] [v2, 6/6] net/hns3: remove unnecessary memset
@ 2021-01-06 5:14 dpdklab
0 siblings, 0 replies; 6+ messages in thread
From: dpdklab @ 2021-01-06 5:14 UTC (permalink / raw)
To: Ali Alnubani, Test Report; +Cc: dpdk-test-reports
[-- Attachment #1: Type: text/plain, Size: 3974 bytes --]
Test-Label: iol-mellanox-Performance
Test-Status: SUCCESS
http://dpdk.org/patch/86006
_Performance Testing PASS_
Submitter: Lijun Ou <oulijun@huawei.com>
Date: Wednesday, January 06 2021 03:46:32
DPDK git baseline: Repo:dpdk-next-net
Branch: master
CommitID:d27d8f2d85bb50660c439316e75a945165bff954
86009-86006 --> performance testing pass
Test environment and result as below:
Ubuntu 18.04
Kernel: 4.15.0-generic
Compiler: gcc 7.4
NIC: Mellanox ConnectX-5 100000 Mbps
Target: x86_64-native-linuxapp-gcc
Fail/Total: 0/6
Detail performance results:
+------------+---------+-------------------------------------+
| frame_size | txd/rxd | throughput difference from expected |
+============+=========+=====================================+
| 64 | 256 | 0.067 |
+------------+---------+-------------------------------------+
| 128 | 256 | 0.049 |
+------------+---------+-------------------------------------+
| 256 | 256 | 0.071 |
+------------+---------+-------------------------------------+
| 512 | 256 | 0.146 |
+------------+---------+-------------------------------------+
| 1024 | 256 | 0.111 |
+------------+---------+-------------------------------------+
| 1518 | 256 | -0.032 |
+------------+---------+-------------------------------------+
Ubuntu 18.04
Kernel: 4.15.0-generic
Compiler: gcc 7.4
NIC: Mellanox ConnectX-4 Lx 25000 Mbps
Target: x86_64-native-linuxapp-gcc
Fail/Total: 0/6
Detail performance results:
+------------+---------+-------------------------------------+
| frame_size | txd/rxd | throughput difference from expected |
+============+=========+=====================================+
| 64 | 256 | 0.119 |
+------------+---------+-------------------------------------+
| 128 | 256 | -0.024 |
+------------+---------+-------------------------------------+
| 256 | 256 | -0.024 |
+------------+---------+-------------------------------------+
| 512 | 256 | 0.027 |
+------------+---------+-------------------------------------+
| 1024 | 256 | 0.024 |
+------------+---------+-------------------------------------+
| 1518 | 256 | 0.004 |
+------------+---------+-------------------------------------+
Ubuntu 18.04
Kernel: 4.15.0-generic
Compiler: gcc 7.4
NIC: Mellanox ConnectX-4 Lx 40000 Mbps
Target: x86_64-native-linuxapp-gcc
Fail/Total: 0/6
Detail performance results:
+------------+---------+-------------------------------------+
| frame_size | txd/rxd | throughput difference from expected |
+============+=========+=====================================+
| 64 | 256 | 0.088 |
+------------+---------+-------------------------------------+
| 128 | 256 | 0.118 |
+------------+---------+-------------------------------------+
| 256 | 256 | 0.267 |
+------------+---------+-------------------------------------+
| 512 | 256 | 0 |
+------------+---------+-------------------------------------+
| 1024 | 256 | 0.005 |
+------------+---------+-------------------------------------+
| 1518 | 256 | -0.008 |
+------------+---------+-------------------------------------+
To view detailed results, visit:
https://lab.dpdk.org/results/dashboard/patchsets/15013/
UNH-IOL DPDK Community Lab
To manage your email subscriptions, visit:
https://lab.dpdk.org/results/dashboard/preferences/subscriptions/
^ permalink raw reply [flat|nested] 6+ messages in thread
* [dpdk-test-report] |SUCCESS| pw86009-86006 [PATCH] [v2, 6/6] net/hns3: remove unnecessary memset
@ 2021-01-06 5:23 dpdklab
0 siblings, 0 replies; 6+ messages in thread
From: dpdklab @ 2021-01-06 5:23 UTC (permalink / raw)
To: Test Report; +Cc: dpdk-test-reports
[-- Attachment #1: Type: text/plain, Size: 3005 bytes --]
Test-Label: iol-testing
Test-Status: SUCCESS
http://dpdk.org/patch/86006
_Testing PASS_
Submitter: Lijun Ou <oulijun@huawei.com>
Date: Wednesday, January 06 2021 03:46:32
DPDK git baseline: Repo:dpdk-next-net
Branch: master
CommitID:d27d8f2d85bb50660c439316e75a945165bff954
86009-86006 --> testing pass
Test environment and result as below:
+---------------------+----------------------+--------------------+----------------+-------------------+
| Environment | dpdk_mingw64_compile | dpdk_meson_compile | dpdk_unit_test | dpdk_compile_spdk |
+=====================+======================+====================+================+===================+
| Windows Server 2019 | PASS | PASS | SKIPPED | SKIPPED |
+---------------------+----------------------+--------------------+----------------+-------------------+
| FreeBSD 11.2 | SKIPPED | PASS | SKIPPED | SKIPPED |
+---------------------+----------------------+--------------------+----------------+-------------------+
| CentOS 8 | SKIPPED | PASS | SKIPPED | SKIPPED |
+---------------------+----------------------+--------------------+----------------+-------------------+
| Fedora 31 | SKIPPED | PASS | SKIPPED | SKIPPED |
+---------------------+----------------------+--------------------+----------------+-------------------+
| openSUSE Leap 15 | SKIPPED | PASS | SKIPPED | SKIPPED |
+---------------------+----------------------+--------------------+----------------+-------------------+
| Arch Linux | SKIPPED | PASS | SKIPPED | SKIPPED |
+---------------------+----------------------+--------------------+----------------+-------------------+
| Ubuntu 18.04 ARM | SKIPPED | PASS | SKIPPED | SKIPPED |
+---------------------+----------------------+--------------------+----------------+-------------------+
| Ubuntu 18.04 | SKIPPED | PASS | PASS | PASS |
+---------------------+----------------------+--------------------+----------------+-------------------+
Windows Server 2019
Kernel: 10.0
Compiler: clang 9.0
FreeBSD 11.2
Kernel: 11.2
Compiler: gcc 8.3
CentOS 8
Kernel: 4.18.0.el8_0
Compiler: gcc 8.3.1
Fedora 31
Kernel: 5.3.16
Compiler: gcc 9.2.1
openSUSE Leap 15
Kernel: 4.12.14
Compiler: gcc 7.4.1
Arch Linux
Kernel: latest
Compiler: gcc latest
Ubuntu 18.04 ARM
Kernel: 5.4.0-53-generic
Compiler: gcc 9.3
Ubuntu 18.04
Kernel: 4.15.0-generic
Compiler: gcc 7.5
To view detailed results, visit:
https://lab.dpdk.org/results/dashboard/patchsets/15013/
UNH-IOL DPDK Community Lab
To manage your email subscriptions, visit:
https://lab.dpdk.org/results/dashboard/preferences/subscriptions/
^ permalink raw reply [flat|nested] 6+ messages in thread
end of thread, other threads:[~2021-01-06 5:23 UTC | newest]
Thread overview: 6+ messages (download: mbox.gz / follow: Atom feed)
-- links below jump to the message on this page --
2021-01-06 4:21 [dpdk-test-report] |SUCCESS| pw86009-86006 [PATCH] [v2, 6/6] net/hns3: remove unnecessary memset dpdklab
2021-01-06 4:27 dpdklab
2021-01-06 4:28 dpdklab
2021-01-06 4:45 dpdklab
2021-01-06 5:14 dpdklab
2021-01-06 5:23 dpdklab
This is a public inbox, see mirroring instructions
for how to clone and mirror all data and code used for this inbox;
as well as URLs for NNTP newsgroup(s).