* [dpdk-test-report] |SUCCESS| pw85981-85982 [PATCH] [v2, 2/2] bitmap: modify bitmap not empty API for 128B cacheline
@ 2021-01-06 9:17 dpdklab
0 siblings, 0 replies; 14+ messages in thread
From: dpdklab @ 2021-01-06 9:17 UTC (permalink / raw)
To: Test Report; +Cc: dpdk-test-reports
[-- Attachment #1: Type: text/plain, Size: 1927 bytes --]
Test-Label: iol-intel-Performance
Test-Status: SUCCESS
http://dpdk.org/patch/85982
_Performance Testing PASS_
Submitter: Nithin Dabilpuram <ndabilpuram@marvell.com>
Date: Tuesday, January 05 2021 08:57:29
DPDK git baseline: Repo:dpdk
Branch: master
CommitID:b031e13d7f0dc7cba9bc5befe968b67832021a59
85981-85982 --> performance testing pass
Test environment and result as below:
Ubuntu 18.04
Kernel: 4.15.0-generic
Compiler: gcc 7.4
NIC: Intel Corporation Ethernet Converged Network Adapter XL710-QDA2 40000 Mbps
Target: x86_64-native-linuxapp-gcc
Fail/Total: 0/2
Detail performance results:
+------------+---------+-------------------------------------+
| frame_size | txd/rxd | throughput difference from expected |
+============+=========+=====================================+
| 64 | 512 | 3.156 |
+------------+---------+-------------------------------------+
| 64 | 2048 | 2.184 |
+------------+---------+-------------------------------------+
Ubuntu 18.04
Kernel: 4.15.0-generic
Compiler: gcc 7.4
NIC: Intel Corporation Ethernet Converged Network Adapter 82599ES 10000 Mbps
Target: x86_64-native-linuxapp-gcc
Fail/Total: 0/2
Detail performance results:
+------------+---------+-------------------------------------+
| frame_size | txd/rxd | throughput difference from expected |
+============+=========+=====================================+
| 64 | 512 | 2.182 |
+------------+---------+-------------------------------------+
| 64 | 2048 | 1.332 |
+------------+---------+-------------------------------------+
To view detailed results, visit:
https://lab.dpdk.org/results/dashboard/patchsets/15005/
UNH-IOL DPDK Community Lab
To manage your email subscriptions, visit:
https://lab.dpdk.org/results/dashboard/preferences/subscriptions/
^ permalink raw reply [flat|nested] 14+ messages in thread
* [dpdk-test-report] |SUCCESS| pw85981-85982 [PATCH] [v2, 2/2] bitmap: modify bitmap not empty API for 128B cacheline
@ 2021-01-06 14:31 dpdklab
0 siblings, 0 replies; 14+ messages in thread
From: dpdklab @ 2021-01-06 14:31 UTC (permalink / raw)
To: Test Report; +Cc: dpdk-test-reports
[-- Attachment #1: Type: text/plain, Size: 3008 bytes --]
Test-Label: iol-testing
Test-Status: SUCCESS
http://dpdk.org/patch/85982
_Testing PASS_
Submitter: Nithin Dabilpuram <ndabilpuram@marvell.com>
Date: Tuesday, January 05 2021 08:57:29
DPDK git baseline: Repo:dpdk
Branch: master
CommitID:b031e13d7f0dc7cba9bc5befe968b67832021a59
85981-85982 --> testing pass
Test environment and result as below:
+---------------------+----------------------+--------------------+-------------------+----------------+
| Environment | dpdk_mingw64_compile | dpdk_meson_compile | dpdk_compile_spdk | dpdk_unit_test |
+=====================+======================+====================+===================+================+
| Windows Server 2019 | PASS | PASS | SKIPPED | SKIPPED |
+---------------------+----------------------+--------------------+-------------------+----------------+
| FreeBSD 11.2 | SKIPPED | PASS | SKIPPED | SKIPPED |
+---------------------+----------------------+--------------------+-------------------+----------------+
| Fedora 31 | SKIPPED | PASS | PASS | SKIPPED |
+---------------------+----------------------+--------------------+-------------------+----------------+
| CentOS 8 | SKIPPED | PASS | SKIPPED | SKIPPED |
+---------------------+----------------------+--------------------+-------------------+----------------+
| openSUSE Leap 15 | SKIPPED | PASS | SKIPPED | SKIPPED |
+---------------------+----------------------+--------------------+-------------------+----------------+
| Arch Linux | SKIPPED | PASS | SKIPPED | SKIPPED |
+---------------------+----------------------+--------------------+-------------------+----------------+
| Ubuntu 18.04 | SKIPPED | PASS | PASS | PASS |
+---------------------+----------------------+--------------------+-------------------+----------------+
| Ubuntu 18.04 ARM | SKIPPED | PASS | SKIPPED | SKIPPED |
+---------------------+----------------------+--------------------+-------------------+----------------+
Windows Server 2019
Kernel: 10.0
Compiler: clang 9.0
FreeBSD 11.2
Kernel: 11.2
Compiler: gcc 8.3
Fedora 31
Kernel: 5.3.16
Compiler: gcc 9.2.1
CentOS 8
Kernel: 4.18.0.el8_0
Compiler: gcc 8.3.1
openSUSE Leap 15
Kernel: 4.12.14
Compiler: gcc 7.4.1
Arch Linux
Kernel: latest
Compiler: gcc latest
Ubuntu 18.04
Kernel: 4.15.0-generic
Compiler: gcc 7.5
Ubuntu 18.04 ARM
Kernel: 5.4.0-53-generic
Compiler: gcc 9.3
To view detailed results, visit:
https://lab.dpdk.org/results/dashboard/patchsets/15005/
UNH-IOL DPDK Community Lab
To manage your email subscriptions, visit:
https://lab.dpdk.org/results/dashboard/preferences/subscriptions/
^ permalink raw reply [flat|nested] 14+ messages in thread
* [dpdk-test-report] |SUCCESS| pw85981-85982 [PATCH] [v2, 2/2] bitmap: modify bitmap not empty API for 128B cacheline
@ 2021-01-06 14:30 dpdklab
0 siblings, 0 replies; 14+ messages in thread
From: dpdklab @ 2021-01-06 14:30 UTC (permalink / raw)
To: Test Report; +Cc: dpdk-test-reports
[-- Attachment #1: Type: text/plain, Size: 931 bytes --]
Test-Label: iol-abi-testing
Test-Status: SUCCESS
http://dpdk.org/patch/85982
_Testing PASS_
Submitter: Nithin Dabilpuram <ndabilpuram@marvell.com>
Date: Tuesday, January 05 2021 08:57:29
DPDK git baseline: Repo:dpdk
Branch: master
CommitID:b031e13d7f0dc7cba9bc5befe968b67832021a59
85981-85982 --> testing pass
Test environment and result as below:
+------------------+----------+
| Environment | abi_test |
+==================+==========+
| Ubuntu 18.04 | PASS |
+------------------+----------+
| Ubuntu 18.04 ARM | PASS |
+------------------+----------+
Ubuntu 18.04
Kernel: 4.15.0-generic
Compiler: gcc 7.5
Ubuntu 18.04 ARM
Kernel: 5.4.0-53-generic
Compiler: gcc 9.3
To view detailed results, visit:
https://lab.dpdk.org/results/dashboard/patchsets/15005/
UNH-IOL DPDK Community Lab
To manage your email subscriptions, visit:
https://lab.dpdk.org/results/dashboard/preferences/subscriptions/
^ permalink raw reply [flat|nested] 14+ messages in thread
* [dpdk-test-report] |SUCCESS| pw85981-85982 [PATCH] [v2, 2/2] bitmap: modify bitmap not empty API for 128B cacheline
@ 2021-01-06 14:01 dpdklab
0 siblings, 0 replies; 14+ messages in thread
From: dpdklab @ 2021-01-06 14:01 UTC (permalink / raw)
To: Ali Alnubani, Test Report; +Cc: dpdk-test-reports
[-- Attachment #1: Type: text/plain, Size: 3977 bytes --]
Test-Label: iol-mellanox-Performance
Test-Status: SUCCESS
http://dpdk.org/patch/85982
_Performance Testing PASS_
Submitter: Nithin Dabilpuram <ndabilpuram@marvell.com>
Date: Tuesday, January 05 2021 08:57:29
DPDK git baseline: Repo:dpdk
Branch: master
CommitID:b031e13d7f0dc7cba9bc5befe968b67832021a59
85981-85982 --> performance testing pass
Test environment and result as below:
Ubuntu 18.04
Kernel: 4.15.0-generic
Compiler: gcc 7.4
NIC: Mellanox ConnectX-5 100000 Mbps
Target: x86_64-native-linuxapp-gcc
Fail/Total: 0/6
Detail performance results:
+------------+---------+-------------------------------------+
| frame_size | txd/rxd | throughput difference from expected |
+============+=========+=====================================+
| 64 | 256 | 0.104 |
+------------+---------+-------------------------------------+
| 128 | 256 | 0.054 |
+------------+---------+-------------------------------------+
| 256 | 256 | -0.012 |
+------------+---------+-------------------------------------+
| 512 | 256 | 0.054 |
+------------+---------+-------------------------------------+
| 1024 | 256 | 0.105 |
+------------+---------+-------------------------------------+
| 1518 | 256 | -0.025 |
+------------+---------+-------------------------------------+
Ubuntu 18.04
Kernel: 4.15.0-generic
Compiler: gcc 7.4
NIC: Mellanox ConnectX-4 Lx 25000 Mbps
Target: x86_64-native-linuxapp-gcc
Fail/Total: 0/6
Detail performance results:
+------------+---------+-------------------------------------+
| frame_size | txd/rxd | throughput difference from expected |
+============+=========+=====================================+
| 64 | 256 | -0.011 |
+------------+---------+-------------------------------------+
| 128 | 256 | 0.378 |
+------------+---------+-------------------------------------+
| 256 | 256 | -0.130 |
+------------+---------+-------------------------------------+
| 512 | 256 | -0.010 |
+------------+---------+-------------------------------------+
| 1024 | 256 | 0.013 |
+------------+---------+-------------------------------------+
| 1518 | 256 | -0.003 |
+------------+---------+-------------------------------------+
Ubuntu 18.04
Kernel: 4.15.0-generic
Compiler: gcc 7.4
NIC: Mellanox ConnectX-4 Lx 40000 Mbps
Target: x86_64-native-linuxapp-gcc
Fail/Total: 0/6
Detail performance results:
+------------+---------+-------------------------------------+
| frame_size | txd/rxd | throughput difference from expected |
+============+=========+=====================================+
| 64 | 256 | -0.053 |
+------------+---------+-------------------------------------+
| 128 | 256 | -0.009 |
+------------+---------+-------------------------------------+
| 256 | 256 | 0.024 |
+------------+---------+-------------------------------------+
| 512 | 256 | 0.031 |
+------------+---------+-------------------------------------+
| 1024 | 256 | -0.004 |
+------------+---------+-------------------------------------+
| 1518 | 256 | -0.023 |
+------------+---------+-------------------------------------+
To view detailed results, visit:
https://lab.dpdk.org/results/dashboard/patchsets/15005/
UNH-IOL DPDK Community Lab
To manage your email subscriptions, visit:
https://lab.dpdk.org/results/dashboard/preferences/subscriptions/
^ permalink raw reply [flat|nested] 14+ messages in thread
* [dpdk-test-report] |SUCCESS| pw85981-85982 [PATCH] [v2, 2/2] bitmap: modify bitmap not empty API for 128B cacheline
@ 2021-01-06 13:39 dpdklab
0 siblings, 0 replies; 14+ messages in thread
From: dpdklab @ 2021-01-06 13:39 UTC (permalink / raw)
To: Test Report; +Cc: dpdk-test-reports
[-- Attachment #1: Type: text/plain, Size: 3008 bytes --]
Test-Label: iol-testing
Test-Status: SUCCESS
http://dpdk.org/patch/85982
_Testing PASS_
Submitter: Nithin Dabilpuram <ndabilpuram@marvell.com>
Date: Tuesday, January 05 2021 08:57:29
DPDK git baseline: Repo:dpdk
Branch: master
CommitID:b031e13d7f0dc7cba9bc5befe968b67832021a59
85981-85982 --> testing pass
Test environment and result as below:
+---------------------+----------------------+--------------------+-------------------+----------------+
| Environment | dpdk_mingw64_compile | dpdk_meson_compile | dpdk_compile_spdk | dpdk_unit_test |
+=====================+======================+====================+===================+================+
| Windows Server 2019 | PASS | PASS | SKIPPED | SKIPPED |
+---------------------+----------------------+--------------------+-------------------+----------------+
| FreeBSD 11.2 | SKIPPED | PASS | SKIPPED | SKIPPED |
+---------------------+----------------------+--------------------+-------------------+----------------+
| Fedora 31 | SKIPPED | PASS | PASS | SKIPPED |
+---------------------+----------------------+--------------------+-------------------+----------------+
| CentOS 8 | SKIPPED | PASS | SKIPPED | SKIPPED |
+---------------------+----------------------+--------------------+-------------------+----------------+
| openSUSE Leap 15 | SKIPPED | PASS | SKIPPED | SKIPPED |
+---------------------+----------------------+--------------------+-------------------+----------------+
| Arch Linux | SKIPPED | PASS | SKIPPED | SKIPPED |
+---------------------+----------------------+--------------------+-------------------+----------------+
| Ubuntu 18.04 | SKIPPED | PASS | PASS | PASS |
+---------------------+----------------------+--------------------+-------------------+----------------+
| Ubuntu 18.04 ARM | SKIPPED | PASS | SKIPPED | SKIPPED |
+---------------------+----------------------+--------------------+-------------------+----------------+
Windows Server 2019
Kernel: 10.0
Compiler: clang 9.0
FreeBSD 11.2
Kernel: 11.2
Compiler: gcc 8.3
Fedora 31
Kernel: 5.3.16
Compiler: gcc 9.2.1
CentOS 8
Kernel: 4.18.0.el8_0
Compiler: gcc 8.3.1
openSUSE Leap 15
Kernel: 4.12.14
Compiler: gcc 7.4.1
Arch Linux
Kernel: latest
Compiler: gcc latest
Ubuntu 18.04
Kernel: 4.15.0-generic
Compiler: gcc 7.5
Ubuntu 18.04 ARM
Kernel: 5.4.0-53-generic
Compiler: gcc 9.3
To view detailed results, visit:
https://lab.dpdk.org/results/dashboard/patchsets/15005/
UNH-IOL DPDK Community Lab
To manage your email subscriptions, visit:
https://lab.dpdk.org/results/dashboard/preferences/subscriptions/
^ permalink raw reply [flat|nested] 14+ messages in thread
* [dpdk-test-report] |SUCCESS| pw85981-85982 [PATCH] [v2, 2/2] bitmap: modify bitmap not empty API for 128B cacheline
@ 2021-01-06 13:36 dpdklab
0 siblings, 0 replies; 14+ messages in thread
From: dpdklab @ 2021-01-06 13:36 UTC (permalink / raw)
To: Test Report; +Cc: dpdk-test-reports
[-- Attachment #1: Type: text/plain, Size: 931 bytes --]
Test-Label: iol-abi-testing
Test-Status: SUCCESS
http://dpdk.org/patch/85982
_Testing PASS_
Submitter: Nithin Dabilpuram <ndabilpuram@marvell.com>
Date: Tuesday, January 05 2021 08:57:29
DPDK git baseline: Repo:dpdk
Branch: master
CommitID:b031e13d7f0dc7cba9bc5befe968b67832021a59
85981-85982 --> testing pass
Test environment and result as below:
+------------------+----------+
| Environment | abi_test |
+==================+==========+
| Ubuntu 18.04 | PASS |
+------------------+----------+
| Ubuntu 18.04 ARM | PASS |
+------------------+----------+
Ubuntu 18.04
Kernel: 4.15.0-generic
Compiler: gcc 7.5
Ubuntu 18.04 ARM
Kernel: 5.4.0-53-generic
Compiler: gcc 9.3
To view detailed results, visit:
https://lab.dpdk.org/results/dashboard/patchsets/15005/
UNH-IOL DPDK Community Lab
To manage your email subscriptions, visit:
https://lab.dpdk.org/results/dashboard/preferences/subscriptions/
^ permalink raw reply [flat|nested] 14+ messages in thread
* [dpdk-test-report] |SUCCESS| pw85981-85982 [PATCH] [v2, 2/2] bitmap: modify bitmap not empty API for 128B cacheline
@ 2021-01-06 13:08 dpdklab
0 siblings, 0 replies; 14+ messages in thread
From: dpdklab @ 2021-01-06 13:08 UTC (permalink / raw)
To: Ali Alnubani, Test Report; +Cc: dpdk-test-reports
[-- Attachment #1: Type: text/plain, Size: 3977 bytes --]
Test-Label: iol-mellanox-Performance
Test-Status: SUCCESS
http://dpdk.org/patch/85982
_Performance Testing PASS_
Submitter: Nithin Dabilpuram <ndabilpuram@marvell.com>
Date: Tuesday, January 05 2021 08:57:29
DPDK git baseline: Repo:dpdk
Branch: master
CommitID:b031e13d7f0dc7cba9bc5befe968b67832021a59
85981-85982 --> performance testing pass
Test environment and result as below:
Ubuntu 18.04
Kernel: 4.15.0-generic
Compiler: gcc 7.4
NIC: Mellanox ConnectX-5 100000 Mbps
Target: x86_64-native-linuxapp-gcc
Fail/Total: 0/6
Detail performance results:
+------------+---------+-------------------------------------+
| frame_size | txd/rxd | throughput difference from expected |
+============+=========+=====================================+
| 64 | 256 | 0.035 |
+------------+---------+-------------------------------------+
| 128 | 256 | -0.010 |
+------------+---------+-------------------------------------+
| 256 | 256 | 0.005 |
+------------+---------+-------------------------------------+
| 512 | 256 | 0.048 |
+------------+---------+-------------------------------------+
| 1024 | 256 | -0.070 |
+------------+---------+-------------------------------------+
| 1518 | 256 | -0.006 |
+------------+---------+-------------------------------------+
Ubuntu 18.04
Kernel: 4.15.0-generic
Compiler: gcc 7.4
NIC: Mellanox ConnectX-4 Lx 25000 Mbps
Target: x86_64-native-linuxapp-gcc
Fail/Total: 0/6
Detail performance results:
+------------+---------+-------------------------------------+
| frame_size | txd/rxd | throughput difference from expected |
+============+=========+=====================================+
| 64 | 256 | 0.275 |
+------------+---------+-------------------------------------+
| 128 | 256 | 0.060 |
+------------+---------+-------------------------------------+
| 256 | 256 | -0.064 |
+------------+---------+-------------------------------------+
| 512 | 256 | 0.005 |
+------------+---------+-------------------------------------+
| 1024 | 256 | 0.004 |
+------------+---------+-------------------------------------+
| 1518 | 256 | -0.001 |
+------------+---------+-------------------------------------+
Ubuntu 18.04
Kernel: 4.15.0-generic
Compiler: gcc 7.4
NIC: Mellanox ConnectX-4 Lx 40000 Mbps
Target: x86_64-native-linuxapp-gcc
Fail/Total: 0/6
Detail performance results:
+------------+---------+-------------------------------------+
| frame_size | txd/rxd | throughput difference from expected |
+============+=========+=====================================+
| 64 | 256 | 0 |
+------------+---------+-------------------------------------+
| 128 | 256 | 0.060 |
+------------+---------+-------------------------------------+
| 256 | 256 | 0.786 |
+------------+---------+-------------------------------------+
| 512 | 256 | 0.003 |
+------------+---------+-------------------------------------+
| 1024 | 256 | -0.011 |
+------------+---------+-------------------------------------+
| 1518 | 256 | -0.016 |
+------------+---------+-------------------------------------+
To view detailed results, visit:
https://lab.dpdk.org/results/dashboard/patchsets/15005/
UNH-IOL DPDK Community Lab
To manage your email subscriptions, visit:
https://lab.dpdk.org/results/dashboard/preferences/subscriptions/
^ permalink raw reply [flat|nested] 14+ messages in thread
* [dpdk-test-report] |SUCCESS| pw85981-85982 [PATCH] [v2, 2/2] bitmap: modify bitmap not empty API for 128B cacheline
@ 2021-01-06 8:57 dpdklab
0 siblings, 0 replies; 14+ messages in thread
From: dpdklab @ 2021-01-06 8:57 UTC (permalink / raw)
To: Test Report; +Cc: dpdk-test-reports
[-- Attachment #1: Type: text/plain, Size: 800 bytes --]
Test-Label: iol-intel-Functional
Test-Status: SUCCESS
http://dpdk.org/patch/85982
_Functional Testing PASS_
Submitter: Nithin Dabilpuram <ndabilpuram@marvell.com>
Date: Tuesday, January 05 2021 08:57:29
DPDK git baseline: Repo:dpdk
Branch: master
CommitID:b031e13d7f0dc7cba9bc5befe968b67832021a59
85981-85982 --> functional testing pass
Test environment and result as below:
Ubuntu 18.04
Kernel: 4.15.0-generic
Compiler: gcc 7.4
NIC: Intel Corporation Ethernet Converged Network Adapter XL710-QDA2 40000 Mbps
Target: x86_64-native-linuxapp-gcc
Fail/Total: 0/3
To view detailed results, visit:
https://lab.dpdk.org/results/dashboard/patchsets/15005/
UNH-IOL DPDK Community Lab
To manage your email subscriptions, visit:
https://lab.dpdk.org/results/dashboard/preferences/subscriptions/
^ permalink raw reply [flat|nested] 14+ messages in thread
* [dpdk-test-report] |SUCCESS| pw85981-85982 [PATCH] [v2, 2/2] bitmap: modify bitmap not empty API for 128B cacheline
@ 2021-01-06 8:49 dpdklab
0 siblings, 0 replies; 14+ messages in thread
From: dpdklab @ 2021-01-06 8:49 UTC (permalink / raw)
To: Test Report; +Cc: dpdk-test-reports
[-- Attachment #1: Type: text/plain, Size: 1927 bytes --]
Test-Label: iol-intel-Performance
Test-Status: SUCCESS
http://dpdk.org/patch/85982
_Performance Testing PASS_
Submitter: Nithin Dabilpuram <ndabilpuram@marvell.com>
Date: Tuesday, January 05 2021 08:57:29
DPDK git baseline: Repo:dpdk
Branch: master
CommitID:b031e13d7f0dc7cba9bc5befe968b67832021a59
85981-85982 --> performance testing pass
Test environment and result as below:
Ubuntu 18.04
Kernel: 4.15.0-generic
Compiler: gcc 7.4
NIC: Intel Corporation Ethernet Converged Network Adapter XL710-QDA2 40000 Mbps
Target: x86_64-native-linuxapp-gcc
Fail/Total: 0/2
Detail performance results:
+------------+---------+-------------------------------------+
| frame_size | txd/rxd | throughput difference from expected |
+============+=========+=====================================+
| 64 | 512 | 2.737 |
+------------+---------+-------------------------------------+
| 64 | 2048 | 2.004 |
+------------+---------+-------------------------------------+
Ubuntu 18.04
Kernel: 4.15.0-generic
Compiler: gcc 7.4
NIC: Intel Corporation Ethernet Converged Network Adapter 82599ES 10000 Mbps
Target: x86_64-native-linuxapp-gcc
Fail/Total: 0/2
Detail performance results:
+------------+---------+-------------------------------------+
| frame_size | txd/rxd | throughput difference from expected |
+============+=========+=====================================+
| 64 | 512 | 2.067 |
+------------+---------+-------------------------------------+
| 64 | 2048 | 1.100 |
+------------+---------+-------------------------------------+
To view detailed results, visit:
https://lab.dpdk.org/results/dashboard/patchsets/15005/
UNH-IOL DPDK Community Lab
To manage your email subscriptions, visit:
https://lab.dpdk.org/results/dashboard/preferences/subscriptions/
^ permalink raw reply [flat|nested] 14+ messages in thread
* [dpdk-test-report] |SUCCESS| pw85981-85982 [PATCH] [v2, 2/2] bitmap: modify bitmap not empty API for 128B cacheline
@ 2021-01-06 8:29 dpdklab
0 siblings, 0 replies; 14+ messages in thread
From: dpdklab @ 2021-01-06 8:29 UTC (permalink / raw)
To: Test Report; +Cc: dpdk-test-reports
[-- Attachment #1: Type: text/plain, Size: 800 bytes --]
Test-Label: iol-intel-Functional
Test-Status: SUCCESS
http://dpdk.org/patch/85982
_Functional Testing PASS_
Submitter: Nithin Dabilpuram <ndabilpuram@marvell.com>
Date: Tuesday, January 05 2021 08:57:29
DPDK git baseline: Repo:dpdk
Branch: master
CommitID:b031e13d7f0dc7cba9bc5befe968b67832021a59
85981-85982 --> functional testing pass
Test environment and result as below:
Ubuntu 18.04
Kernel: 4.15.0-generic
Compiler: gcc 7.4
NIC: Intel Corporation Ethernet Converged Network Adapter XL710-QDA2 40000 Mbps
Target: x86_64-native-linuxapp-gcc
Fail/Total: 0/3
To view detailed results, visit:
https://lab.dpdk.org/results/dashboard/patchsets/15005/
UNH-IOL DPDK Community Lab
To manage your email subscriptions, visit:
https://lab.dpdk.org/results/dashboard/preferences/subscriptions/
^ permalink raw reply [flat|nested] 14+ messages in thread
* [dpdk-test-report] |SUCCESS| pw85981-85982 [PATCH] [v2, 2/2] bitmap: modify bitmap not empty API for 128B cacheline
@ 2021-01-06 8:18 dpdklab
0 siblings, 0 replies; 14+ messages in thread
From: dpdklab @ 2021-01-06 8:18 UTC (permalink / raw)
To: Ajit Khaparde, Test Report; +Cc: dpdk-test-reports
[-- Attachment #1: Type: text/plain, Size: 1278 bytes --]
Test-Label: iol-broadcom-Performance
Test-Status: SUCCESS
http://dpdk.org/patch/85982
_Performance Testing PASS_
Submitter: Nithin Dabilpuram <ndabilpuram@marvell.com>
Date: Tuesday, January 05 2021 08:57:29
DPDK git baseline: Repo:dpdk
Branch: master
CommitID:b031e13d7f0dc7cba9bc5befe968b67832021a59
85981-85982 --> performance testing pass
Test environment and result as below:
Ubuntu 18.04
Kernel: 4.15.0-65-generic
Compiler: gcc gcc (Ubuntu 7.4.0-1ubuntu1~18.04.1) 7.4.0
NIC: Broadcom Inc. brcm_57414 25000 Mbps
Target: x86_64-native-linuxapp-gcc
Fail/Total: 0/2
Detail performance results:
+------------+---------+-------------------------------------+
| frame_size | txd/rxd | throughput difference from expected |
+============+=========+=====================================+
| 64 | 512 | -0.046 |
+------------+---------+-------------------------------------+
| 64 | 2048 | 0 |
+------------+---------+-------------------------------------+
To view detailed results, visit:
https://lab.dpdk.org/results/dashboard/patchsets/15005/
UNH-IOL DPDK Community Lab
To manage your email subscriptions, visit:
https://lab.dpdk.org/results/dashboard/preferences/subscriptions/
^ permalink raw reply [flat|nested] 14+ messages in thread
* [dpdk-test-report] |SUCCESS| pw85981-85982 [PATCH] [v2, 2/2] bitmap: modify bitmap not empty API for 128B cacheline
@ 2021-01-06 8:12 dpdklab
0 siblings, 0 replies; 14+ messages in thread
From: dpdklab @ 2021-01-06 8:12 UTC (permalink / raw)
To: Ajit Khaparde, Test Report; +Cc: dpdk-test-reports
[-- Attachment #1: Type: text/plain, Size: 805 bytes --]
Test-Label: iol-broadcom-Functional
Test-Status: SUCCESS
http://dpdk.org/patch/85982
_Functional Testing PASS_
Submitter: Nithin Dabilpuram <ndabilpuram@marvell.com>
Date: Tuesday, January 05 2021 08:57:29
DPDK git baseline: Repo:dpdk
Branch: master
CommitID:b031e13d7f0dc7cba9bc5befe968b67832021a59
85981-85982 --> functional testing pass
Test environment and result as below:
Ubuntu 18.04
Kernel: 4.15.0-65-generic
Compiler: gcc gcc (Ubuntu 7.4.0-1ubuntu1~18.04.1) 7.4.0
NIC: Broadcom Inc. brcm_57414 25000 Mbps
Target: x86_64-native-linuxapp-gcc
Fail/Total: 0/3
To view detailed results, visit:
https://lab.dpdk.org/results/dashboard/patchsets/15005/
UNH-IOL DPDK Community Lab
To manage your email subscriptions, visit:
https://lab.dpdk.org/results/dashboard/preferences/subscriptions/
^ permalink raw reply [flat|nested] 14+ messages in thread
* [dpdk-test-report] |SUCCESS| pw85981-85982 [PATCH] [v2, 2/2] bitmap: modify bitmap not empty API for 128B cacheline
@ 2021-01-06 8:03 dpdklab
0 siblings, 0 replies; 14+ messages in thread
From: dpdklab @ 2021-01-06 8:03 UTC (permalink / raw)
To: Ajit Khaparde, Test Report; +Cc: dpdk-test-reports
[-- Attachment #1: Type: text/plain, Size: 1278 bytes --]
Test-Label: iol-broadcom-Performance
Test-Status: SUCCESS
http://dpdk.org/patch/85982
_Performance Testing PASS_
Submitter: Nithin Dabilpuram <ndabilpuram@marvell.com>
Date: Tuesday, January 05 2021 08:57:29
DPDK git baseline: Repo:dpdk
Branch: master
CommitID:b031e13d7f0dc7cba9bc5befe968b67832021a59
85981-85982 --> performance testing pass
Test environment and result as below:
Ubuntu 18.04
Kernel: 4.15.0-65-generic
Compiler: gcc gcc (Ubuntu 7.4.0-1ubuntu1~18.04.1) 7.4.0
NIC: Broadcom Inc. brcm_57414 25000 Mbps
Target: x86_64-native-linuxapp-gcc
Fail/Total: 0/2
Detail performance results:
+------------+---------+-------------------------------------+
| frame_size | txd/rxd | throughput difference from expected |
+============+=========+=====================================+
| 64 | 512 | -0.043 |
+------------+---------+-------------------------------------+
| 64 | 2048 | -0.068 |
+------------+---------+-------------------------------------+
To view detailed results, visit:
https://lab.dpdk.org/results/dashboard/patchsets/15005/
UNH-IOL DPDK Community Lab
To manage your email subscriptions, visit:
https://lab.dpdk.org/results/dashboard/preferences/subscriptions/
^ permalink raw reply [flat|nested] 14+ messages in thread
* [dpdk-test-report] |SUCCESS| pw85981-85982 [PATCH] [v2, 2/2] bitmap: modify bitmap not empty API for 128B cacheline
@ 2021-01-06 7:57 dpdklab
0 siblings, 0 replies; 14+ messages in thread
From: dpdklab @ 2021-01-06 7:57 UTC (permalink / raw)
To: Ajit Khaparde, Test Report; +Cc: dpdk-test-reports
[-- Attachment #1: Type: text/plain, Size: 805 bytes --]
Test-Label: iol-broadcom-Functional
Test-Status: SUCCESS
http://dpdk.org/patch/85982
_Functional Testing PASS_
Submitter: Nithin Dabilpuram <ndabilpuram@marvell.com>
Date: Tuesday, January 05 2021 08:57:29
DPDK git baseline: Repo:dpdk
Branch: master
CommitID:b031e13d7f0dc7cba9bc5befe968b67832021a59
85981-85982 --> functional testing pass
Test environment and result as below:
Ubuntu 18.04
Kernel: 4.15.0-65-generic
Compiler: gcc gcc (Ubuntu 7.4.0-1ubuntu1~18.04.1) 7.4.0
NIC: Broadcom Inc. brcm_57414 25000 Mbps
Target: x86_64-native-linuxapp-gcc
Fail/Total: 0/3
To view detailed results, visit:
https://lab.dpdk.org/results/dashboard/patchsets/15005/
UNH-IOL DPDK Community Lab
To manage your email subscriptions, visit:
https://lab.dpdk.org/results/dashboard/preferences/subscriptions/
^ permalink raw reply [flat|nested] 14+ messages in thread
end of thread, other threads:[~2021-01-06 14:31 UTC | newest]
Thread overview: 14+ messages (download: mbox.gz / follow: Atom feed)
-- links below jump to the message on this page --
2021-01-06 9:17 [dpdk-test-report] |SUCCESS| pw85981-85982 [PATCH] [v2, 2/2] bitmap: modify bitmap not empty API for 128B cacheline dpdklab
-- strict thread matches above, loose matches on Subject: below --
2021-01-06 14:31 dpdklab
2021-01-06 14:30 dpdklab
2021-01-06 14:01 dpdklab
2021-01-06 13:39 dpdklab
2021-01-06 13:36 dpdklab
2021-01-06 13:08 dpdklab
2021-01-06 8:57 dpdklab
2021-01-06 8:49 dpdklab
2021-01-06 8:29 dpdklab
2021-01-06 8:18 dpdklab
2021-01-06 8:12 dpdklab
2021-01-06 8:03 dpdklab
2021-01-06 7:57 dpdklab
This is a public inbox, see mirroring instructions
for how to clone and mirror all data and code used for this inbox;
as well as URLs for NNTP newsgroup(s).