automatic DPDK test reports
 help / color / mirror / Atom feed
* [dpdk-test-report] |SUCCESS| pw86327-86332 [PATCH] [v4, 6/6] net/bnxt: add Rx logic for 58818 chips
@ 2021-01-12  5:54 dpdklab
  0 siblings, 0 replies; 6+ messages in thread
From: dpdklab @ 2021-01-12  5:54 UTC (permalink / raw)
  To: Test Report; +Cc: dpdk-test-reports

[-- Attachment #1: Type: text/plain, Size: 808 bytes --]

Test-Label: iol-intel-Functional
Test-Status: SUCCESS
http://dpdk.org/patch/86332

_Functional Testing PASS_

Submitter: Ajit Khaparde <ajitkhaparde@gmail.com>
Date: Monday, January 11 2021 17:44:00 
DPDK git baseline: Repo:dpdk-next-net-brcm
  Branch: master
  CommitID:c79e4dad5be970428fb8b8b6e74ad4fa7815abbc

86327-86332 --> functional testing pass

Test environment and result as below:

Ubuntu 18.04
Kernel: 4.15.0-generic
Compiler: gcc 7.4
NIC: Intel Corporation Ethernet Converged Network Adapter XL710-QDA2 40000 Mbps
Target: x86_64-native-linuxapp-gcc
Fail/Total: 0/3


To view detailed results, visit:
https://lab.dpdk.org/results/dashboard/patchsets/15093/

UNH-IOL DPDK Community Lab

To manage your email subscriptions, visit: 
https://lab.dpdk.org/results/dashboard/preferences/subscriptions/

^ permalink raw reply	[flat|nested] 6+ messages in thread

* [dpdk-test-report] |SUCCESS| pw86327-86332 [PATCH] [v4, 6/6] net/bnxt: add Rx logic for 58818 chips
@ 2021-01-12  6:12 dpdklab
  0 siblings, 0 replies; 6+ messages in thread
From: dpdklab @ 2021-01-12  6:12 UTC (permalink / raw)
  To: Test Report; +Cc: dpdk-test-reports

[-- Attachment #1: Type: text/plain, Size: 1935 bytes --]

Test-Label: iol-intel-Performance
Test-Status: SUCCESS
http://dpdk.org/patch/86332

_Performance Testing PASS_

Submitter: Ajit Khaparde <ajitkhaparde@gmail.com>
Date: Monday, January 11 2021 17:44:00 
DPDK git baseline: Repo:dpdk-next-net-brcm
  Branch: master
  CommitID:c79e4dad5be970428fb8b8b6e74ad4fa7815abbc

86327-86332 --> performance testing pass

Test environment and result as below:

Ubuntu 18.04
Kernel: 4.15.0-generic
Compiler: gcc 7.4
NIC: Intel Corporation Ethernet Converged Network Adapter XL710-QDA2 40000 Mbps
Target: x86_64-native-linuxapp-gcc
Fail/Total: 0/2

Detail performance results: 
+------------+---------+-------------------------------------+
| frame_size | txd/rxd | throughput difference from expected |
+============+=========+=====================================+
| 64         | 512     | 3.013                               |
+------------+---------+-------------------------------------+
| 64         | 2048    | 1.910                               |
+------------+---------+-------------------------------------+

Ubuntu 18.04
Kernel: 4.15.0-generic
Compiler: gcc 7.4
NIC: Intel Corporation Ethernet Converged Network Adapter 82599ES 10000 Mbps
Target: x86_64-native-linuxapp-gcc
Fail/Total: 0/2

Detail performance results: 
+------------+---------+-------------------------------------+
| frame_size | txd/rxd | throughput difference from expected |
+============+=========+=====================================+
| 64         | 512     | 1.958                               |
+------------+---------+-------------------------------------+
| 64         | 2048    | 1.228                               |
+------------+---------+-------------------------------------+

To view detailed results, visit:
https://lab.dpdk.org/results/dashboard/patchsets/15093/

UNH-IOL DPDK Community Lab

To manage your email subscriptions, visit: 
https://lab.dpdk.org/results/dashboard/preferences/subscriptions/

^ permalink raw reply	[flat|nested] 6+ messages in thread

* [dpdk-test-report] |SUCCESS| pw86327-86332 [PATCH] [v4, 6/6] net/bnxt: add Rx logic for 58818 chips
@ 2021-01-11 22:23 dpdklab
  0 siblings, 0 replies; 6+ messages in thread
From: dpdklab @ 2021-01-11 22:23 UTC (permalink / raw)
  To: Ajit Khaparde, Test Report; +Cc: dpdk-test-reports

[-- Attachment #1: Type: text/plain, Size: 1286 bytes --]

Test-Label: iol-broadcom-Performance
Test-Status: SUCCESS
http://dpdk.org/patch/86332

_Performance Testing PASS_

Submitter: Ajit Khaparde <ajitkhaparde@gmail.com>
Date: Monday, January 11 2021 17:44:00 
DPDK git baseline: Repo:dpdk-next-net-brcm
  Branch: master
  CommitID:c79e4dad5be970428fb8b8b6e74ad4fa7815abbc

86327-86332 --> performance testing pass

Test environment and result as below:

Ubuntu 18.04
Kernel: 4.15.0-65-generic
Compiler: gcc gcc (Ubuntu 7.4.0-1ubuntu1~18.04.1) 7.4.0
NIC: Broadcom Inc. brcm_57414 25000 Mbps
Target: x86_64-native-linuxapp-gcc
Fail/Total: 0/2

Detail performance results: 
+------------+---------+-------------------------------------+
| frame_size | txd/rxd | throughput difference from expected |
+============+=========+=====================================+
| 64         | 512     | 0                                   |
+------------+---------+-------------------------------------+
| 64         | 2048    | 0.068                               |
+------------+---------+-------------------------------------+

To view detailed results, visit:
https://lab.dpdk.org/results/dashboard/patchsets/15093/

UNH-IOL DPDK Community Lab

To manage your email subscriptions, visit: 
https://lab.dpdk.org/results/dashboard/preferences/subscriptions/

^ permalink raw reply	[flat|nested] 6+ messages in thread

* [dpdk-test-report] |SUCCESS| pw86327-86332 [PATCH] [v4, 6/6] net/bnxt: add Rx logic for 58818 chips
@ 2021-01-11 22:17 dpdklab
  0 siblings, 0 replies; 6+ messages in thread
From: dpdklab @ 2021-01-11 22:17 UTC (permalink / raw)
  To: Ajit Khaparde, Test Report; +Cc: dpdk-test-reports

[-- Attachment #1: Type: text/plain, Size: 813 bytes --]

Test-Label: iol-broadcom-Functional
Test-Status: SUCCESS
http://dpdk.org/patch/86332

_Functional Testing PASS_

Submitter: Ajit Khaparde <ajitkhaparde@gmail.com>
Date: Monday, January 11 2021 17:44:00 
DPDK git baseline: Repo:dpdk-next-net-brcm
  Branch: master
  CommitID:c79e4dad5be970428fb8b8b6e74ad4fa7815abbc

86327-86332 --> functional testing pass

Test environment and result as below:

Ubuntu 18.04
Kernel: 4.15.0-65-generic
Compiler: gcc gcc (Ubuntu 7.4.0-1ubuntu1~18.04.1) 7.4.0
NIC: Broadcom Inc. brcm_57414 25000 Mbps
Target: x86_64-native-linuxapp-gcc
Fail/Total: 0/3


To view detailed results, visit:
https://lab.dpdk.org/results/dashboard/patchsets/15093/

UNH-IOL DPDK Community Lab

To manage your email subscriptions, visit: 
https://lab.dpdk.org/results/dashboard/preferences/subscriptions/

^ permalink raw reply	[flat|nested] 6+ messages in thread

* [dpdk-test-report] |SUCCESS| pw86327-86332 [PATCH] [v4, 6/6] net/bnxt: add Rx logic for 58818 chips
@ 2021-01-11 22:04 dpdklab
  0 siblings, 0 replies; 6+ messages in thread
From: dpdklab @ 2021-01-11 22:04 UTC (permalink / raw)
  To: Test Report; +Cc: dpdk-test-reports

[-- Attachment #1: Type: text/plain, Size: 2744 bytes --]

Test-Label: iol-testing
Test-Status: SUCCESS
http://dpdk.org/patch/86332

_Testing PASS_

Submitter: Ajit Khaparde <ajitkhaparde@gmail.com>
Date: Monday, January 11 2021 17:44:00 
DPDK git baseline: Repo:dpdk-next-net-brcm
  Branch: master
  CommitID:c79e4dad5be970428fb8b8b6e74ad4fa7815abbc

86327-86332 --> testing pass

Test environment and result as below:

+---------------------+----------------------+--------------------+----------------+-------------------+
|     Environment     | dpdk_mingw64_compile | dpdk_meson_compile | dpdk_unit_test | dpdk_compile_spdk |
+=====================+======================+====================+================+===================+
| Windows Server 2019 | PASS                 | PASS               | SKIPPED        | SKIPPED           |
+---------------------+----------------------+--------------------+----------------+-------------------+
| FreeBSD 11.2        | SKIPPED              | PASS               | SKIPPED        | SKIPPED           |
+---------------------+----------------------+--------------------+----------------+-------------------+
| CentOS 8            | SKIPPED              | PASS               | SKIPPED        | SKIPPED           |
+---------------------+----------------------+--------------------+----------------+-------------------+
| Fedora 31           | SKIPPED              | PASS               | SKIPPED        | PASS              |
+---------------------+----------------------+--------------------+----------------+-------------------+
| openSUSE Leap 15    | SKIPPED              | PASS               | SKIPPED        | SKIPPED           |
+---------------------+----------------------+--------------------+----------------+-------------------+
| Arch Linux          | SKIPPED              | PASS               | SKIPPED        | SKIPPED           |
+---------------------+----------------------+--------------------+----------------+-------------------+
| Ubuntu 18.04        | SKIPPED              | PASS               | PASS           | PASS              |
+---------------------+----------------------+--------------------+----------------+-------------------+


Windows Server 2019
	Kernel: 10.0
	Compiler: clang 9.0

FreeBSD 11.2
	Kernel: 11.2
	Compiler: gcc 8.3

CentOS 8
	Kernel: 4.18.0.el8_0
	Compiler: gcc 8.3.1

Fedora 31
	Kernel: 5.3.16
	Compiler: gcc 9.2.1

openSUSE Leap 15
	Kernel: 4.12.14
	Compiler: gcc 7.4.1

Arch Linux
	Kernel: latest
	Compiler: gcc latest

Ubuntu 18.04
	Kernel: 4.15.0-generic
	Compiler: gcc 7.5

To view detailed results, visit:
https://lab.dpdk.org/results/dashboard/patchsets/15093/

UNH-IOL DPDK Community Lab

To manage your email subscriptions, visit: 
https://lab.dpdk.org/results/dashboard/preferences/subscriptions/

^ permalink raw reply	[flat|nested] 6+ messages in thread

* [dpdk-test-report] |SUCCESS| pw86327-86332 [PATCH] [v4, 6/6] net/bnxt: add Rx logic for 58818 chips
@ 2021-01-11 21:58 dpdklab
  0 siblings, 0 replies; 6+ messages in thread
From: dpdklab @ 2021-01-11 21:58 UTC (permalink / raw)
  To: Test Report; +Cc: dpdk-test-reports

[-- Attachment #1: Type: text/plain, Size: 793 bytes --]

Test-Label: iol-abi-testing
Test-Status: SUCCESS
http://dpdk.org/patch/86332

_Testing PASS_

Submitter: Ajit Khaparde <ajitkhaparde@gmail.com>
Date: Monday, January 11 2021 17:44:00 
DPDK git baseline: Repo:dpdk-next-net-brcm
  Branch: master
  CommitID:c79e4dad5be970428fb8b8b6e74ad4fa7815abbc

86327-86332 --> testing pass

Test environment and result as below:

+--------------+----------+
| Environment  | abi_test |
+==============+==========+
| Ubuntu 18.04 | PASS     |
+--------------+----------+


Ubuntu 18.04
	Kernel: 4.15.0-generic
	Compiler: gcc 7.5

To view detailed results, visit:
https://lab.dpdk.org/results/dashboard/patchsets/15093/

UNH-IOL DPDK Community Lab

To manage your email subscriptions, visit: 
https://lab.dpdk.org/results/dashboard/preferences/subscriptions/

^ permalink raw reply	[flat|nested] 6+ messages in thread

end of thread, other threads:[~2021-01-12  6:13 UTC | newest]

Thread overview: 6+ messages (download: mbox.gz / follow: Atom feed)
-- links below jump to the message on this page --
2021-01-12  5:54 [dpdk-test-report] |SUCCESS| pw86327-86332 [PATCH] [v4, 6/6] net/bnxt: add Rx logic for 58818 chips dpdklab
  -- strict thread matches above, loose matches on Subject: below --
2021-01-12  6:12 dpdklab
2021-01-11 22:23 dpdklab
2021-01-11 22:17 dpdklab
2021-01-11 22:04 dpdklab
2021-01-11 21:58 dpdklab

automatic DPDK test reports

This inbox may be cloned and mirrored by anyone:

	git clone --mirror https://inbox.dpdk.org/test-report/0 test-report/git/0.git

	# If you have public-inbox 1.1+ installed, you may
	# initialize and index your mirror using the following commands:
	public-inbox-init -V2 test-report test-report/ https://inbox.dpdk.org/test-report \
		test-report@dpdk.org
	public-inbox-index test-report

Example config snippet for mirrors.
Newsgroup available over NNTP:
	nntp://inbox.dpdk.org/inbox.dpdk.test-report


AGPL code for this site: git clone https://public-inbox.org/public-inbox.git