* [dpdk-test-report] |SUCCESS| pw86378-86380 [PATCH] [v2, 3/3] common/iavf: update Copyright date
@ 2021-01-12 20:49 dpdklab
0 siblings, 0 replies; 11+ messages in thread
From: dpdklab @ 2021-01-12 20:49 UTC (permalink / raw)
To: Test Report; +Cc: dpdk-test-reports
[-- Attachment #1: Type: text/plain, Size: 788 bytes --]
Test-Label: iol-intel-Functional
Test-Status: SUCCESS
http://dpdk.org/patch/86380
_Functional Testing PASS_
Submitter: Qi Zhang <qi.z.zhang@intel.com>
Date: Tuesday, January 12 2021 06:10:21
DPDK git baseline: Repo:dpdk
Branch: master
CommitID:b1fd151267e6791a7649090c185413293549d033
86378-86380 --> functional testing pass
Test environment and result as below:
Ubuntu 18.04
Kernel: 4.15.0-generic
Compiler: gcc 7.4
NIC: Intel Corporation Ethernet Converged Network Adapter XL710-QDA2 40000 Mbps
Target: x86_64-native-linuxapp-gcc
Fail/Total: 0/3
To view detailed results, visit:
https://lab.dpdk.org/results/dashboard/patchsets/15113/
UNH-IOL DPDK Community Lab
To manage your email subscriptions, visit:
https://lab.dpdk.org/results/dashboard/preferences/subscriptions/
^ permalink raw reply [flat|nested] 11+ messages in thread
* [dpdk-test-report] |SUCCESS| pw86378-86380 [PATCH] [v2, 3/3] common/iavf: update Copyright date
@ 2021-01-13 0:05 dpdklab
0 siblings, 0 replies; 11+ messages in thread
From: dpdklab @ 2021-01-13 0:05 UTC (permalink / raw)
To: Test Report; +Cc: dpdk-test-reports
[-- Attachment #1: Type: text/plain, Size: 2997 bytes --]
Test-Label: iol-testing
Test-Status: SUCCESS
http://dpdk.org/patch/86380
_Testing PASS_
Submitter: Qi Zhang <qi.z.zhang@intel.com>
Date: Tuesday, January 12 2021 06:10:21
DPDK git baseline: Repo:dpdk
Branch: master
CommitID:b1fd151267e6791a7649090c185413293549d033
86378-86380 --> testing pass
Test environment and result as below:
+---------------------+----------------------+--------------------+----------------+-------------------+
| Environment | dpdk_mingw64_compile | dpdk_meson_compile | dpdk_unit_test | dpdk_compile_spdk |
+=====================+======================+====================+================+===================+
| Windows Server 2019 | PASS | PASS | SKIPPED | SKIPPED |
+---------------------+----------------------+--------------------+----------------+-------------------+
| FreeBSD 11.2 | SKIPPED | PASS | SKIPPED | SKIPPED |
+---------------------+----------------------+--------------------+----------------+-------------------+
| CentOS 8 | SKIPPED | PASS | SKIPPED | SKIPPED |
+---------------------+----------------------+--------------------+----------------+-------------------+
| Fedora 31 | SKIPPED | PASS | SKIPPED | PASS |
+---------------------+----------------------+--------------------+----------------+-------------------+
| openSUSE Leap 15 | SKIPPED | PASS | SKIPPED | SKIPPED |
+---------------------+----------------------+--------------------+----------------+-------------------+
| Arch Linux | SKIPPED | PASS | SKIPPED | SKIPPED |
+---------------------+----------------------+--------------------+----------------+-------------------+
| Ubuntu 18.04 | SKIPPED | PASS | PASS | PASS |
+---------------------+----------------------+--------------------+----------------+-------------------+
| Ubuntu 18.04 ARM | SKIPPED | PASS | SKIPPED | SKIPPED |
+---------------------+----------------------+--------------------+----------------+-------------------+
Windows Server 2019
Kernel: 10.0
Compiler: clang 9.0
FreeBSD 11.2
Kernel: 11.2
Compiler: gcc 8.3
CentOS 8
Kernel: 4.18.0.el8_0
Compiler: gcc 8.3.1
Fedora 31
Kernel: 5.3.16
Compiler: gcc 9.2.1
openSUSE Leap 15
Kernel: 4.12.14
Compiler: gcc 7.4.1
Arch Linux
Kernel: latest
Compiler: gcc latest
Ubuntu 18.04
Kernel: 4.15.0-generic
Compiler: gcc 7.5
Ubuntu 18.04 ARM
Kernel: 5.4.0-53-generic
Compiler: gcc 9.3
To view detailed results, visit:
https://lab.dpdk.org/results/dashboard/patchsets/15113/
UNH-IOL DPDK Community Lab
To manage your email subscriptions, visit:
https://lab.dpdk.org/results/dashboard/preferences/subscriptions/
^ permalink raw reply [flat|nested] 11+ messages in thread
* [dpdk-test-report] |SUCCESS| pw86378-86380 [PATCH] [v2, 3/3] common/iavf: update Copyright date
@ 2021-01-12 22:55 dpdklab
0 siblings, 0 replies; 11+ messages in thread
From: dpdklab @ 2021-01-12 22:55 UTC (permalink / raw)
To: Test Report; +Cc: dpdk-test-reports
[-- Attachment #1: Type: text/plain, Size: 2997 bytes --]
Test-Label: iol-testing
Test-Status: SUCCESS
http://dpdk.org/patch/86380
_Testing PASS_
Submitter: Qi Zhang <qi.z.zhang@intel.com>
Date: Tuesday, January 12 2021 06:10:21
DPDK git baseline: Repo:dpdk
Branch: master
CommitID:b1fd151267e6791a7649090c185413293549d033
86378-86380 --> testing pass
Test environment and result as below:
+---------------------+----------------------+--------------------+-------------------+----------------+
| Environment | dpdk_mingw64_compile | dpdk_meson_compile | dpdk_compile_spdk | dpdk_unit_test |
+=====================+======================+====================+===================+================+
| Windows Server 2019 | PASS | PASS | SKIPPED | SKIPPED |
+---------------------+----------------------+--------------------+-------------------+----------------+
| FreeBSD 11.2 | SKIPPED | PASS | SKIPPED | SKIPPED |
+---------------------+----------------------+--------------------+-------------------+----------------+
| CentOS 8 | SKIPPED | PASS | SKIPPED | SKIPPED |
+---------------------+----------------------+--------------------+-------------------+----------------+
| Fedora 31 | SKIPPED | PASS | PASS | SKIPPED |
+---------------------+----------------------+--------------------+-------------------+----------------+
| openSUSE Leap 15 | SKIPPED | PASS | SKIPPED | SKIPPED |
+---------------------+----------------------+--------------------+-------------------+----------------+
| Arch Linux | SKIPPED | PASS | SKIPPED | SKIPPED |
+---------------------+----------------------+--------------------+-------------------+----------------+
| Ubuntu 18.04 | SKIPPED | PASS | PASS | PASS |
+---------------------+----------------------+--------------------+-------------------+----------------+
| Ubuntu 18.04 ARM | SKIPPED | PASS | SKIPPED | SKIPPED |
+---------------------+----------------------+--------------------+-------------------+----------------+
Windows Server 2019
Kernel: 10.0
Compiler: clang 9.0
FreeBSD 11.2
Kernel: 11.2
Compiler: gcc 8.3
CentOS 8
Kernel: 4.18.0.el8_0
Compiler: gcc 8.3.1
Fedora 31
Kernel: 5.3.16
Compiler: gcc 9.2.1
openSUSE Leap 15
Kernel: 4.12.14
Compiler: gcc 7.4.1
Arch Linux
Kernel: latest
Compiler: gcc latest
Ubuntu 18.04
Kernel: 4.15.0-generic
Compiler: gcc 7.5
Ubuntu 18.04 ARM
Kernel: 5.4.0-53-generic
Compiler: gcc 9.3
To view detailed results, visit:
https://lab.dpdk.org/results/dashboard/patchsets/15113/
UNH-IOL DPDK Community Lab
To manage your email subscriptions, visit:
https://lab.dpdk.org/results/dashboard/preferences/subscriptions/
^ permalink raw reply [flat|nested] 11+ messages in thread
* [dpdk-test-report] |SUCCESS| pw86378-86380 [PATCH] [v2, 3/3] common/iavf: update Copyright date
@ 2021-01-12 22:55 dpdklab
0 siblings, 0 replies; 11+ messages in thread
From: dpdklab @ 2021-01-12 22:55 UTC (permalink / raw)
To: Test Report; +Cc: dpdk-test-reports
[-- Attachment #1: Type: text/plain, Size: 920 bytes --]
Test-Label: iol-abi-testing
Test-Status: SUCCESS
http://dpdk.org/patch/86380
_Testing PASS_
Submitter: Qi Zhang <qi.z.zhang@intel.com>
Date: Tuesday, January 12 2021 06:10:21
DPDK git baseline: Repo:dpdk
Branch: master
CommitID:b1fd151267e6791a7649090c185413293549d033
86378-86380 --> testing pass
Test environment and result as below:
+------------------+----------+
| Environment | abi_test |
+==================+==========+
| Ubuntu 18.04 | PASS |
+------------------+----------+
| Ubuntu 18.04 ARM | PASS |
+------------------+----------+
Ubuntu 18.04
Kernel: 4.15.0-generic
Compiler: gcc 7.5
Ubuntu 18.04 ARM
Kernel: 5.4.0-53-generic
Compiler: gcc 9.3
To view detailed results, visit:
https://lab.dpdk.org/results/dashboard/patchsets/15113/
UNH-IOL DPDK Community Lab
To manage your email subscriptions, visit:
https://lab.dpdk.org/results/dashboard/preferences/subscriptions/
^ permalink raw reply [flat|nested] 11+ messages in thread
* [dpdk-test-report] |SUCCESS| pw86378-86380 [PATCH] [v2, 3/3] common/iavf: update Copyright date
@ 2021-01-12 21:11 dpdklab
0 siblings, 0 replies; 11+ messages in thread
From: dpdklab @ 2021-01-12 21:11 UTC (permalink / raw)
To: Test Report; +Cc: dpdk-test-reports
[-- Attachment #1: Type: text/plain, Size: 788 bytes --]
Test-Label: iol-intel-Functional
Test-Status: SUCCESS
http://dpdk.org/patch/86380
_Functional Testing PASS_
Submitter: Qi Zhang <qi.z.zhang@intel.com>
Date: Tuesday, January 12 2021 06:10:21
DPDK git baseline: Repo:dpdk
Branch: master
CommitID:b1fd151267e6791a7649090c185413293549d033
86378-86380 --> functional testing pass
Test environment and result as below:
Ubuntu 18.04
Kernel: 4.15.0-generic
Compiler: gcc 7.4
NIC: Intel Corporation Ethernet Converged Network Adapter XL710-QDA2 40000 Mbps
Target: x86_64-native-linuxapp-gcc
Fail/Total: 0/3
To view detailed results, visit:
https://lab.dpdk.org/results/dashboard/patchsets/15113/
UNH-IOL DPDK Community Lab
To manage your email subscriptions, visit:
https://lab.dpdk.org/results/dashboard/preferences/subscriptions/
^ permalink raw reply [flat|nested] 11+ messages in thread
* [dpdk-test-report] |SUCCESS| pw86378-86380 [PATCH] [v2, 3/3] common/iavf: update Copyright date
@ 2021-01-12 21:02 dpdklab
0 siblings, 0 replies; 11+ messages in thread
From: dpdklab @ 2021-01-12 21:02 UTC (permalink / raw)
To: Test Report; +Cc: dpdk-test-reports
[-- Attachment #1: Type: text/plain, Size: 1915 bytes --]
Test-Label: iol-intel-Performance
Test-Status: SUCCESS
http://dpdk.org/patch/86380
_Performance Testing PASS_
Submitter: Qi Zhang <qi.z.zhang@intel.com>
Date: Tuesday, January 12 2021 06:10:21
DPDK git baseline: Repo:dpdk
Branch: master
CommitID:b1fd151267e6791a7649090c185413293549d033
86378-86380 --> performance testing pass
Test environment and result as below:
Ubuntu 18.04
Kernel: 4.15.0-generic
Compiler: gcc 7.4
NIC: Intel Corporation Ethernet Converged Network Adapter 82599ES 10000 Mbps
Target: x86_64-native-linuxapp-gcc
Fail/Total: 0/2
Detail performance results:
+------------+---------+-------------------------------------+
| frame_size | txd/rxd | throughput difference from expected |
+============+=========+=====================================+
| 64 | 512 | 1.967 |
+------------+---------+-------------------------------------+
| 64 | 2048 | 1.033 |
+------------+---------+-------------------------------------+
Ubuntu 18.04
Kernel: 4.15.0-generic
Compiler: gcc 7.4
NIC: Intel Corporation Ethernet Converged Network Adapter XL710-QDA2 40000 Mbps
Target: x86_64-native-linuxapp-gcc
Fail/Total: 0/2
Detail performance results:
+------------+---------+-------------------------------------+
| frame_size | txd/rxd | throughput difference from expected |
+============+=========+=====================================+
| 64 | 512 | 2.765 |
+------------+---------+-------------------------------------+
| 64 | 2048 | 1.900 |
+------------+---------+-------------------------------------+
To view detailed results, visit:
https://lab.dpdk.org/results/dashboard/patchsets/15113/
UNH-IOL DPDK Community Lab
To manage your email subscriptions, visit:
https://lab.dpdk.org/results/dashboard/preferences/subscriptions/
^ permalink raw reply [flat|nested] 11+ messages in thread
* [dpdk-test-report] |SUCCESS| pw86378-86380 [PATCH] [v2, 3/3] common/iavf: update Copyright date
@ 2021-01-12 20:38 dpdklab
0 siblings, 0 replies; 11+ messages in thread
From: dpdklab @ 2021-01-12 20:38 UTC (permalink / raw)
To: Test Report; +Cc: dpdk-test-reports
[-- Attachment #1: Type: text/plain, Size: 1915 bytes --]
Test-Label: iol-intel-Performance
Test-Status: SUCCESS
http://dpdk.org/patch/86380
_Performance Testing PASS_
Submitter: Qi Zhang <qi.z.zhang@intel.com>
Date: Tuesday, January 12 2021 06:10:21
DPDK git baseline: Repo:dpdk
Branch: master
CommitID:b1fd151267e6791a7649090c185413293549d033
86378-86380 --> performance testing pass
Test environment and result as below:
Ubuntu 18.04
Kernel: 4.15.0-generic
Compiler: gcc 7.4
NIC: Intel Corporation Ethernet Converged Network Adapter 82599ES 10000 Mbps
Target: x86_64-native-linuxapp-gcc
Fail/Total: 0/2
Detail performance results:
+------------+---------+-------------------------------------+
| frame_size | txd/rxd | throughput difference from expected |
+============+=========+=====================================+
| 64 | 512 | 1.823 |
+------------+---------+-------------------------------------+
| 64 | 2048 | 1.243 |
+------------+---------+-------------------------------------+
Ubuntu 18.04
Kernel: 4.15.0-generic
Compiler: gcc 7.4
NIC: Intel Corporation Ethernet Converged Network Adapter XL710-QDA2 40000 Mbps
Target: x86_64-native-linuxapp-gcc
Fail/Total: 0/2
Detail performance results:
+------------+---------+-------------------------------------+
| frame_size | txd/rxd | throughput difference from expected |
+============+=========+=====================================+
| 64 | 512 | 2.603 |
+------------+---------+-------------------------------------+
| 64 | 2048 | 1.983 |
+------------+---------+-------------------------------------+
To view detailed results, visit:
https://lab.dpdk.org/results/dashboard/patchsets/15113/
UNH-IOL DPDK Community Lab
To manage your email subscriptions, visit:
https://lab.dpdk.org/results/dashboard/preferences/subscriptions/
^ permalink raw reply [flat|nested] 11+ messages in thread
* [dpdk-test-report] |SUCCESS| pw86378-86380 [PATCH] [v2, 3/3] common/iavf: update Copyright date
@ 2021-01-12 7:42 dpdklab
0 siblings, 0 replies; 11+ messages in thread
From: dpdklab @ 2021-01-12 7:42 UTC (permalink / raw)
To: Ajit Khaparde, Test Report; +Cc: dpdk-test-reports
[-- Attachment #1: Type: text/plain, Size: 796 bytes --]
Test-Label: iol-broadcom-Functional
Test-Status: SUCCESS
http://dpdk.org/patch/86380
_Functional Testing PASS_
Submitter: Zhang, Qi Z <qi.z.zhang@intel.com>
Date: Tuesday, January 12 2021 06:10:21
DPDK git baseline: Repo:dpdk
Branch: master
CommitID:b1fd151267e6791a7649090c185413293549d033
86378-86380 --> functional testing pass
Test environment and result as below:
Ubuntu 18.04
Kernel: 4.15.0-65-generic
Compiler: gcc gcc (Ubuntu 7.4.0-1ubuntu1~18.04.1) 7.4.0
NIC: Broadcom Inc. brcm_57414 25000 Mbps
Target: x86_64-native-linuxapp-gcc
Fail/Total: 0/3
To view detailed results, visit:
https://lab.dpdk.org/results/dashboard/patchsets/15113/
UNH-IOL DPDK Community Lab
To manage your email subscriptions, visit:
https://lab.dpdk.org/results/dashboard/preferences/subscriptions/
^ permalink raw reply [flat|nested] 11+ messages in thread
* [dpdk-test-report] |SUCCESS| pw86378-86380 [PATCH] [v2, 3/3] common/iavf: update Copyright date
@ 2021-01-12 7:33 dpdklab
0 siblings, 0 replies; 11+ messages in thread
From: dpdklab @ 2021-01-12 7:33 UTC (permalink / raw)
To: Ajit Khaparde, Test Report; +Cc: dpdk-test-reports
[-- Attachment #1: Type: text/plain, Size: 1269 bytes --]
Test-Label: iol-broadcom-Performance
Test-Status: SUCCESS
http://dpdk.org/patch/86380
_Performance Testing PASS_
Submitter: Zhang, Qi Z <qi.z.zhang@intel.com>
Date: Tuesday, January 12 2021 06:10:21
DPDK git baseline: Repo:dpdk
Branch: master
CommitID:b1fd151267e6791a7649090c185413293549d033
86378-86380 --> performance testing pass
Test environment and result as below:
Ubuntu 18.04
Kernel: 4.15.0-65-generic
Compiler: gcc gcc (Ubuntu 7.4.0-1ubuntu1~18.04.1) 7.4.0
NIC: Broadcom Inc. brcm_57414 25000 Mbps
Target: x86_64-native-linuxapp-gcc
Fail/Total: 0/2
Detail performance results:
+------------+---------+-------------------------------------+
| frame_size | txd/rxd | throughput difference from expected |
+============+=========+=====================================+
| 64 | 512 | 0.085 |
+------------+---------+-------------------------------------+
| 64 | 2048 | -0.073 |
+------------+---------+-------------------------------------+
To view detailed results, visit:
https://lab.dpdk.org/results/dashboard/patchsets/15113/
UNH-IOL DPDK Community Lab
To manage your email subscriptions, visit:
https://lab.dpdk.org/results/dashboard/preferences/subscriptions/
^ permalink raw reply [flat|nested] 11+ messages in thread
* [dpdk-test-report] |SUCCESS| pw86378-86380 [PATCH] [v2, 3/3] common/iavf: update Copyright date
@ 2021-01-12 7:10 dpdklab
0 siblings, 0 replies; 11+ messages in thread
From: dpdklab @ 2021-01-12 7:10 UTC (permalink / raw)
To: Ajit Khaparde, Test Report; +Cc: dpdk-test-reports
[-- Attachment #1: Type: text/plain, Size: 1269 bytes --]
Test-Label: iol-broadcom-Performance
Test-Status: SUCCESS
http://dpdk.org/patch/86380
_Performance Testing PASS_
Submitter: Zhang, Qi Z <qi.z.zhang@intel.com>
Date: Tuesday, January 12 2021 06:10:21
DPDK git baseline: Repo:dpdk
Branch: master
CommitID:b1fd151267e6791a7649090c185413293549d033
86378-86380 --> performance testing pass
Test environment and result as below:
Ubuntu 18.04
Kernel: 4.15.0-65-generic
Compiler: gcc gcc (Ubuntu 7.4.0-1ubuntu1~18.04.1) 7.4.0
NIC: Broadcom Inc. brcm_57414 25000 Mbps
Target: x86_64-native-linuxapp-gcc
Fail/Total: 0/2
Detail performance results:
+------------+---------+-------------------------------------+
| frame_size | txd/rxd | throughput difference from expected |
+============+=========+=====================================+
| 64 | 512 | 0.091 |
+------------+---------+-------------------------------------+
| 64 | 2048 | -0.026 |
+------------+---------+-------------------------------------+
To view detailed results, visit:
https://lab.dpdk.org/results/dashboard/patchsets/15113/
UNH-IOL DPDK Community Lab
To manage your email subscriptions, visit:
https://lab.dpdk.org/results/dashboard/preferences/subscriptions/
^ permalink raw reply [flat|nested] 11+ messages in thread
* [dpdk-test-report] |SUCCESS| pw86378-86380 [PATCH] [v2, 3/3] common/iavf: update Copyright date
@ 2021-01-12 7:05 dpdklab
0 siblings, 0 replies; 11+ messages in thread
From: dpdklab @ 2021-01-12 7:05 UTC (permalink / raw)
To: Ajit Khaparde, Test Report; +Cc: dpdk-test-reports
[-- Attachment #1: Type: text/plain, Size: 796 bytes --]
Test-Label: iol-broadcom-Functional
Test-Status: SUCCESS
http://dpdk.org/patch/86380
_Functional Testing PASS_
Submitter: Zhang, Qi Z <qi.z.zhang@intel.com>
Date: Tuesday, January 12 2021 06:10:21
DPDK git baseline: Repo:dpdk
Branch: master
CommitID:b1fd151267e6791a7649090c185413293549d033
86378-86380 --> functional testing pass
Test environment and result as below:
Ubuntu 18.04
Kernel: 4.15.0-65-generic
Compiler: gcc gcc (Ubuntu 7.4.0-1ubuntu1~18.04.1) 7.4.0
NIC: Broadcom Inc. brcm_57414 25000 Mbps
Target: x86_64-native-linuxapp-gcc
Fail/Total: 0/3
To view detailed results, visit:
https://lab.dpdk.org/results/dashboard/patchsets/15113/
UNH-IOL DPDK Community Lab
To manage your email subscriptions, visit:
https://lab.dpdk.org/results/dashboard/preferences/subscriptions/
^ permalink raw reply [flat|nested] 11+ messages in thread
end of thread, other threads:[~2021-01-13 0:05 UTC | newest]
Thread overview: 11+ messages (download: mbox.gz / follow: Atom feed)
-- links below jump to the message on this page --
2021-01-12 20:49 [dpdk-test-report] |SUCCESS| pw86378-86380 [PATCH] [v2, 3/3] common/iavf: update Copyright date dpdklab
-- strict thread matches above, loose matches on Subject: below --
2021-01-13 0:05 dpdklab
2021-01-12 22:55 dpdklab
2021-01-12 22:55 dpdklab
2021-01-12 21:11 dpdklab
2021-01-12 21:02 dpdklab
2021-01-12 20:38 dpdklab
2021-01-12 7:42 dpdklab
2021-01-12 7:33 dpdklab
2021-01-12 7:10 dpdklab
2021-01-12 7:05 dpdklab
This is a public inbox, see mirroring instructions
for how to clone and mirror all data and code used for this inbox;
as well as URLs for NNTP newsgroup(s).