* [dpdk-test-report] |SUCCESS| pw86708 [PATCH] ethdev: rename FEC API parameters
@ 2021-01-15 17:17 dpdklab
0 siblings, 0 replies; 13+ messages in thread
From: dpdklab @ 2021-01-15 17:17 UTC (permalink / raw)
To: Ajit Khaparde, Test Report; +Cc: dpdk-test-reports
[-- Attachment #1: Type: text/plain, Size: 792 bytes --]
Test-Label: iol-broadcom-Functional
Test-Status: SUCCESS
http://dpdk.org/patch/86708
_Functional Testing PASS_
Submitter: Ferruh Yigit <ferruh.yigit@intel.com>
Date: Friday, January 15 2021 15:52:32
DPDK git baseline: Repo:dpdk
Branch: master
CommitID:8e266978e4e75d3c444b443c1fdab485b2990ad4
86708 --> functional testing pass
Test environment and result as below:
Ubuntu 18.04
Kernel: 4.15.0-65-generic
Compiler: gcc gcc (Ubuntu 7.4.0-1ubuntu1~18.04.1) 7.4.0
NIC: Broadcom Inc. brcm_57414 25000 Mbps
Target: x86_64-native-linuxapp-gcc
Fail/Total: 0/3
To view detailed results, visit:
https://lab.dpdk.org/results/dashboard/patchsets/15228/
UNH-IOL DPDK Community Lab
To manage your email subscriptions, visit:
https://lab.dpdk.org/results/dashboard/preferences/subscriptions/
^ permalink raw reply [flat|nested] 13+ messages in thread
* [dpdk-test-report] |SUCCESS| pw86708 [PATCH] ethdev: rename FEC API parameters
@ 2021-01-19 7:07 dpdklab
0 siblings, 0 replies; 13+ messages in thread
From: dpdklab @ 2021-01-19 7:07 UTC (permalink / raw)
To: Test Report; +Cc: dpdk-test-reports
[-- Attachment #1: Type: text/plain, Size: 919 bytes --]
Test-Label: iol-abi-testing
Test-Status: SUCCESS
http://dpdk.org/patch/86708
_Testing PASS_
Submitter: Ferruh Yigit <ferruh.yigit@intel.com>
Date: Friday, January 15 2021 15:52:32
DPDK git baseline: Repo:dpdk
Branch: master
CommitID:8e266978e4e75d3c444b443c1fdab485b2990ad4
86708 --> testing pass
Test environment and result as below:
+------------------+----------+
| Environment | abi_test |
+==================+==========+
| Ubuntu 18.04 | PASS |
+------------------+----------+
| Ubuntu 18.04 ARM | PASS |
+------------------+----------+
Ubuntu 18.04
Kernel: 4.15.0-generic
Compiler: gcc 7.5
Ubuntu 18.04 ARM
Kernel: 5.4.0-53-generic
Compiler: gcc 9.3
To view detailed results, visit:
https://lab.dpdk.org/results/dashboard/patchsets/15228/
UNH-IOL DPDK Community Lab
To manage your email subscriptions, visit:
https://lab.dpdk.org/results/dashboard/preferences/subscriptions/
^ permalink raw reply [flat|nested] 13+ messages in thread
* [dpdk-test-report] |SUCCESS| pw86708 [PATCH] ethdev: rename FEC API parameters
@ 2021-01-19 5:38 dpdklab
0 siblings, 0 replies; 13+ messages in thread
From: dpdklab @ 2021-01-19 5:38 UTC (permalink / raw)
To: Test Report; +Cc: dpdk-test-reports
[-- Attachment #1: Type: text/plain, Size: 919 bytes --]
Test-Label: iol-abi-testing
Test-Status: SUCCESS
http://dpdk.org/patch/86708
_Testing PASS_
Submitter: Ferruh Yigit <ferruh.yigit@intel.com>
Date: Friday, January 15 2021 15:52:32
DPDK git baseline: Repo:dpdk
Branch: master
CommitID:8e266978e4e75d3c444b443c1fdab485b2990ad4
86708 --> testing pass
Test environment and result as below:
+------------------+----------+
| Environment | abi_test |
+==================+==========+
| Ubuntu 18.04 | PASS |
+------------------+----------+
| Ubuntu 18.04 ARM | PASS |
+------------------+----------+
Ubuntu 18.04
Kernel: 4.15.0-generic
Compiler: gcc 7.5
Ubuntu 18.04 ARM
Kernel: 5.4.0-53-generic
Compiler: gcc 9.3
To view detailed results, visit:
https://lab.dpdk.org/results/dashboard/patchsets/15228/
UNH-IOL DPDK Community Lab
To manage your email subscriptions, visit:
https://lab.dpdk.org/results/dashboard/preferences/subscriptions/
^ permalink raw reply [flat|nested] 13+ messages in thread
* [dpdk-test-report] |SUCCESS| pw86708 [PATCH] ethdev: rename FEC API parameters
@ 2021-01-18 4:06 dpdklab
0 siblings, 0 replies; 13+ messages in thread
From: dpdklab @ 2021-01-18 4:06 UTC (permalink / raw)
To: Ali Alnubani, Test Report; +Cc: dpdk-test-reports
[-- Attachment #1: Type: text/plain, Size: 3964 bytes --]
Test-Label: iol-mellanox-Performance
Test-Status: SUCCESS
http://dpdk.org/patch/86708
_Performance Testing PASS_
Submitter: Ferruh Yigit <ferruh.yigit@intel.com>
Date: Friday, January 15 2021 15:52:32
DPDK git baseline: Repo:dpdk
Branch: master
CommitID:8e266978e4e75d3c444b443c1fdab485b2990ad4
86708 --> performance testing pass
Test environment and result as below:
Ubuntu 18.04
Kernel: 4.15.0-generic
Compiler: gcc 7.4
NIC: Mellanox ConnectX-5 100000 Mbps
Target: x86_64-native-linuxapp-gcc
Fail/Total: 0/6
Detail performance results:
+------------+---------+-------------------------------------+
| frame_size | txd/rxd | throughput difference from expected |
+============+=========+=====================================+
| 64 | 256 | 0.136 |
+------------+---------+-------------------------------------+
| 128 | 256 | -0.156 |
+------------+---------+-------------------------------------+
| 256 | 256 | -0.042 |
+------------+---------+-------------------------------------+
| 512 | 256 | 0.040 |
+------------+---------+-------------------------------------+
| 1024 | 256 | -0.036 |
+------------+---------+-------------------------------------+
| 1518 | 256 | 0.025 |
+------------+---------+-------------------------------------+
Ubuntu 18.04
Kernel: 4.15.0-generic
Compiler: gcc 7.4
NIC: Mellanox ConnectX-4 Lx 25000 Mbps
Target: x86_64-native-linuxapp-gcc
Fail/Total: 0/6
Detail performance results:
+------------+---------+-------------------------------------+
| frame_size | txd/rxd | throughput difference from expected |
+============+=========+=====================================+
| 64 | 256 | 0.160 |
+------------+---------+-------------------------------------+
| 128 | 256 | -0.265 |
+------------+---------+-------------------------------------+
| 256 | 256 | 0.159 |
+------------+---------+-------------------------------------+
| 512 | 256 | 0.047 |
+------------+---------+-------------------------------------+
| 1024 | 256 | 0.011 |
+------------+---------+-------------------------------------+
| 1518 | 256 | -0.008 |
+------------+---------+-------------------------------------+
Ubuntu 18.04
Kernel: 4.15.0-generic
Compiler: gcc 7.4
NIC: Mellanox ConnectX-4 Lx 40000 Mbps
Target: x86_64-native-linuxapp-gcc
Fail/Total: 0/6
Detail performance results:
+------------+---------+-------------------------------------+
| frame_size | txd/rxd | throughput difference from expected |
+============+=========+=====================================+
| 64 | 256 | -0.016 |
+------------+---------+-------------------------------------+
| 128 | 256 | 0.009 |
+------------+---------+-------------------------------------+
| 256 | 256 | -0.117 |
+------------+---------+-------------------------------------+
| 512 | 256 | -0.070 |
+------------+---------+-------------------------------------+
| 1024 | 256 | -0.020 |
+------------+---------+-------------------------------------+
| 1518 | 256 | 0.007 |
+------------+---------+-------------------------------------+
To view detailed results, visit:
https://lab.dpdk.org/results/dashboard/patchsets/15228/
UNH-IOL DPDK Community Lab
To manage your email subscriptions, visit:
https://lab.dpdk.org/results/dashboard/preferences/subscriptions/
^ permalink raw reply [flat|nested] 13+ messages in thread
* [dpdk-test-report] |SUCCESS| pw86708 [PATCH] ethdev: rename FEC API parameters
@ 2021-01-18 3:16 dpdklab
0 siblings, 0 replies; 13+ messages in thread
From: dpdklab @ 2021-01-18 3:16 UTC (permalink / raw)
To: Ali Alnubani, Test Report; +Cc: dpdk-test-reports
[-- Attachment #1: Type: text/plain, Size: 3964 bytes --]
Test-Label: iol-mellanox-Performance
Test-Status: SUCCESS
http://dpdk.org/patch/86708
_Performance Testing PASS_
Submitter: Ferruh Yigit <ferruh.yigit@intel.com>
Date: Friday, January 15 2021 15:52:32
DPDK git baseline: Repo:dpdk
Branch: master
CommitID:8e266978e4e75d3c444b443c1fdab485b2990ad4
86708 --> performance testing pass
Test environment and result as below:
Ubuntu 18.04
Kernel: 4.15.0-generic
Compiler: gcc 7.4
NIC: Mellanox ConnectX-5 100000 Mbps
Target: x86_64-native-linuxapp-gcc
Fail/Total: 0/6
Detail performance results:
+------------+---------+-------------------------------------+
| frame_size | txd/rxd | throughput difference from expected |
+============+=========+=====================================+
| 64 | 256 | 0.187 |
+------------+---------+-------------------------------------+
| 128 | 256 | -0.116 |
+------------+---------+-------------------------------------+
| 256 | 256 | 0.091 |
+------------+---------+-------------------------------------+
| 512 | 256 | -0.270 |
+------------+---------+-------------------------------------+
| 1024 | 256 | -0.097 |
+------------+---------+-------------------------------------+
| 1518 | 256 | 0.008 |
+------------+---------+-------------------------------------+
Ubuntu 18.04
Kernel: 4.15.0-generic
Compiler: gcc 7.4
NIC: Mellanox ConnectX-4 Lx 25000 Mbps
Target: x86_64-native-linuxapp-gcc
Fail/Total: 0/6
Detail performance results:
+------------+---------+-------------------------------------+
| frame_size | txd/rxd | throughput difference from expected |
+============+=========+=====================================+
| 64 | 256 | 0.097 |
+------------+---------+-------------------------------------+
| 128 | 256 | -0.137 |
+------------+---------+-------------------------------------+
| 256 | 256 | 0.054 |
+------------+---------+-------------------------------------+
| 512 | 256 | 0.071 |
+------------+---------+-------------------------------------+
| 1024 | 256 | -0.002 |
+------------+---------+-------------------------------------+
| 1518 | 256 | 0.002 |
+------------+---------+-------------------------------------+
Ubuntu 18.04
Kernel: 4.15.0-generic
Compiler: gcc 7.4
NIC: Mellanox ConnectX-4 Lx 40000 Mbps
Target: x86_64-native-linuxapp-gcc
Fail/Total: 0/6
Detail performance results:
+------------+---------+-------------------------------------+
| frame_size | txd/rxd | throughput difference from expected |
+============+=========+=====================================+
| 64 | 256 | -0.036 |
+------------+---------+-------------------------------------+
| 128 | 256 | -0.048 |
+------------+---------+-------------------------------------+
| 256 | 256 | -0.362 |
+------------+---------+-------------------------------------+
| 512 | 256 | -0.071 |
+------------+---------+-------------------------------------+
| 1024 | 256 | -0.024 |
+------------+---------+-------------------------------------+
| 1518 | 256 | -0.003 |
+------------+---------+-------------------------------------+
To view detailed results, visit:
https://lab.dpdk.org/results/dashboard/patchsets/15228/
UNH-IOL DPDK Community Lab
To manage your email subscriptions, visit:
https://lab.dpdk.org/results/dashboard/preferences/subscriptions/
^ permalink raw reply [flat|nested] 13+ messages in thread
* [dpdk-test-report] |SUCCESS| pw86708 [PATCH] ethdev: rename FEC API parameters
@ 2021-01-17 0:21 dpdklab
0 siblings, 0 replies; 13+ messages in thread
From: dpdklab @ 2021-01-17 0:21 UTC (permalink / raw)
To: Ali Alnubani, Test Report; +Cc: dpdk-test-reports
[-- Attachment #1: Type: text/plain, Size: 895 bytes --]
Test-Label: iol-mellanox-Functional
Test-Status: SUCCESS
http://dpdk.org/patch/86708
_Functional Testing PASS_
Submitter: Ferruh Yigit <ferruh.yigit@intel.com>
Date: Friday, January 15 2021 15:52:32
DPDK git baseline: Repo:dpdk
Branch: master
CommitID:8e266978e4e75d3c444b443c1fdab485b2990ad4
86708 --> functional testing pass
Test environment and result as below:
Ubuntu 18.04
Kernel: 4.15.0-generic
Compiler: gcc 7.4
NIC: Mellanox ConnectX-4 Lx 25000 Mbps
Target: x86_64-native-linuxapp-gcc
Fail/Total: 0/5
Ubuntu 18.04
Kernel: 4.15.0-generic
Compiler: gcc 7.4
NIC: Mellanox ConnectX-4 Lx 40000 Mbps
Target: x86_64-native-linuxapp-gcc
Fail/Total: 0/5
To view detailed results, visit:
https://lab.dpdk.org/results/dashboard/patchsets/15228/
UNH-IOL DPDK Community Lab
To manage your email subscriptions, visit:
https://lab.dpdk.org/results/dashboard/preferences/subscriptions/
^ permalink raw reply [flat|nested] 13+ messages in thread
* [dpdk-test-report] |SUCCESS| pw86708 [PATCH] ethdev: rename FEC API parameters
@ 2021-01-16 23:30 dpdklab
0 siblings, 0 replies; 13+ messages in thread
From: dpdklab @ 2021-01-16 23:30 UTC (permalink / raw)
To: Ali Alnubani, Test Report; +Cc: dpdk-test-reports
[-- Attachment #1: Type: text/plain, Size: 895 bytes --]
Test-Label: iol-mellanox-Functional
Test-Status: SUCCESS
http://dpdk.org/patch/86708
_Functional Testing PASS_
Submitter: Ferruh Yigit <ferruh.yigit@intel.com>
Date: Friday, January 15 2021 15:52:32
DPDK git baseline: Repo:dpdk
Branch: master
CommitID:8e266978e4e75d3c444b443c1fdab485b2990ad4
86708 --> functional testing pass
Test environment and result as below:
Ubuntu 18.04
Kernel: 4.15.0-generic
Compiler: gcc 7.4
NIC: Mellanox ConnectX-4 Lx 25000 Mbps
Target: x86_64-native-linuxapp-gcc
Fail/Total: 0/5
Ubuntu 18.04
Kernel: 4.15.0-generic
Compiler: gcc 7.4
NIC: Mellanox ConnectX-4 Lx 40000 Mbps
Target: x86_64-native-linuxapp-gcc
Fail/Total: 0/5
To view detailed results, visit:
https://lab.dpdk.org/results/dashboard/patchsets/15228/
UNH-IOL DPDK Community Lab
To manage your email subscriptions, visit:
https://lab.dpdk.org/results/dashboard/preferences/subscriptions/
^ permalink raw reply [flat|nested] 13+ messages in thread
* [dpdk-test-report] |SUCCESS| pw86708 [PATCH] ethdev: rename FEC API parameters
@ 2021-01-15 18:05 dpdklab
0 siblings, 0 replies; 13+ messages in thread
From: dpdklab @ 2021-01-15 18:05 UTC (permalink / raw)
To: Test Report; +Cc: dpdk-test-reports
[-- Attachment #1: Type: text/plain, Size: 1260 bytes --]
Test-Label: iol-intel-Performance
Test-Status: SUCCESS
http://dpdk.org/patch/86708
_Performance Testing PASS_
Submitter: Ferruh Yigit <ferruh.yigit@intel.com>
Date: Friday, January 15 2021 15:52:32
DPDK git baseline: Repo:dpdk
Branch: master
CommitID:8e266978e4e75d3c444b443c1fdab485b2990ad4
86708 --> performance testing pass
Test environment and result as below:
Ubuntu 18.04
Kernel: 4.15.0-generic
Compiler: gcc 7.4
NIC: Intel Corporation Ethernet Converged Network Adapter XL710-QDA2 40000 Mbps
Target: x86_64-native-linuxapp-gcc
Fail/Total: 0/2
Detail performance results:
+------------+---------+-------------------------------------+
| frame_size | txd/rxd | throughput difference from expected |
+============+=========+=====================================+
| 64 | 512 | 2.665 |
+------------+---------+-------------------------------------+
| 64 | 2048 | 1.996 |
+------------+---------+-------------------------------------+
To view detailed results, visit:
https://lab.dpdk.org/results/dashboard/patchsets/15228/
UNH-IOL DPDK Community Lab
To manage your email subscriptions, visit:
https://lab.dpdk.org/results/dashboard/preferences/subscriptions/
^ permalink raw reply [flat|nested] 13+ messages in thread
* [dpdk-test-report] |SUCCESS| pw86708 [PATCH] ethdev: rename FEC API parameters
@ 2021-01-15 17:51 dpdklab
0 siblings, 0 replies; 13+ messages in thread
From: dpdklab @ 2021-01-15 17:51 UTC (permalink / raw)
To: Test Report; +Cc: dpdk-test-reports
[-- Attachment #1: Type: text/plain, Size: 787 bytes --]
Test-Label: iol-intel-Functional
Test-Status: SUCCESS
http://dpdk.org/patch/86708
_Functional Testing PASS_
Submitter: Ferruh Yigit <ferruh.yigit@intel.com>
Date: Friday, January 15 2021 15:52:32
DPDK git baseline: Repo:dpdk
Branch: master
CommitID:8e266978e4e75d3c444b443c1fdab485b2990ad4
86708 --> functional testing pass
Test environment and result as below:
Ubuntu 18.04
Kernel: 4.15.0-generic
Compiler: gcc 7.4
NIC: Intel Corporation Ethernet Converged Network Adapter XL710-QDA2 40000 Mbps
Target: x86_64-native-linuxapp-gcc
Fail/Total: 0/3
To view detailed results, visit:
https://lab.dpdk.org/results/dashboard/patchsets/15228/
UNH-IOL DPDK Community Lab
To manage your email subscriptions, visit:
https://lab.dpdk.org/results/dashboard/preferences/subscriptions/
^ permalink raw reply [flat|nested] 13+ messages in thread
* [dpdk-test-report] |SUCCESS| pw86708 [PATCH] ethdev: rename FEC API parameters
@ 2021-01-15 17:48 dpdklab
0 siblings, 0 replies; 13+ messages in thread
From: dpdklab @ 2021-01-15 17:48 UTC (permalink / raw)
To: Ajit Khaparde, Test Report; +Cc: dpdk-test-reports
[-- Attachment #1: Type: text/plain, Size: 792 bytes --]
Test-Label: iol-broadcom-Functional
Test-Status: SUCCESS
http://dpdk.org/patch/86708
_Functional Testing PASS_
Submitter: Ferruh Yigit <ferruh.yigit@intel.com>
Date: Friday, January 15 2021 15:52:32
DPDK git baseline: Repo:dpdk
Branch: master
CommitID:8e266978e4e75d3c444b443c1fdab485b2990ad4
86708 --> functional testing pass
Test environment and result as below:
Ubuntu 18.04
Kernel: 4.15.0-65-generic
Compiler: gcc gcc (Ubuntu 7.4.0-1ubuntu1~18.04.1) 7.4.0
NIC: Broadcom Inc. brcm_57414 25000 Mbps
Target: x86_64-native-linuxapp-gcc
Fail/Total: 0/3
To view detailed results, visit:
https://lab.dpdk.org/results/dashboard/patchsets/15228/
UNH-IOL DPDK Community Lab
To manage your email subscriptions, visit:
https://lab.dpdk.org/results/dashboard/preferences/subscriptions/
^ permalink raw reply [flat|nested] 13+ messages in thread
* [dpdk-test-report] |SUCCESS| pw86708 [PATCH] ethdev: rename FEC API parameters
@ 2021-01-15 17:34 dpdklab
0 siblings, 0 replies; 13+ messages in thread
From: dpdklab @ 2021-01-15 17:34 UTC (permalink / raw)
To: Test Report; +Cc: dpdk-test-reports
[-- Attachment #1: Type: text/plain, Size: 1260 bytes --]
Test-Label: iol-intel-Performance
Test-Status: SUCCESS
http://dpdk.org/patch/86708
_Performance Testing PASS_
Submitter: Ferruh Yigit <ferruh.yigit@intel.com>
Date: Friday, January 15 2021 15:52:32
DPDK git baseline: Repo:dpdk
Branch: master
CommitID:8e266978e4e75d3c444b443c1fdab485b2990ad4
86708 --> performance testing pass
Test environment and result as below:
Ubuntu 18.04
Kernel: 4.15.0-generic
Compiler: gcc 7.4
NIC: Intel Corporation Ethernet Converged Network Adapter XL710-QDA2 40000 Mbps
Target: x86_64-native-linuxapp-gcc
Fail/Total: 0/2
Detail performance results:
+------------+---------+-------------------------------------+
| frame_size | txd/rxd | throughput difference from expected |
+============+=========+=====================================+
| 64 | 512 | 3.057 |
+------------+---------+-------------------------------------+
| 64 | 2048 | 1.798 |
+------------+---------+-------------------------------------+
To view detailed results, visit:
https://lab.dpdk.org/results/dashboard/patchsets/15228/
UNH-IOL DPDK Community Lab
To manage your email subscriptions, visit:
https://lab.dpdk.org/results/dashboard/preferences/subscriptions/
^ permalink raw reply [flat|nested] 13+ messages in thread
* [dpdk-test-report] |SUCCESS| pw86708 [PATCH] ethdev: rename FEC API parameters
@ 2021-01-15 17:20 dpdklab
0 siblings, 0 replies; 13+ messages in thread
From: dpdklab @ 2021-01-15 17:20 UTC (permalink / raw)
To: Test Report; +Cc: dpdk-test-reports
[-- Attachment #1: Type: text/plain, Size: 787 bytes --]
Test-Label: iol-intel-Functional
Test-Status: SUCCESS
http://dpdk.org/patch/86708
_Functional Testing PASS_
Submitter: Ferruh Yigit <ferruh.yigit@intel.com>
Date: Friday, January 15 2021 15:52:32
DPDK git baseline: Repo:dpdk
Branch: master
CommitID:8e266978e4e75d3c444b443c1fdab485b2990ad4
86708 --> functional testing pass
Test environment and result as below:
Ubuntu 18.04
Kernel: 4.15.0-generic
Compiler: gcc 7.4
NIC: Intel Corporation Ethernet Converged Network Adapter XL710-QDA2 40000 Mbps
Target: x86_64-native-linuxapp-gcc
Fail/Total: 0/3
To view detailed results, visit:
https://lab.dpdk.org/results/dashboard/patchsets/15228/
UNH-IOL DPDK Community Lab
To manage your email subscriptions, visit:
https://lab.dpdk.org/results/dashboard/preferences/subscriptions/
^ permalink raw reply [flat|nested] 13+ messages in thread
* [dpdk-test-report] |SUCCESS| pw86708 [PATCH] ethdev: rename FEC API parameters
[not found] <20210115155232.1406688-1-ferruh.yigit@intel.com>
@ 2021-01-15 15:52 ` checkpatch
0 siblings, 0 replies; 13+ messages in thread
From: checkpatch @ 2021-01-15 15:52 UTC (permalink / raw)
To: test-report
Test-Label: checkpatch
Test-Status: SUCCESS
http://dpdk.org/patch/86708
_coding style OK_
^ permalink raw reply [flat|nested] 13+ messages in thread
end of thread, other threads:[~2021-01-19 7:07 UTC | newest]
Thread overview: 13+ messages (download: mbox.gz / follow: Atom feed)
-- links below jump to the message on this page --
2021-01-15 17:17 [dpdk-test-report] |SUCCESS| pw86708 [PATCH] ethdev: rename FEC API parameters dpdklab
-- strict thread matches above, loose matches on Subject: below --
2021-01-19 7:07 dpdklab
2021-01-19 5:38 dpdklab
2021-01-18 4:06 dpdklab
2021-01-18 3:16 dpdklab
2021-01-17 0:21 dpdklab
2021-01-16 23:30 dpdklab
2021-01-15 18:05 dpdklab
2021-01-15 17:51 dpdklab
2021-01-15 17:48 dpdklab
2021-01-15 17:34 dpdklab
2021-01-15 17:20 dpdklab
[not found] <20210115155232.1406688-1-ferruh.yigit@intel.com>
2021-01-15 15:52 ` checkpatch
This is a public inbox, see mirroring instructions
for how to clone and mirror all data and code used for this inbox;
as well as URLs for NNTP newsgroup(s).