* [dpdk-test-report] |SUCCESS| pw86659-86661 [PATCH] [v8, 3/3] test: change external memory test to use system page sz
@ 2021-01-16 4:20 dpdklab
0 siblings, 0 replies; 12+ messages in thread
From: dpdklab @ 2021-01-16 4:20 UTC (permalink / raw)
To: Test Report; +Cc: dpdk-test-reports
[-- Attachment #1: Type: text/plain, Size: 1272 bytes --]
Test-Label: iol-intel-Performance
Test-Status: SUCCESS
http://dpdk.org/patch/86661
_Performance Testing PASS_
Submitter: Nithin Dabilpuram <ndabilpuram@marvell.com>
Date: Friday, January 15 2021 07:32:43
DPDK git baseline: Repo:dpdk
Branch: master
CommitID:6a426d733ec0d0d0d8edd6fb46da70a763a81194
86659-86661 --> performance testing pass
Test environment and result as below:
Ubuntu 18.04
Kernel: 4.15.0-generic
Compiler: gcc 7.4
NIC: Intel Corporation Ethernet Converged Network Adapter XL710-QDA2 40000 Mbps
Target: x86_64-native-linuxapp-gcc
Fail/Total: 0/2
Detail performance results:
+------------+---------+-------------------------------------+
| frame_size | txd/rxd | throughput difference from expected |
+============+=========+=====================================+
| 64 | 512 | 2.693 |
+------------+---------+-------------------------------------+
| 64 | 2048 | 1.920 |
+------------+---------+-------------------------------------+
To view detailed results, visit:
https://lab.dpdk.org/results/dashboard/patchsets/15217/
UNH-IOL DPDK Community Lab
To manage your email subscriptions, visit:
https://lab.dpdk.org/results/dashboard/preferences/subscriptions/
^ permalink raw reply [flat|nested] 12+ messages in thread
* [dpdk-test-report] |SUCCESS| pw86659-86661 [PATCH] [v8, 3/3] test: change external memory test to use system page sz
@ 2021-01-20 7:48 dpdklab
0 siblings, 0 replies; 12+ messages in thread
From: dpdklab @ 2021-01-20 7:48 UTC (permalink / raw)
To: Test Report; +Cc: dpdk-test-reports
[-- Attachment #1: Type: text/plain, Size: 931 bytes --]
Test-Label: iol-abi-testing
Test-Status: SUCCESS
http://dpdk.org/patch/86661
_Testing PASS_
Submitter: Nithin Dabilpuram <ndabilpuram@marvell.com>
Date: Friday, January 15 2021 07:32:43
DPDK git baseline: Repo:dpdk
Branch: master
CommitID:6a426d733ec0d0d0d8edd6fb46da70a763a81194
86659-86661 --> testing pass
Test environment and result as below:
+------------------+----------+
| Environment | abi_test |
+==================+==========+
| Ubuntu 18.04 | PASS |
+------------------+----------+
| Ubuntu 18.04 ARM | PASS |
+------------------+----------+
Ubuntu 18.04
Kernel: 4.15.0-generic
Compiler: gcc 7.5
Ubuntu 18.04 ARM
Kernel: 5.4.0-53-generic
Compiler: gcc 9.3
To view detailed results, visit:
https://lab.dpdk.org/results/dashboard/patchsets/15217/
UNH-IOL DPDK Community Lab
To manage your email subscriptions, visit:
https://lab.dpdk.org/results/dashboard/preferences/subscriptions/
^ permalink raw reply [flat|nested] 12+ messages in thread
* [dpdk-test-report] |SUCCESS| pw86659-86661 [PATCH] [v8, 3/3] test: change external memory test to use system page sz
@ 2021-01-20 6:01 dpdklab
0 siblings, 0 replies; 12+ messages in thread
From: dpdklab @ 2021-01-20 6:01 UTC (permalink / raw)
To: Test Report; +Cc: dpdk-test-reports
[-- Attachment #1: Type: text/plain, Size: 931 bytes --]
Test-Label: iol-abi-testing
Test-Status: SUCCESS
http://dpdk.org/patch/86661
_Testing PASS_
Submitter: Nithin Dabilpuram <ndabilpuram@marvell.com>
Date: Friday, January 15 2021 07:32:43
DPDK git baseline: Repo:dpdk
Branch: master
CommitID:6a426d733ec0d0d0d8edd6fb46da70a763a81194
86659-86661 --> testing pass
Test environment and result as below:
+------------------+----------+
| Environment | abi_test |
+==================+==========+
| Ubuntu 18.04 | PASS |
+------------------+----------+
| Ubuntu 18.04 ARM | PASS |
+------------------+----------+
Ubuntu 18.04
Kernel: 4.15.0-generic
Compiler: gcc 7.5
Ubuntu 18.04 ARM
Kernel: 5.4.0-53-generic
Compiler: gcc 9.3
To view detailed results, visit:
https://lab.dpdk.org/results/dashboard/patchsets/15217/
UNH-IOL DPDK Community Lab
To manage your email subscriptions, visit:
https://lab.dpdk.org/results/dashboard/preferences/subscriptions/
^ permalink raw reply [flat|nested] 12+ messages in thread
* [dpdk-test-report] |SUCCESS| pw86659-86661 [PATCH] [v8, 3/3] test: change external memory test to use system page sz
@ 2021-01-19 8:45 dpdklab
0 siblings, 0 replies; 12+ messages in thread
From: dpdklab @ 2021-01-19 8:45 UTC (permalink / raw)
To: Ali Alnubani, Test Report; +Cc: dpdk-test-reports
[-- Attachment #1: Type: text/plain, Size: 3976 bytes --]
Test-Label: iol-mellanox-Performance
Test-Status: SUCCESS
http://dpdk.org/patch/86661
_Performance Testing PASS_
Submitter: Nithin Dabilpuram <ndabilpuram@marvell.com>
Date: Friday, January 15 2021 07:32:43
DPDK git baseline: Repo:dpdk
Branch: master
CommitID:6a426d733ec0d0d0d8edd6fb46da70a763a81194
86659-86661 --> performance testing pass
Test environment and result as below:
Ubuntu 18.04
Kernel: 4.15.0-generic
Compiler: gcc 7.4
NIC: Mellanox ConnectX-5 100000 Mbps
Target: x86_64-native-linuxapp-gcc
Fail/Total: 0/6
Detail performance results:
+------------+---------+-------------------------------------+
| frame_size | txd/rxd | throughput difference from expected |
+============+=========+=====================================+
| 64 | 256 | 0.090 |
+------------+---------+-------------------------------------+
| 128 | 256 | 0.156 |
+------------+---------+-------------------------------------+
| 256 | 256 | -0.049 |
+------------+---------+-------------------------------------+
| 512 | 256 | 0.116 |
+------------+---------+-------------------------------------+
| 1024 | 256 | 0.070 |
+------------+---------+-------------------------------------+
| 1518 | 256 | -0.020 |
+------------+---------+-------------------------------------+
Ubuntu 18.04
Kernel: 4.15.0-generic
Compiler: gcc 7.4
NIC: Mellanox ConnectX-4 Lx 25000 Mbps
Target: x86_64-native-linuxapp-gcc
Fail/Total: 0/6
Detail performance results:
+------------+---------+-------------------------------------+
| frame_size | txd/rxd | throughput difference from expected |
+============+=========+=====================================+
| 64 | 256 | 0.025 |
+------------+---------+-------------------------------------+
| 128 | 256 | -0.026 |
+------------+---------+-------------------------------------+
| 256 | 256 | 0.035 |
+------------+---------+-------------------------------------+
| 512 | 256 | 0.048 |
+------------+---------+-------------------------------------+
| 1024 | 256 | 0.004 |
+------------+---------+-------------------------------------+
| 1518 | 256 | 0.002 |
+------------+---------+-------------------------------------+
Ubuntu 18.04
Kernel: 4.15.0-generic
Compiler: gcc 7.4
NIC: Mellanox ConnectX-4 Lx 40000 Mbps
Target: x86_64-native-linuxapp-gcc
Fail/Total: 0/6
Detail performance results:
+------------+---------+-------------------------------------+
| frame_size | txd/rxd | throughput difference from expected |
+============+=========+=====================================+
| 64 | 256 | -0.005 |
+------------+---------+-------------------------------------+
| 128 | 256 | -0.434 |
+------------+---------+-------------------------------------+
| 256 | 256 | -0.915 |
+------------+---------+-------------------------------------+
| 512 | 256 | -0.026 |
+------------+---------+-------------------------------------+
| 1024 | 256 | 0.002 |
+------------+---------+-------------------------------------+
| 1518 | 256 | -0.003 |
+------------+---------+-------------------------------------+
To view detailed results, visit:
https://lab.dpdk.org/results/dashboard/patchsets/15217/
UNH-IOL DPDK Community Lab
To manage your email subscriptions, visit:
https://lab.dpdk.org/results/dashboard/preferences/subscriptions/
^ permalink raw reply [flat|nested] 12+ messages in thread
* [dpdk-test-report] |SUCCESS| pw86659-86661 [PATCH] [v8, 3/3] test: change external memory test to use system page sz
@ 2021-01-19 6:46 dpdklab
0 siblings, 0 replies; 12+ messages in thread
From: dpdklab @ 2021-01-19 6:46 UTC (permalink / raw)
To: Ali Alnubani, Test Report; +Cc: dpdk-test-reports
[-- Attachment #1: Type: text/plain, Size: 3976 bytes --]
Test-Label: iol-mellanox-Performance
Test-Status: SUCCESS
http://dpdk.org/patch/86661
_Performance Testing PASS_
Submitter: Nithin Dabilpuram <ndabilpuram@marvell.com>
Date: Friday, January 15 2021 07:32:43
DPDK git baseline: Repo:dpdk
Branch: master
CommitID:6a426d733ec0d0d0d8edd6fb46da70a763a81194
86659-86661 --> performance testing pass
Test environment and result as below:
Ubuntu 18.04
Kernel: 4.15.0-generic
Compiler: gcc 7.4
NIC: Mellanox ConnectX-5 100000 Mbps
Target: x86_64-native-linuxapp-gcc
Fail/Total: 0/6
Detail performance results:
+------------+---------+-------------------------------------+
| frame_size | txd/rxd | throughput difference from expected |
+============+=========+=====================================+
| 64 | 256 | 0.100 |
+------------+---------+-------------------------------------+
| 128 | 256 | 0.196 |
+------------+---------+-------------------------------------+
| 256 | 256 | -0.258 |
+------------+---------+-------------------------------------+
| 512 | 256 | 0.392 |
+------------+---------+-------------------------------------+
| 1024 | 256 | 0.047 |
+------------+---------+-------------------------------------+
| 1518 | 256 | -0.009 |
+------------+---------+-------------------------------------+
Ubuntu 18.04
Kernel: 4.15.0-generic
Compiler: gcc 7.4
NIC: Mellanox ConnectX-4 Lx 25000 Mbps
Target: x86_64-native-linuxapp-gcc
Fail/Total: 0/6
Detail performance results:
+------------+---------+-------------------------------------+
| frame_size | txd/rxd | throughput difference from expected |
+============+=========+=====================================+
| 64 | 256 | 0.119 |
+------------+---------+-------------------------------------+
| 128 | 256 | 0.014 |
+------------+---------+-------------------------------------+
| 256 | 256 | -0.001 |
+------------+---------+-------------------------------------+
| 512 | 256 | 0.036 |
+------------+---------+-------------------------------------+
| 1024 | 256 | -0.011 |
+------------+---------+-------------------------------------+
| 1518 | 256 | -0.001 |
+------------+---------+-------------------------------------+
Ubuntu 18.04
Kernel: 4.15.0-generic
Compiler: gcc 7.4
NIC: Mellanox ConnectX-4 Lx 40000 Mbps
Target: x86_64-native-linuxapp-gcc
Fail/Total: 0/6
Detail performance results:
+------------+---------+-------------------------------------+
| frame_size | txd/rxd | throughput difference from expected |
+============+=========+=====================================+
| 64 | 256 | -0.061 |
+------------+---------+-------------------------------------+
| 128 | 256 | -0.351 |
+------------+---------+-------------------------------------+
| 256 | 256 | -0.600 |
+------------+---------+-------------------------------------+
| 512 | 256 | -0.044 |
+------------+---------+-------------------------------------+
| 1024 | 256 | 0.002 |
+------------+---------+-------------------------------------+
| 1518 | 256 | 0.010 |
+------------+---------+-------------------------------------+
To view detailed results, visit:
https://lab.dpdk.org/results/dashboard/patchsets/15217/
UNH-IOL DPDK Community Lab
To manage your email subscriptions, visit:
https://lab.dpdk.org/results/dashboard/preferences/subscriptions/
^ permalink raw reply [flat|nested] 12+ messages in thread
* [dpdk-test-report] |SUCCESS| pw86659-86661 [PATCH] [v8, 3/3] test: change external memory test to use system page sz
@ 2021-01-17 14:58 dpdklab
0 siblings, 0 replies; 12+ messages in thread
From: dpdklab @ 2021-01-17 14:58 UTC (permalink / raw)
To: Ali Alnubani, Test Report; +Cc: dpdk-test-reports
[-- Attachment #1: Type: text/plain, Size: 907 bytes --]
Test-Label: iol-mellanox-Functional
Test-Status: SUCCESS
http://dpdk.org/patch/86661
_Functional Testing PASS_
Submitter: Nithin Dabilpuram <ndabilpuram@marvell.com>
Date: Friday, January 15 2021 07:32:43
DPDK git baseline: Repo:dpdk
Branch: master
CommitID:6a426d733ec0d0d0d8edd6fb46da70a763a81194
86659-86661 --> functional testing pass
Test environment and result as below:
Ubuntu 18.04
Kernel: 4.15.0-generic
Compiler: gcc 7.4
NIC: Mellanox ConnectX-4 Lx 25000 Mbps
Target: x86_64-native-linuxapp-gcc
Fail/Total: 0/5
Ubuntu 18.04
Kernel: 4.15.0-generic
Compiler: gcc 7.4
NIC: Mellanox ConnectX-4 Lx 40000 Mbps
Target: x86_64-native-linuxapp-gcc
Fail/Total: 0/5
To view detailed results, visit:
https://lab.dpdk.org/results/dashboard/patchsets/15217/
UNH-IOL DPDK Community Lab
To manage your email subscriptions, visit:
https://lab.dpdk.org/results/dashboard/preferences/subscriptions/
^ permalink raw reply [flat|nested] 12+ messages in thread
* [dpdk-test-report] |SUCCESS| pw86659-86661 [PATCH] [v8, 3/3] test: change external memory test to use system page sz
@ 2021-01-17 14:06 dpdklab
0 siblings, 0 replies; 12+ messages in thread
From: dpdklab @ 2021-01-17 14:06 UTC (permalink / raw)
To: Ali Alnubani, Test Report; +Cc: dpdk-test-reports
[-- Attachment #1: Type: text/plain, Size: 907 bytes --]
Test-Label: iol-mellanox-Functional
Test-Status: SUCCESS
http://dpdk.org/patch/86661
_Functional Testing PASS_
Submitter: Nithin Dabilpuram <ndabilpuram@marvell.com>
Date: Friday, January 15 2021 07:32:43
DPDK git baseline: Repo:dpdk
Branch: master
CommitID:6a426d733ec0d0d0d8edd6fb46da70a763a81194
86659-86661 --> functional testing pass
Test environment and result as below:
Ubuntu 18.04
Kernel: 4.15.0-generic
Compiler: gcc 7.4
NIC: Mellanox ConnectX-4 Lx 25000 Mbps
Target: x86_64-native-linuxapp-gcc
Fail/Total: 0/5
Ubuntu 18.04
Kernel: 4.15.0-generic
Compiler: gcc 7.4
NIC: Mellanox ConnectX-4 Lx 40000 Mbps
Target: x86_64-native-linuxapp-gcc
Fail/Total: 0/5
To view detailed results, visit:
https://lab.dpdk.org/results/dashboard/patchsets/15217/
UNH-IOL DPDK Community Lab
To manage your email subscriptions, visit:
https://lab.dpdk.org/results/dashboard/preferences/subscriptions/
^ permalink raw reply [flat|nested] 12+ messages in thread
* [dpdk-test-report] |SUCCESS| pw86659-86661 [PATCH] [v8, 3/3] test: change external memory test to use system page sz
@ 2021-01-16 4:55 dpdklab
0 siblings, 0 replies; 12+ messages in thread
From: dpdklab @ 2021-01-16 4:55 UTC (permalink / raw)
To: Test Report; +Cc: dpdk-test-reports
[-- Attachment #1: Type: text/plain, Size: 1272 bytes --]
Test-Label: iol-intel-Performance
Test-Status: SUCCESS
http://dpdk.org/patch/86661
_Performance Testing PASS_
Submitter: Nithin Dabilpuram <ndabilpuram@marvell.com>
Date: Friday, January 15 2021 07:32:43
DPDK git baseline: Repo:dpdk
Branch: master
CommitID:6a426d733ec0d0d0d8edd6fb46da70a763a81194
86659-86661 --> performance testing pass
Test environment and result as below:
Ubuntu 18.04
Kernel: 4.15.0-generic
Compiler: gcc 7.4
NIC: Intel Corporation Ethernet Converged Network Adapter XL710-QDA2 40000 Mbps
Target: x86_64-native-linuxapp-gcc
Fail/Total: 0/2
Detail performance results:
+------------+---------+-------------------------------------+
| frame_size | txd/rxd | throughput difference from expected |
+============+=========+=====================================+
| 64 | 512 | 2.722 |
+------------+---------+-------------------------------------+
| 64 | 2048 | 1.898 |
+------------+---------+-------------------------------------+
To view detailed results, visit:
https://lab.dpdk.org/results/dashboard/patchsets/15217/
UNH-IOL DPDK Community Lab
To manage your email subscriptions, visit:
https://lab.dpdk.org/results/dashboard/preferences/subscriptions/
^ permalink raw reply [flat|nested] 12+ messages in thread
* [dpdk-test-report] |SUCCESS| pw86659-86661 [PATCH] [v8, 3/3] test: change external memory test to use system page sz
@ 2021-01-16 4:40 dpdklab
0 siblings, 0 replies; 12+ messages in thread
From: dpdklab @ 2021-01-16 4:40 UTC (permalink / raw)
To: Test Report; +Cc: dpdk-test-reports
[-- Attachment #1: Type: text/plain, Size: 799 bytes --]
Test-Label: iol-intel-Functional
Test-Status: SUCCESS
http://dpdk.org/patch/86661
_Functional Testing PASS_
Submitter: Nithin Dabilpuram <ndabilpuram@marvell.com>
Date: Friday, January 15 2021 07:32:43
DPDK git baseline: Repo:dpdk
Branch: master
CommitID:6a426d733ec0d0d0d8edd6fb46da70a763a81194
86659-86661 --> functional testing pass
Test environment and result as below:
Ubuntu 18.04
Kernel: 4.15.0-generic
Compiler: gcc 7.4
NIC: Intel Corporation Ethernet Converged Network Adapter XL710-QDA2 40000 Mbps
Target: x86_64-native-linuxapp-gcc
Fail/Total: 0/3
To view detailed results, visit:
https://lab.dpdk.org/results/dashboard/patchsets/15217/
UNH-IOL DPDK Community Lab
To manage your email subscriptions, visit:
https://lab.dpdk.org/results/dashboard/preferences/subscriptions/
^ permalink raw reply [flat|nested] 12+ messages in thread
* [dpdk-test-report] |SUCCESS| pw86659-86661 [PATCH] [v8, 3/3] test: change external memory test to use system page sz
@ 2021-01-16 4:37 dpdklab
0 siblings, 0 replies; 12+ messages in thread
From: dpdklab @ 2021-01-16 4:37 UTC (permalink / raw)
To: Ajit Khaparde, Test Report; +Cc: dpdk-test-reports
[-- Attachment #1: Type: text/plain, Size: 804 bytes --]
Test-Label: iol-broadcom-Functional
Test-Status: SUCCESS
http://dpdk.org/patch/86661
_Functional Testing PASS_
Submitter: Nithin Dabilpuram <ndabilpuram@marvell.com>
Date: Friday, January 15 2021 07:32:43
DPDK git baseline: Repo:dpdk
Branch: master
CommitID:6a426d733ec0d0d0d8edd6fb46da70a763a81194
86659-86661 --> functional testing pass
Test environment and result as below:
Ubuntu 18.04
Kernel: 4.15.0-65-generic
Compiler: gcc gcc (Ubuntu 7.4.0-1ubuntu1~18.04.1) 7.4.0
NIC: Broadcom Inc. brcm_57414 25000 Mbps
Target: x86_64-native-linuxapp-gcc
Fail/Total: 0/3
To view detailed results, visit:
https://lab.dpdk.org/results/dashboard/patchsets/15217/
UNH-IOL DPDK Community Lab
To manage your email subscriptions, visit:
https://lab.dpdk.org/results/dashboard/preferences/subscriptions/
^ permalink raw reply [flat|nested] 12+ messages in thread
* [dpdk-test-report] |SUCCESS| pw86659-86661 [PATCH] [v8, 3/3] test: change external memory test to use system page sz
@ 2021-01-16 4:08 dpdklab
0 siblings, 0 replies; 12+ messages in thread
From: dpdklab @ 2021-01-16 4:08 UTC (permalink / raw)
To: Test Report; +Cc: dpdk-test-reports
[-- Attachment #1: Type: text/plain, Size: 799 bytes --]
Test-Label: iol-intel-Functional
Test-Status: SUCCESS
http://dpdk.org/patch/86661
_Functional Testing PASS_
Submitter: Nithin Dabilpuram <ndabilpuram@marvell.com>
Date: Friday, January 15 2021 07:32:43
DPDK git baseline: Repo:dpdk
Branch: master
CommitID:6a426d733ec0d0d0d8edd6fb46da70a763a81194
86659-86661 --> functional testing pass
Test environment and result as below:
Ubuntu 18.04
Kernel: 4.15.0-generic
Compiler: gcc 7.4
NIC: Intel Corporation Ethernet Converged Network Adapter XL710-QDA2 40000 Mbps
Target: x86_64-native-linuxapp-gcc
Fail/Total: 0/3
To view detailed results, visit:
https://lab.dpdk.org/results/dashboard/patchsets/15217/
UNH-IOL DPDK Community Lab
To manage your email subscriptions, visit:
https://lab.dpdk.org/results/dashboard/preferences/subscriptions/
^ permalink raw reply [flat|nested] 12+ messages in thread
* [dpdk-test-report] |SUCCESS| pw86659-86661 [PATCH] [v8, 3/3] test: change external memory test to use system page sz
@ 2021-01-16 4:05 dpdklab
0 siblings, 0 replies; 12+ messages in thread
From: dpdklab @ 2021-01-16 4:05 UTC (permalink / raw)
To: Ajit Khaparde, Test Report; +Cc: dpdk-test-reports
[-- Attachment #1: Type: text/plain, Size: 804 bytes --]
Test-Label: iol-broadcom-Functional
Test-Status: SUCCESS
http://dpdk.org/patch/86661
_Functional Testing PASS_
Submitter: Nithin Dabilpuram <ndabilpuram@marvell.com>
Date: Friday, January 15 2021 07:32:43
DPDK git baseline: Repo:dpdk
Branch: master
CommitID:6a426d733ec0d0d0d8edd6fb46da70a763a81194
86659-86661 --> functional testing pass
Test environment and result as below:
Ubuntu 18.04
Kernel: 4.15.0-65-generic
Compiler: gcc gcc (Ubuntu 7.4.0-1ubuntu1~18.04.1) 7.4.0
NIC: Broadcom Inc. brcm_57414 25000 Mbps
Target: x86_64-native-linuxapp-gcc
Fail/Total: 0/3
To view detailed results, visit:
https://lab.dpdk.org/results/dashboard/patchsets/15217/
UNH-IOL DPDK Community Lab
To manage your email subscriptions, visit:
https://lab.dpdk.org/results/dashboard/preferences/subscriptions/
^ permalink raw reply [flat|nested] 12+ messages in thread
end of thread, other threads:[~2021-01-20 7:48 UTC | newest]
Thread overview: 12+ messages (download: mbox.gz / follow: Atom feed)
-- links below jump to the message on this page --
2021-01-16 4:20 [dpdk-test-report] |SUCCESS| pw86659-86661 [PATCH] [v8, 3/3] test: change external memory test to use system page sz dpdklab
-- strict thread matches above, loose matches on Subject: below --
2021-01-20 7:48 dpdklab
2021-01-20 6:01 dpdklab
2021-01-19 8:45 dpdklab
2021-01-19 6:46 dpdklab
2021-01-17 14:58 dpdklab
2021-01-17 14:06 dpdklab
2021-01-16 4:55 dpdklab
2021-01-16 4:40 dpdklab
2021-01-16 4:37 dpdklab
2021-01-16 4:08 dpdklab
2021-01-16 4:05 dpdklab
This is a public inbox, see mirroring instructions
for how to clone and mirror all data and code used for this inbox;
as well as URLs for NNTP newsgroup(s).