Test-Label: checkpatch Test-Status: SUCCESS http://dpdk.org/patch/86735 _coding style OK_
[-- Attachment #1: Type: text/plain, Size: 791 bytes --] Test-Label: iol-broadcom-Functional Test-Status: SUCCESS http://dpdk.org/patch/86735 _Functional Testing PASS_ Submitter: Zhang,Alvin <alvinx.zhang@intel.com> Date: Monday, January 18 2021 05:03:41 DPDK git baseline: Repo:dpdk Branch: master CommitID:e03d2c3c705e40281bda2f11a947f4d3d5e062e6 86735 --> functional testing pass Test environment and result as below: Ubuntu 18.04 Kernel: 4.15.0-65-generic Compiler: gcc gcc (Ubuntu 7.4.0-1ubuntu1~18.04.1) 7.4.0 NIC: Broadcom Inc. brcm_57414 25000 Mbps Target: x86_64-native-linuxapp-gcc Fail/Total: 0/3 To view detailed results, visit: https://lab.dpdk.org/results/dashboard/patchsets/15240/ UNH-IOL DPDK Community Lab To manage your email subscriptions, visit: https://lab.dpdk.org/results/dashboard/preferences/subscriptions/
[-- Attachment #1: Type: text/plain, Size: 786 bytes --] Test-Label: iol-intel-Functional Test-Status: SUCCESS http://dpdk.org/patch/86735 _Functional Testing PASS_ Submitter: Zhang,Alvin <alvinx.zhang@intel.com> Date: Monday, January 18 2021 05:03:41 DPDK git baseline: Repo:dpdk Branch: master CommitID:e03d2c3c705e40281bda2f11a947f4d3d5e062e6 86735 --> functional testing pass Test environment and result as below: Ubuntu 18.04 Kernel: 4.15.0-generic Compiler: gcc 7.4 NIC: Intel Corporation Ethernet Converged Network Adapter XL710-QDA2 40000 Mbps Target: x86_64-native-linuxapp-gcc Fail/Total: 0/3 To view detailed results, visit: https://lab.dpdk.org/results/dashboard/patchsets/15240/ UNH-IOL DPDK Community Lab To manage your email subscriptions, visit: https://lab.dpdk.org/results/dashboard/preferences/subscriptions/
[-- Attachment #1: Type: text/plain, Size: 791 bytes --] Test-Label: iol-broadcom-Functional Test-Status: SUCCESS http://dpdk.org/patch/86735 _Functional Testing PASS_ Submitter: Zhang,Alvin <alvinx.zhang@intel.com> Date: Monday, January 18 2021 05:03:41 DPDK git baseline: Repo:dpdk Branch: master CommitID:e03d2c3c705e40281bda2f11a947f4d3d5e062e6 86735 --> functional testing pass Test environment and result as below: Ubuntu 18.04 Kernel: 4.15.0-65-generic Compiler: gcc gcc (Ubuntu 7.4.0-1ubuntu1~18.04.1) 7.4.0 NIC: Broadcom Inc. brcm_57414 25000 Mbps Target: x86_64-native-linuxapp-gcc Fail/Total: 0/3 To view detailed results, visit: https://lab.dpdk.org/results/dashboard/patchsets/15240/ UNH-IOL DPDK Community Lab To manage your email subscriptions, visit: https://lab.dpdk.org/results/dashboard/preferences/subscriptions/
[-- Attachment #1: Type: text/plain, Size: 1259 bytes --] Test-Label: iol-intel-Performance Test-Status: SUCCESS http://dpdk.org/patch/86735 _Performance Testing PASS_ Submitter: Zhang,Alvin <alvinx.zhang@intel.com> Date: Monday, January 18 2021 05:03:41 DPDK git baseline: Repo:dpdk Branch: master CommitID:e03d2c3c705e40281bda2f11a947f4d3d5e062e6 86735 --> performance testing pass Test environment and result as below: Ubuntu 18.04 Kernel: 4.15.0-generic Compiler: gcc 7.4 NIC: Intel Corporation Ethernet Converged Network Adapter XL710-QDA2 40000 Mbps Target: x86_64-native-linuxapp-gcc Fail/Total: 0/2 Detail performance results: +------------+---------+-------------------------------------+ | frame_size | txd/rxd | throughput difference from expected | +============+=========+=====================================+ | 64 | 512 | 2.775 | +------------+---------+-------------------------------------+ | 64 | 2048 | 1.930 | +------------+---------+-------------------------------------+ To view detailed results, visit: https://lab.dpdk.org/results/dashboard/patchsets/15240/ UNH-IOL DPDK Community Lab To manage your email subscriptions, visit: https://lab.dpdk.org/results/dashboard/preferences/subscriptions/
[-- Attachment #1: Type: text/plain, Size: 786 bytes --] Test-Label: iol-intel-Functional Test-Status: SUCCESS http://dpdk.org/patch/86735 _Functional Testing PASS_ Submitter: Zhang,Alvin <alvinx.zhang@intel.com> Date: Monday, January 18 2021 05:03:41 DPDK git baseline: Repo:dpdk Branch: master CommitID:e03d2c3c705e40281bda2f11a947f4d3d5e062e6 86735 --> functional testing pass Test environment and result as below: Ubuntu 18.04 Kernel: 4.15.0-generic Compiler: gcc 7.4 NIC: Intel Corporation Ethernet Converged Network Adapter XL710-QDA2 40000 Mbps Target: x86_64-native-linuxapp-gcc Fail/Total: 0/3 To view detailed results, visit: https://lab.dpdk.org/results/dashboard/patchsets/15240/ UNH-IOL DPDK Community Lab To manage your email subscriptions, visit: https://lab.dpdk.org/results/dashboard/preferences/subscriptions/
[-- Attachment #1: Type: text/plain, Size: 1259 bytes --] Test-Label: iol-intel-Performance Test-Status: SUCCESS http://dpdk.org/patch/86735 _Performance Testing PASS_ Submitter: Zhang,Alvin <alvinx.zhang@intel.com> Date: Monday, January 18 2021 05:03:41 DPDK git baseline: Repo:dpdk Branch: master CommitID:e03d2c3c705e40281bda2f11a947f4d3d5e062e6 86735 --> performance testing pass Test environment and result as below: Ubuntu 18.04 Kernel: 4.15.0-generic Compiler: gcc 7.4 NIC: Intel Corporation Ethernet Converged Network Adapter XL710-QDA2 40000 Mbps Target: x86_64-native-linuxapp-gcc Fail/Total: 0/2 Detail performance results: +------------+---------+-------------------------------------+ | frame_size | txd/rxd | throughput difference from expected | +============+=========+=====================================+ | 64 | 512 | 2.516 | +------------+---------+-------------------------------------+ | 64 | 2048 | 2.001 | +------------+---------+-------------------------------------+ To view detailed results, visit: https://lab.dpdk.org/results/dashboard/patchsets/15240/ UNH-IOL DPDK Community Lab To manage your email subscriptions, visit: https://lab.dpdk.org/results/dashboard/preferences/subscriptions/
[-- Attachment #1: Type: text/plain, Size: 894 bytes --] Test-Label: iol-mellanox-Functional Test-Status: SUCCESS http://dpdk.org/patch/86735 _Functional Testing PASS_ Submitter: Zhang,Alvin <alvinx.zhang@intel.com> Date: Monday, January 18 2021 05:03:41 DPDK git baseline: Repo:dpdk Branch: master CommitID:e03d2c3c705e40281bda2f11a947f4d3d5e062e6 86735 --> functional testing pass Test environment and result as below: Ubuntu 18.04 Kernel: 4.15.0-generic Compiler: gcc 7.4 NIC: Mellanox ConnectX-4 Lx 25000 Mbps Target: x86_64-native-linuxapp-gcc Fail/Total: 0/5 Ubuntu 18.04 Kernel: 4.15.0-generic Compiler: gcc 7.4 NIC: Mellanox ConnectX-4 Lx 40000 Mbps Target: x86_64-native-linuxapp-gcc Fail/Total: 0/5 To view detailed results, visit: https://lab.dpdk.org/results/dashboard/patchsets/15240/ UNH-IOL DPDK Community Lab To manage your email subscriptions, visit: https://lab.dpdk.org/results/dashboard/preferences/subscriptions/
[-- Attachment #1: Type: text/plain, Size: 894 bytes --] Test-Label: iol-mellanox-Functional Test-Status: SUCCESS http://dpdk.org/patch/86735 _Functional Testing PASS_ Submitter: Zhang,Alvin <alvinx.zhang@intel.com> Date: Monday, January 18 2021 05:03:41 DPDK git baseline: Repo:dpdk Branch: master CommitID:e03d2c3c705e40281bda2f11a947f4d3d5e062e6 86735 --> functional testing pass Test environment and result as below: Ubuntu 18.04 Kernel: 4.15.0-generic Compiler: gcc 7.4 NIC: Mellanox ConnectX-4 Lx 25000 Mbps Target: x86_64-native-linuxapp-gcc Fail/Total: 0/5 Ubuntu 18.04 Kernel: 4.15.0-generic Compiler: gcc 7.4 NIC: Mellanox ConnectX-4 Lx 40000 Mbps Target: x86_64-native-linuxapp-gcc Fail/Total: 0/5 To view detailed results, visit: https://lab.dpdk.org/results/dashboard/patchsets/15240/ UNH-IOL DPDK Community Lab To manage your email subscriptions, visit: https://lab.dpdk.org/results/dashboard/preferences/subscriptions/
[-- Attachment #1: Type: text/plain, Size: 3963 bytes --] Test-Label: iol-mellanox-Performance Test-Status: SUCCESS http://dpdk.org/patch/86735 _Performance Testing PASS_ Submitter: Zhang,Alvin <alvinx.zhang@intel.com> Date: Monday, January 18 2021 05:03:41 DPDK git baseline: Repo:dpdk Branch: master CommitID:e03d2c3c705e40281bda2f11a947f4d3d5e062e6 86735 --> performance testing pass Test environment and result as below: Ubuntu 18.04 Kernel: 4.15.0-generic Compiler: gcc 7.4 NIC: Mellanox ConnectX-5 100000 Mbps Target: x86_64-native-linuxapp-gcc Fail/Total: 0/6 Detail performance results: +------------+---------+-------------------------------------+ | frame_size | txd/rxd | throughput difference from expected | +============+=========+=====================================+ | 64 | 256 | 0.191 | +------------+---------+-------------------------------------+ | 128 | 256 | 0.097 | +------------+---------+-------------------------------------+ | 256 | 256 | 0.021 | +------------+---------+-------------------------------------+ | 512 | 256 | -0.325 | +------------+---------+-------------------------------------+ | 1024 | 256 | -0.105 | +------------+---------+-------------------------------------+ | 1518 | 256 | 0.012 | +------------+---------+-------------------------------------+ Ubuntu 18.04 Kernel: 4.15.0-generic Compiler: gcc 7.4 NIC: Mellanox ConnectX-4 Lx 25000 Mbps Target: x86_64-native-linuxapp-gcc Fail/Total: 0/6 Detail performance results: +------------+---------+-------------------------------------+ | frame_size | txd/rxd | throughput difference from expected | +============+=========+=====================================+ | 64 | 256 | 0.136 | +------------+---------+-------------------------------------+ | 128 | 256 | 0.179 | +------------+---------+-------------------------------------+ | 256 | 256 | -0.065 | +------------+---------+-------------------------------------+ | 512 | 256 | 0.047 | +------------+---------+-------------------------------------+ | 1024 | 256 | 0.016 | +------------+---------+-------------------------------------+ | 1518 | 256 | -0.002 | +------------+---------+-------------------------------------+ Ubuntu 18.04 Kernel: 4.15.0-generic Compiler: gcc 7.4 NIC: Mellanox ConnectX-4 Lx 40000 Mbps Target: x86_64-native-linuxapp-gcc Fail/Total: 0/6 Detail performance results: +------------+---------+-------------------------------------+ | frame_size | txd/rxd | throughput difference from expected | +============+=========+=====================================+ | 64 | 256 | -0.318 | +------------+---------+-------------------------------------+ | 128 | 256 | 0.080 | +------------+---------+-------------------------------------+ | 256 | 256 | 0.213 | +------------+---------+-------------------------------------+ | 512 | 256 | -0.082 | +------------+---------+-------------------------------------+ | 1024 | 256 | 0 | +------------+---------+-------------------------------------+ | 1518 | 256 | 0.009 | +------------+---------+-------------------------------------+ To view detailed results, visit: https://lab.dpdk.org/results/dashboard/patchsets/15240/ UNH-IOL DPDK Community Lab To manage your email subscriptions, visit: https://lab.dpdk.org/results/dashboard/preferences/subscriptions/
[-- Attachment #1: Type: text/plain, Size: 3963 bytes --] Test-Label: iol-mellanox-Performance Test-Status: SUCCESS http://dpdk.org/patch/86735 _Performance Testing PASS_ Submitter: Zhang,Alvin <alvinx.zhang@intel.com> Date: Monday, January 18 2021 05:03:41 DPDK git baseline: Repo:dpdk Branch: master CommitID:e03d2c3c705e40281bda2f11a947f4d3d5e062e6 86735 --> performance testing pass Test environment and result as below: Ubuntu 18.04 Kernel: 4.15.0-generic Compiler: gcc 7.4 NIC: Mellanox ConnectX-5 100000 Mbps Target: x86_64-native-linuxapp-gcc Fail/Total: 0/6 Detail performance results: +------------+---------+-------------------------------------+ | frame_size | txd/rxd | throughput difference from expected | +============+=========+=====================================+ | 64 | 256 | 0.286 | +------------+---------+-------------------------------------+ | 128 | 256 | 0.295 | +------------+---------+-------------------------------------+ | 256 | 256 | -0.079 | +------------+---------+-------------------------------------+ | 512 | 256 | -0.052 | +------------+---------+-------------------------------------+ | 1024 | 256 | -0.093 | +------------+---------+-------------------------------------+ | 1518 | 256 | 0.020 | +------------+---------+-------------------------------------+ Ubuntu 18.04 Kernel: 4.15.0-generic Compiler: gcc 7.4 NIC: Mellanox ConnectX-4 Lx 25000 Mbps Target: x86_64-native-linuxapp-gcc Fail/Total: 0/6 Detail performance results: +------------+---------+-------------------------------------+ | frame_size | txd/rxd | throughput difference from expected | +============+=========+=====================================+ | 64 | 256 | -0.112 | +------------+---------+-------------------------------------+ | 128 | 256 | 0.301 | +------------+---------+-------------------------------------+ | 256 | 256 | -0.006 | +------------+---------+-------------------------------------+ | 512 | 256 | 0.084 | +------------+---------+-------------------------------------+ | 1024 | 256 | 0.007 | +------------+---------+-------------------------------------+ | 1518 | 256 | 0.001 | +------------+---------+-------------------------------------+ Ubuntu 18.04 Kernel: 4.15.0-generic Compiler: gcc 7.4 NIC: Mellanox ConnectX-4 Lx 40000 Mbps Target: x86_64-native-linuxapp-gcc Fail/Total: 0/6 Detail performance results: +------------+---------+-------------------------------------+ | frame_size | txd/rxd | throughput difference from expected | +============+=========+=====================================+ | 64 | 256 | -0.024 | +------------+---------+-------------------------------------+ | 128 | 256 | -0.004 | +------------+---------+-------------------------------------+ | 256 | 256 | 0.622 | +------------+---------+-------------------------------------+ | 512 | 256 | 0.004 | +------------+---------+-------------------------------------+ | 1024 | 256 | 0.012 | +------------+---------+-------------------------------------+ | 1518 | 256 | 0.009 | +------------+---------+-------------------------------------+ To view detailed results, visit: https://lab.dpdk.org/results/dashboard/patchsets/15240/ UNH-IOL DPDK Community Lab To manage your email subscriptions, visit: https://lab.dpdk.org/results/dashboard/preferences/subscriptions/
[-- Attachment #1: Type: text/plain, Size: 918 bytes --] Test-Label: iol-abi-testing Test-Status: SUCCESS http://dpdk.org/patch/86735 _Testing PASS_ Submitter: Zhang,Alvin <alvinx.zhang@intel.com> Date: Monday, January 18 2021 05:03:41 DPDK git baseline: Repo:dpdk Branch: master CommitID:e03d2c3c705e40281bda2f11a947f4d3d5e062e6 86735 --> testing pass Test environment and result as below: +------------------+----------+ | Environment | abi_test | +==================+==========+ | Ubuntu 18.04 | PASS | +------------------+----------+ | Ubuntu 18.04 ARM | PASS | +------------------+----------+ Ubuntu 18.04 Kernel: 4.15.0-generic Compiler: gcc 7.5 Ubuntu 18.04 ARM Kernel: 5.4.0-53-generic Compiler: gcc 9.3 To view detailed results, visit: https://lab.dpdk.org/results/dashboard/patchsets/15240/ UNH-IOL DPDK Community Lab To manage your email subscriptions, visit: https://lab.dpdk.org/results/dashboard/preferences/subscriptions/
[-- Attachment #1: Type: text/plain, Size: 918 bytes --] Test-Label: iol-abi-testing Test-Status: SUCCESS http://dpdk.org/patch/86735 _Testing PASS_ Submitter: Zhang,Alvin <alvinx.zhang@intel.com> Date: Monday, January 18 2021 05:03:41 DPDK git baseline: Repo:dpdk Branch: master CommitID:e03d2c3c705e40281bda2f11a947f4d3d5e062e6 86735 --> testing pass Test environment and result as below: +------------------+----------+ | Environment | abi_test | +==================+==========+ | Ubuntu 18.04 | PASS | +------------------+----------+ | Ubuntu 18.04 ARM | PASS | +------------------+----------+ Ubuntu 18.04 Kernel: 4.15.0-generic Compiler: gcc 7.5 Ubuntu 18.04 ARM Kernel: 5.4.0-53-generic Compiler: gcc 9.3 To view detailed results, visit: https://lab.dpdk.org/results/dashboard/patchsets/15240/ UNH-IOL DPDK Community Lab To manage your email subscriptions, visit: https://lab.dpdk.org/results/dashboard/preferences/subscriptions/