* [dpdk-test-report] |SUCCESS| pw86642 [PATCH] [v3] pci/windows: fix build with SDK >= 10.0.20253
@ 2021-01-18 12:39 dpdklab
0 siblings, 0 replies; 7+ messages in thread
From: dpdklab @ 2021-01-18 12:39 UTC (permalink / raw)
To: Test Report; +Cc: dpdk-test-reports
[-- Attachment #1: Type: text/plain, Size: 3006 bytes --]
Test-Label: iol-testing
Test-Status: SUCCESS
http://dpdk.org/patch/86642
_Testing PASS_
Submitter: Tyler Retzlaff <roretzla@linux.microsoft.com>
Date: Thursday, January 14 2021 21:22:35
DPDK git baseline: Repo:dpdk
Branch: master
CommitID:6e4d4a6381c47cfe6d75225945b3f6a5f8453214
86642 --> testing pass
Test environment and result as below:
+---------------------+----------------------+--------------------+----------------+-------------------+
| Environment | dpdk_mingw64_compile | dpdk_meson_compile | dpdk_unit_test | dpdk_compile_spdk |
+=====================+======================+====================+================+===================+
| Windows Server 2019 | PASS | PASS | SKIPPED | SKIPPED |
+---------------------+----------------------+--------------------+----------------+-------------------+
| FreeBSD 11.2 | SKIPPED | PASS | SKIPPED | SKIPPED |
+---------------------+----------------------+--------------------+----------------+-------------------+
| CentOS 8 | SKIPPED | PASS | SKIPPED | SKIPPED |
+---------------------+----------------------+--------------------+----------------+-------------------+
| Fedora 31 | SKIPPED | PASS | SKIPPED | PASS |
+---------------------+----------------------+--------------------+----------------+-------------------+
| openSUSE Leap 15 | SKIPPED | PASS | SKIPPED | SKIPPED |
+---------------------+----------------------+--------------------+----------------+-------------------+
| Arch Linux | SKIPPED | PASS | SKIPPED | SKIPPED |
+---------------------+----------------------+--------------------+----------------+-------------------+
| Ubuntu 18.04 | SKIPPED | PASS | PASS | PASS |
+---------------------+----------------------+--------------------+----------------+-------------------+
| Ubuntu 18.04 ARM | SKIPPED | PASS | SKIPPED | SKIPPED |
+---------------------+----------------------+--------------------+----------------+-------------------+
Windows Server 2019
Kernel: 10.0
Compiler: clang 9.0
FreeBSD 11.2
Kernel: 11.2
Compiler: gcc 8.3
CentOS 8
Kernel: 4.18.0.el8_0
Compiler: gcc 8.3.1
Fedora 31
Kernel: 5.3.16
Compiler: gcc 9.2.1
openSUSE Leap 15
Kernel: 4.12.14
Compiler: gcc 7.4.1
Arch Linux
Kernel: latest
Compiler: gcc latest
Ubuntu 18.04
Kernel: 4.15.0-generic
Compiler: gcc 7.5
Ubuntu 18.04 ARM
Kernel: 5.4.0-53-generic
Compiler: gcc 9.3
To view detailed results, visit:
https://lab.dpdk.org/results/dashboard/patchsets/15207/
UNH-IOL DPDK Community Lab
To manage your email subscriptions, visit:
https://lab.dpdk.org/results/dashboard/preferences/subscriptions/
^ permalink raw reply [flat|nested] 7+ messages in thread
* [dpdk-test-report] |SUCCESS| pw86642 [PATCH] [v3] pci/windows: fix build with SDK >= 10.0.20253
@ 2021-01-17 8:32 dpdklab
0 siblings, 0 replies; 7+ messages in thread
From: dpdklab @ 2021-01-17 8:32 UTC (permalink / raw)
To: Ali Alnubani, Test Report; +Cc: dpdk-test-reports
[-- Attachment #1: Type: text/plain, Size: 3974 bytes --]
Test-Label: iol-mellanox-Performance
Test-Status: SUCCESS
http://dpdk.org/patch/86642
_Performance Testing PASS_
Submitter: Tyler Retzlaff <roretzla@linux.microsoft.com>
Date: Thursday, January 14 2021 21:22:35
DPDK git baseline: Repo:dpdk
Branch: master
CommitID:6e4d4a6381c47cfe6d75225945b3f6a5f8453214
86642 --> performance testing pass
Test environment and result as below:
Ubuntu 18.04
Kernel: 4.15.0-generic
Compiler: gcc 7.4
NIC: Mellanox ConnectX-5 100000 Mbps
Target: x86_64-native-linuxapp-gcc
Fail/Total: 0/6
Detail performance results:
+------------+---------+-------------------------------------+
| frame_size | txd/rxd | throughput difference from expected |
+============+=========+=====================================+
| 64 | 256 | 0.251 |
+------------+---------+-------------------------------------+
| 128 | 256 | 0.064 |
+------------+---------+-------------------------------------+
| 256 | 256 | 0.098 |
+------------+---------+-------------------------------------+
| 512 | 256 | -0.065 |
+------------+---------+-------------------------------------+
| 1024 | 256 | 0.013 |
+------------+---------+-------------------------------------+
| 1518 | 256 | 0.005 |
+------------+---------+-------------------------------------+
Ubuntu 18.04
Kernel: 4.15.0-generic
Compiler: gcc 7.4
NIC: Mellanox ConnectX-4 Lx 25000 Mbps
Target: x86_64-native-linuxapp-gcc
Fail/Total: 0/6
Detail performance results:
+------------+---------+-------------------------------------+
| frame_size | txd/rxd | throughput difference from expected |
+============+=========+=====================================+
| 64 | 256 | 0.077 |
+------------+---------+-------------------------------------+
| 128 | 256 | -0.064 |
+------------+---------+-------------------------------------+
| 256 | 256 | -0.020 |
+------------+---------+-------------------------------------+
| 512 | 256 | -0.002 |
+------------+---------+-------------------------------------+
| 1024 | 256 | 0.012 |
+------------+---------+-------------------------------------+
| 1518 | 256 | -0.001 |
+------------+---------+-------------------------------------+
Ubuntu 18.04
Kernel: 4.15.0-generic
Compiler: gcc 7.4
NIC: Mellanox ConnectX-4 Lx 40000 Mbps
Target: x86_64-native-linuxapp-gcc
Fail/Total: 0/6
Detail performance results:
+------------+---------+-------------------------------------+
| frame_size | txd/rxd | throughput difference from expected |
+============+=========+=====================================+
| 64 | 256 | 0.159 |
+------------+---------+-------------------------------------+
| 128 | 256 | 0.005 |
+------------+---------+-------------------------------------+
| 256 | 256 | 0.078 |
+------------+---------+-------------------------------------+
| 512 | 256 | -0.067 |
+------------+---------+-------------------------------------+
| 1024 | 256 | 0.013 |
+------------+---------+-------------------------------------+
| 1518 | 256 | 0 |
+------------+---------+-------------------------------------+
To view detailed results, visit:
https://lab.dpdk.org/results/dashboard/patchsets/15207/
UNH-IOL DPDK Community Lab
To manage your email subscriptions, visit:
https://lab.dpdk.org/results/dashboard/preferences/subscriptions/
^ permalink raw reply [flat|nested] 7+ messages in thread
* [dpdk-test-report] |SUCCESS| pw86642 [PATCH] [v3] pci/windows: fix build with SDK >= 10.0.20253
@ 2021-01-16 12:32 dpdklab
0 siblings, 0 replies; 7+ messages in thread
From: dpdklab @ 2021-01-16 12:32 UTC (permalink / raw)
To: Ali Alnubani, Test Report; +Cc: dpdk-test-reports
[-- Attachment #1: Type: text/plain, Size: 905 bytes --]
Test-Label: iol-mellanox-Functional
Test-Status: SUCCESS
http://dpdk.org/patch/86642
_Functional Testing PASS_
Submitter: Tyler Retzlaff <roretzla@linux.microsoft.com>
Date: Thursday, January 14 2021 21:22:35
DPDK git baseline: Repo:dpdk
Branch: master
CommitID:6e4d4a6381c47cfe6d75225945b3f6a5f8453214
86642 --> functional testing pass
Test environment and result as below:
Ubuntu 18.04
Kernel: 4.15.0-generic
Compiler: gcc 7.4
NIC: Mellanox ConnectX-4 Lx 25000 Mbps
Target: x86_64-native-linuxapp-gcc
Fail/Total: 0/5
Ubuntu 18.04
Kernel: 4.15.0-generic
Compiler: gcc 7.4
NIC: Mellanox ConnectX-4 Lx 40000 Mbps
Target: x86_64-native-linuxapp-gcc
Fail/Total: 0/5
To view detailed results, visit:
https://lab.dpdk.org/results/dashboard/patchsets/15207/
UNH-IOL DPDK Community Lab
To manage your email subscriptions, visit:
https://lab.dpdk.org/results/dashboard/preferences/subscriptions/
^ permalink raw reply [flat|nested] 7+ messages in thread
* [dpdk-test-report] |SUCCESS| pw86642 [PATCH] [v3] pci/windows: fix build with SDK >= 10.0.20253
@ 2021-01-15 12:34 dpdklab
0 siblings, 0 replies; 7+ messages in thread
From: dpdklab @ 2021-01-15 12:34 UTC (permalink / raw)
To: Test Report; +Cc: dpdk-test-reports
[-- Attachment #1: Type: text/plain, Size: 797 bytes --]
Test-Label: iol-intel-Functional
Test-Status: SUCCESS
http://dpdk.org/patch/86642
_Functional Testing PASS_
Submitter: Tyler Retzlaff <roretzla@linux.microsoft.com>
Date: Thursday, January 14 2021 21:22:35
DPDK git baseline: Repo:dpdk
Branch: master
CommitID:6e4d4a6381c47cfe6d75225945b3f6a5f8453214
86642 --> functional testing pass
Test environment and result as below:
Ubuntu 18.04
Kernel: 4.15.0-generic
Compiler: gcc 7.4
NIC: Intel Corporation Ethernet Converged Network Adapter XL710-QDA2 40000 Mbps
Target: x86_64-native-linuxapp-gcc
Fail/Total: 0/3
To view detailed results, visit:
https://lab.dpdk.org/results/dashboard/patchsets/15207/
UNH-IOL DPDK Community Lab
To manage your email subscriptions, visit:
https://lab.dpdk.org/results/dashboard/preferences/subscriptions/
^ permalink raw reply [flat|nested] 7+ messages in thread
* [dpdk-test-report] |SUCCESS| pw86642 [PATCH] [v3] pci/windows: fix build with SDK >= 10.0.20253
@ 2021-01-15 9:07 dpdklab
0 siblings, 0 replies; 7+ messages in thread
From: dpdklab @ 2021-01-15 9:07 UTC (permalink / raw)
To: Test Report; +Cc: dpdk-test-reports
[-- Attachment #1: Type: text/plain, Size: 1270 bytes --]
Test-Label: iol-intel-Performance
Test-Status: SUCCESS
http://dpdk.org/patch/86642
_Performance Testing PASS_
Submitter: Tyler Retzlaff <roretzla@linux.microsoft.com>
Date: Thursday, January 14 2021 21:22:35
DPDK git baseline: Repo:dpdk
Branch: master
CommitID:6e4d4a6381c47cfe6d75225945b3f6a5f8453214
86642 --> performance testing pass
Test environment and result as below:
Ubuntu 18.04
Kernel: 4.15.0-generic
Compiler: gcc 7.4
NIC: Intel Corporation Ethernet Converged Network Adapter XL710-QDA2 40000 Mbps
Target: x86_64-native-linuxapp-gcc
Fail/Total: 0/2
Detail performance results:
+------------+---------+-------------------------------------+
| frame_size | txd/rxd | throughput difference from expected |
+============+=========+=====================================+
| 64 | 512 | 2.695 |
+------------+---------+-------------------------------------+
| 64 | 2048 | 2.177 |
+------------+---------+-------------------------------------+
To view detailed results, visit:
https://lab.dpdk.org/results/dashboard/patchsets/15207/
UNH-IOL DPDK Community Lab
To manage your email subscriptions, visit:
https://lab.dpdk.org/results/dashboard/preferences/subscriptions/
^ permalink raw reply [flat|nested] 7+ messages in thread
* [dpdk-test-report] |SUCCESS| pw86642 [PATCH] [v3] pci/windows: fix build with SDK >= 10.0.20253
@ 2021-01-14 22:53 dpdklab
0 siblings, 0 replies; 7+ messages in thread
From: dpdklab @ 2021-01-14 22:53 UTC (permalink / raw)
To: Ajit Khaparde, Test Report; +Cc: dpdk-test-reports
[-- Attachment #1: Type: text/plain, Size: 802 bytes --]
Test-Label: iol-broadcom-Functional
Test-Status: SUCCESS
http://dpdk.org/patch/86642
_Functional Testing PASS_
Submitter: Tyler Retzlaff <roretzla@linux.microsoft.com>
Date: Thursday, January 14 2021 21:22:35
DPDK git baseline: Repo:dpdk
Branch: master
CommitID:6e4d4a6381c47cfe6d75225945b3f6a5f8453214
86642 --> functional testing pass
Test environment and result as below:
Ubuntu 18.04
Kernel: 4.15.0-65-generic
Compiler: gcc gcc (Ubuntu 7.4.0-1ubuntu1~18.04.1) 7.4.0
NIC: Broadcom Inc. brcm_57414 25000 Mbps
Target: x86_64-native-linuxapp-gcc
Fail/Total: 0/3
To view detailed results, visit:
https://lab.dpdk.org/results/dashboard/patchsets/15207/
UNH-IOL DPDK Community Lab
To manage your email subscriptions, visit:
https://lab.dpdk.org/results/dashboard/preferences/subscriptions/
^ permalink raw reply [flat|nested] 7+ messages in thread
* [dpdk-test-report] |SUCCESS| pw86642 [PATCH v3] pci/windows: fix build with SDK >= 10.0.20253
[not found] <1610659355-31330-1-git-send-email-roretzla@linux.microsoft.com>
@ 2021-01-14 21:24 ` checkpatch
0 siblings, 0 replies; 7+ messages in thread
From: checkpatch @ 2021-01-14 21:24 UTC (permalink / raw)
To: test-report
Test-Label: checkpatch
Test-Status: SUCCESS
http://dpdk.org/patch/86642
_coding style OK_
^ permalink raw reply [flat|nested] 7+ messages in thread
end of thread, other threads:[~2021-01-18 12:39 UTC | newest]
Thread overview: 7+ messages (download: mbox.gz / follow: Atom feed)
-- links below jump to the message on this page --
2021-01-18 12:39 [dpdk-test-report] |SUCCESS| pw86642 [PATCH] [v3] pci/windows: fix build with SDK >= 10.0.20253 dpdklab
-- strict thread matches above, loose matches on Subject: below --
2021-01-17 8:32 dpdklab
2021-01-16 12:32 dpdklab
2021-01-15 12:34 dpdklab
2021-01-15 9:07 dpdklab
2021-01-14 22:53 dpdklab
[not found] <1610659355-31330-1-git-send-email-roretzla@linux.microsoft.com>
2021-01-14 21:24 ` [dpdk-test-report] |SUCCESS| pw86642 [PATCH v3] " checkpatch
This is a public inbox, see mirroring instructions
for how to clone and mirror all data and code used for this inbox;
as well as URLs for NNTP newsgroup(s).