automatic DPDK test reports
 help / color / mirror / Atom feed
* [dpdk-test-report] |SUCCESS| pw86895 [PATCH] net/mlx5: fix refuse empty VLAN validation
@ 2021-01-19 19:02 dpdklab
  0 siblings, 0 replies; 13+ messages in thread
From: dpdklab @ 2021-01-19 19:02 UTC (permalink / raw)
  To: Test Report; +Cc: dpdk-test-reports

[-- Attachment #1: Type: text/plain, Size: 966 bytes --]

Test-Label: iol-intel-Functional
Test-Status: SUCCESS
http://dpdk.org/patch/86895

_Functional Testing PASS_

Submitter: Shiri Kuzin <shirik@nvidia.com>
Date: Tuesday, January 19 2021 17:07:00 
DPDK git baseline: Repo:dpdk
  Branch: master
  CommitID:05a732f7f78d6be13c7e593f67040cf0e55e503d

86895 --> functional testing pass

Test environment and result as below:

Ubuntu 18.04
Kernel: 4.15.0-generic
Compiler: gcc 7.4
NIC: Intel Corporation Ethernet Converged Network Adapter XL710-QDA2 40000 Mbps
Target: x86_64-native-linuxapp-gcc
Fail/Total: 0/3


Ubuntu 18.04
Kernel: 4.15.0-generic
Compiler: gcc 7.4
NIC: Intel Corporation Ethernet Converged Network Adapter 82599ES 10000 Mbps
Target: x86_64-native-linuxapp-gcc
Fail/Total: 0/5


To view detailed results, visit:
https://lab.dpdk.org/results/dashboard/patchsets/15286/

UNH-IOL DPDK Community Lab

To manage your email subscriptions, visit: 
https://lab.dpdk.org/results/dashboard/preferences/subscriptions/

^ permalink raw reply	[flat|nested] 13+ messages in thread

* [dpdk-test-report] |SUCCESS| pw86895 [PATCH] net/mlx5: fix refuse empty VLAN validation
@ 2021-01-25 15:52 dpdklab
  0 siblings, 0 replies; 13+ messages in thread
From: dpdklab @ 2021-01-25 15:52 UTC (permalink / raw)
  To: Test Report; +Cc: dpdk-test-reports

[-- Attachment #1: Type: text/plain, Size: 767 bytes --]

Test-Label: iol-abi-testing
Test-Status: SUCCESS
http://dpdk.org/patch/86895

_Testing PASS_

Submitter: Shiri Kuzin <shirik@nvidia.com>
Date: Tuesday, January 19 2021 17:07:00 
DPDK git baseline: Repo:dpdk
  Branch: master
  CommitID:05a732f7f78d6be13c7e593f67040cf0e55e503d

86895 --> testing pass

Test environment and result as below:

+--------------+----------+
| Environment  | abi_test |
+==============+==========+
| Ubuntu 18.04 | PASS     |
+--------------+----------+


Ubuntu 18.04
	Kernel: 4.15.0-generic
	Compiler: gcc 7.5

To view detailed results, visit:
https://lab.dpdk.org/results/dashboard/patchsets/15286/

UNH-IOL DPDK Community Lab

To manage your email subscriptions, visit: 
https://lab.dpdk.org/results/dashboard/preferences/subscriptions/

^ permalink raw reply	[flat|nested] 13+ messages in thread

* [dpdk-test-report] |SUCCESS| pw86895 [PATCH] net/mlx5: fix refuse empty VLAN validation
@ 2021-01-25 14:57 dpdklab
  0 siblings, 0 replies; 13+ messages in thread
From: dpdklab @ 2021-01-25 14:57 UTC (permalink / raw)
  To: Test Report; +Cc: dpdk-test-reports

[-- Attachment #1: Type: text/plain, Size: 914 bytes --]

Test-Label: iol-abi-testing
Test-Status: SUCCESS
http://dpdk.org/patch/86895

_Testing PASS_

Submitter: Shiri Kuzin <shirik@nvidia.com>
Date: Tuesday, January 19 2021 17:07:00 
DPDK git baseline: Repo:dpdk
  Branch: master
  CommitID:05a732f7f78d6be13c7e593f67040cf0e55e503d

86895 --> testing pass

Test environment and result as below:

+------------------+----------+
|   Environment    | abi_test |
+==================+==========+
| Ubuntu 18.04     | PASS     |
+------------------+----------+
| Ubuntu 18.04 ARM | PASS     |
+------------------+----------+


Ubuntu 18.04
	Kernel: 4.15.0-generic
	Compiler: gcc 7.5

Ubuntu 18.04 ARM
	Kernel: 5.4.0-53-generic
	Compiler: gcc 9.3

To view detailed results, visit:
https://lab.dpdk.org/results/dashboard/patchsets/15286/

UNH-IOL DPDK Community Lab

To manage your email subscriptions, visit: 
https://lab.dpdk.org/results/dashboard/preferences/subscriptions/

^ permalink raw reply	[flat|nested] 13+ messages in thread

* [dpdk-test-report] |SUCCESS| pw86895 [PATCH] net/mlx5: fix refuse empty VLAN validation
@ 2021-01-20 19:02 dpdklab
  0 siblings, 0 replies; 13+ messages in thread
From: dpdklab @ 2021-01-20 19:02 UTC (permalink / raw)
  To: Ali Alnubani, Test Report; +Cc: dpdk-test-reports

[-- Attachment #1: Type: text/plain, Size: 890 bytes --]

Test-Label: iol-mellanox-Functional
Test-Status: SUCCESS
http://dpdk.org/patch/86895

_Functional Testing PASS_

Submitter: Shiri Kuzin <shirik@nvidia.com>
Date: Tuesday, January 19 2021 17:07:00 
DPDK git baseline: Repo:dpdk
  Branch: master
  CommitID:05a732f7f78d6be13c7e593f67040cf0e55e503d

86895 --> functional testing pass

Test environment and result as below:

Ubuntu 18.04
Kernel: 4.15.0-generic
Compiler: gcc 7.4
NIC: Mellanox ConnectX-4 Lx 25000 Mbps
Target: x86_64-native-linuxapp-gcc
Fail/Total: 0/5


Ubuntu 18.04
Kernel: 4.15.0-generic
Compiler: gcc 7.4
NIC: Mellanox ConnectX-4 Lx 40000 Mbps
Target: x86_64-native-linuxapp-gcc
Fail/Total: 0/5


To view detailed results, visit:
https://lab.dpdk.org/results/dashboard/patchsets/15286/

UNH-IOL DPDK Community Lab

To manage your email subscriptions, visit: 
https://lab.dpdk.org/results/dashboard/preferences/subscriptions/

^ permalink raw reply	[flat|nested] 13+ messages in thread

* [dpdk-test-report] |SUCCESS| pw86895 [PATCH] net/mlx5: fix refuse empty VLAN validation
@ 2021-01-20 18:11 dpdklab
  0 siblings, 0 replies; 13+ messages in thread
From: dpdklab @ 2021-01-20 18:11 UTC (permalink / raw)
  To: Ali Alnubani, Test Report; +Cc: dpdk-test-reports

[-- Attachment #1: Type: text/plain, Size: 890 bytes --]

Test-Label: iol-mellanox-Functional
Test-Status: SUCCESS
http://dpdk.org/patch/86895

_Functional Testing PASS_

Submitter: Shiri Kuzin <shirik@nvidia.com>
Date: Tuesday, January 19 2021 17:07:00 
DPDK git baseline: Repo:dpdk
  Branch: master
  CommitID:05a732f7f78d6be13c7e593f67040cf0e55e503d

86895 --> functional testing pass

Test environment and result as below:

Ubuntu 18.04
Kernel: 4.15.0-generic
Compiler: gcc 7.4
NIC: Mellanox ConnectX-4 Lx 25000 Mbps
Target: x86_64-native-linuxapp-gcc
Fail/Total: 0/5


Ubuntu 18.04
Kernel: 4.15.0-generic
Compiler: gcc 7.4
NIC: Mellanox ConnectX-4 Lx 40000 Mbps
Target: x86_64-native-linuxapp-gcc
Fail/Total: 0/5


To view detailed results, visit:
https://lab.dpdk.org/results/dashboard/patchsets/15286/

UNH-IOL DPDK Community Lab

To manage your email subscriptions, visit: 
https://lab.dpdk.org/results/dashboard/preferences/subscriptions/

^ permalink raw reply	[flat|nested] 13+ messages in thread

* [dpdk-test-report] |SUCCESS| pw86895 [PATCH] net/mlx5: fix refuse empty VLAN validation
@ 2021-01-19 19:15 dpdklab
  0 siblings, 0 replies; 13+ messages in thread
From: dpdklab @ 2021-01-19 19:15 UTC (permalink / raw)
  To: Test Report; +Cc: dpdk-test-reports

[-- Attachment #1: Type: text/plain, Size: 1909 bytes --]

Test-Label: iol-intel-Performance
Test-Status: SUCCESS
http://dpdk.org/patch/86895

_Performance Testing PASS_

Submitter: Shiri Kuzin <shirik@nvidia.com>
Date: Tuesday, January 19 2021 17:07:00 
DPDK git baseline: Repo:dpdk
  Branch: master
  CommitID:05a732f7f78d6be13c7e593f67040cf0e55e503d

86895 --> performance testing pass

Test environment and result as below:

Ubuntu 18.04
Kernel: 4.15.0-generic
Compiler: gcc 7.4
NIC: Intel Corporation Ethernet Converged Network Adapter 82599ES 10000 Mbps
Target: x86_64-native-linuxapp-gcc
Fail/Total: 0/2

Detail performance results: 
+------------+---------+-------------------------------------+
| frame_size | txd/rxd | throughput difference from expected |
+============+=========+=====================================+
| 64         | 512     | 0.517                               |
+------------+---------+-------------------------------------+
| 64         | 2048    | 0.925                               |
+------------+---------+-------------------------------------+

Ubuntu 18.04
Kernel: 4.15.0-generic
Compiler: gcc 7.4
NIC: Intel Corporation Ethernet Converged Network Adapter XL710-QDA2 40000 Mbps
Target: x86_64-native-linuxapp-gcc
Fail/Total: 0/2

Detail performance results: 
+------------+---------+-------------------------------------+
| frame_size | txd/rxd | throughput difference from expected |
+============+=========+=====================================+
| 64         | 512     | 2.650                               |
+------------+---------+-------------------------------------+
| 64         | 2048    | 1.994                               |
+------------+---------+-------------------------------------+

To view detailed results, visit:
https://lab.dpdk.org/results/dashboard/patchsets/15286/

UNH-IOL DPDK Community Lab

To manage your email subscriptions, visit: 
https://lab.dpdk.org/results/dashboard/preferences/subscriptions/

^ permalink raw reply	[flat|nested] 13+ messages in thread

* [dpdk-test-report] |SUCCESS| pw86895 [PATCH] net/mlx5: fix refuse empty VLAN validation
@ 2021-01-19 18:55 dpdklab
  0 siblings, 0 replies; 13+ messages in thread
From: dpdklab @ 2021-01-19 18:55 UTC (permalink / raw)
  To: Ajit Khaparde, Test Report; +Cc: dpdk-test-reports

[-- Attachment #1: Type: text/plain, Size: 787 bytes --]

Test-Label: iol-broadcom-Functional
Test-Status: SUCCESS
http://dpdk.org/patch/86895

_Functional Testing PASS_

Submitter: Shiri Kuzin <shirik@nvidia.com>
Date: Tuesday, January 19 2021 17:07:00 
DPDK git baseline: Repo:dpdk
  Branch: master
  CommitID:05a732f7f78d6be13c7e593f67040cf0e55e503d

86895 --> functional testing pass

Test environment and result as below:

Ubuntu 18.04
Kernel: 4.15.0-65-generic
Compiler: gcc gcc (Ubuntu 7.4.0-1ubuntu1~18.04.1) 7.4.0
NIC: Broadcom Inc. brcm_57414 25000 Mbps
Target: x86_64-native-linuxapp-gcc
Fail/Total: 0/3


To view detailed results, visit:
https://lab.dpdk.org/results/dashboard/patchsets/15286/

UNH-IOL DPDK Community Lab

To manage your email subscriptions, visit: 
https://lab.dpdk.org/results/dashboard/preferences/subscriptions/

^ permalink raw reply	[flat|nested] 13+ messages in thread

* [dpdk-test-report] |SUCCESS| pw86895 [PATCH] net/mlx5: fix refuse empty VLAN validation
@ 2021-01-19 18:52 dpdklab
  0 siblings, 0 replies; 13+ messages in thread
From: dpdklab @ 2021-01-19 18:52 UTC (permalink / raw)
  To: Test Report; +Cc: dpdk-test-reports

[-- Attachment #1: Type: text/plain, Size: 1909 bytes --]

Test-Label: iol-intel-Performance
Test-Status: SUCCESS
http://dpdk.org/patch/86895

_Performance Testing PASS_

Submitter: Shiri Kuzin <shirik@nvidia.com>
Date: Tuesday, January 19 2021 17:07:00 
DPDK git baseline: Repo:dpdk
  Branch: master
  CommitID:05a732f7f78d6be13c7e593f67040cf0e55e503d

86895 --> performance testing pass

Test environment and result as below:

Ubuntu 18.04
Kernel: 4.15.0-generic
Compiler: gcc 7.4
NIC: Intel Corporation Ethernet Converged Network Adapter 82599ES 10000 Mbps
Target: x86_64-native-linuxapp-gcc
Fail/Total: 0/2

Detail performance results: 
+------------+---------+-------------------------------------+
| frame_size | txd/rxd | throughput difference from expected |
+============+=========+=====================================+
| 64         | 512     | 0.423                               |
+------------+---------+-------------------------------------+
| 64         | 2048    | 1.072                               |
+------------+---------+-------------------------------------+

Ubuntu 18.04
Kernel: 4.15.0-generic
Compiler: gcc 7.4
NIC: Intel Corporation Ethernet Converged Network Adapter XL710-QDA2 40000 Mbps
Target: x86_64-native-linuxapp-gcc
Fail/Total: 0/2

Detail performance results: 
+------------+---------+-------------------------------------+
| frame_size | txd/rxd | throughput difference from expected |
+============+=========+=====================================+
| 64         | 512     | 2.626                               |
+------------+---------+-------------------------------------+
| 64         | 2048    | 1.907                               |
+------------+---------+-------------------------------------+

To view detailed results, visit:
https://lab.dpdk.org/results/dashboard/patchsets/15286/

UNH-IOL DPDK Community Lab

To manage your email subscriptions, visit: 
https://lab.dpdk.org/results/dashboard/preferences/subscriptions/

^ permalink raw reply	[flat|nested] 13+ messages in thread

* [dpdk-test-report] |SUCCESS| pw86895 [PATCH] net/mlx5: fix refuse empty VLAN validation
@ 2021-01-19 18:47 dpdklab
  0 siblings, 0 replies; 13+ messages in thread
From: dpdklab @ 2021-01-19 18:47 UTC (permalink / raw)
  To: Ajit Khaparde, Test Report; +Cc: dpdk-test-reports

[-- Attachment #1: Type: text/plain, Size: 1260 bytes --]

Test-Label: iol-broadcom-Performance
Test-Status: SUCCESS
http://dpdk.org/patch/86895

_Performance Testing PASS_

Submitter: Shiri Kuzin <shirik@nvidia.com>
Date: Tuesday, January 19 2021 17:07:00 
DPDK git baseline: Repo:dpdk
  Branch: master
  CommitID:05a732f7f78d6be13c7e593f67040cf0e55e503d

86895 --> performance testing pass

Test environment and result as below:

Ubuntu 18.04
Kernel: 4.15.0-65-generic
Compiler: gcc gcc (Ubuntu 7.4.0-1ubuntu1~18.04.1) 7.4.0
NIC: Broadcom Inc. brcm_57414 25000 Mbps
Target: x86_64-native-linuxapp-gcc
Fail/Total: 0/2

Detail performance results: 
+------------+---------+-------------------------------------+
| frame_size | txd/rxd | throughput difference from expected |
+============+=========+=====================================+
| 64         | 512     | -0.023                              |
+------------+---------+-------------------------------------+
| 64         | 2048    | 0.030                               |
+------------+---------+-------------------------------------+

To view detailed results, visit:
https://lab.dpdk.org/results/dashboard/patchsets/15286/

UNH-IOL DPDK Community Lab

To manage your email subscriptions, visit: 
https://lab.dpdk.org/results/dashboard/preferences/subscriptions/

^ permalink raw reply	[flat|nested] 13+ messages in thread

* [dpdk-test-report] |SUCCESS| pw86895 [PATCH] net/mlx5: fix refuse empty VLAN validation
@ 2021-01-19 18:42 dpdklab
  0 siblings, 0 replies; 13+ messages in thread
From: dpdklab @ 2021-01-19 18:42 UTC (permalink / raw)
  To: Test Report; +Cc: dpdk-test-reports

[-- Attachment #1: Type: text/plain, Size: 966 bytes --]

Test-Label: iol-intel-Functional
Test-Status: SUCCESS
http://dpdk.org/patch/86895

_Functional Testing PASS_

Submitter: Shiri Kuzin <shirik@nvidia.com>
Date: Tuesday, January 19 2021 17:07:00 
DPDK git baseline: Repo:dpdk
  Branch: master
  CommitID:05a732f7f78d6be13c7e593f67040cf0e55e503d

86895 --> functional testing pass

Test environment and result as below:

Ubuntu 18.04
Kernel: 4.15.0-generic
Compiler: gcc 7.4
NIC: Intel Corporation Ethernet Converged Network Adapter XL710-QDA2 40000 Mbps
Target: x86_64-native-linuxapp-gcc
Fail/Total: 0/3


Ubuntu 18.04
Kernel: 4.15.0-generic
Compiler: gcc 7.4
NIC: Intel Corporation Ethernet Converged Network Adapter 82599ES 10000 Mbps
Target: x86_64-native-linuxapp-gcc
Fail/Total: 0/5


To view detailed results, visit:
https://lab.dpdk.org/results/dashboard/patchsets/15286/

UNH-IOL DPDK Community Lab

To manage your email subscriptions, visit: 
https://lab.dpdk.org/results/dashboard/preferences/subscriptions/

^ permalink raw reply	[flat|nested] 13+ messages in thread

* [dpdk-test-report] |SUCCESS| pw86895 [PATCH] net/mlx5: fix refuse empty VLAN validation
@ 2021-01-19 18:41 dpdklab
  0 siblings, 0 replies; 13+ messages in thread
From: dpdklab @ 2021-01-19 18:41 UTC (permalink / raw)
  To: Ajit Khaparde, Test Report; +Cc: dpdk-test-reports

[-- Attachment #1: Type: text/plain, Size: 787 bytes --]

Test-Label: iol-broadcom-Functional
Test-Status: SUCCESS
http://dpdk.org/patch/86895

_Functional Testing PASS_

Submitter: Shiri Kuzin <shirik@nvidia.com>
Date: Tuesday, January 19 2021 17:07:00 
DPDK git baseline: Repo:dpdk
  Branch: master
  CommitID:05a732f7f78d6be13c7e593f67040cf0e55e503d

86895 --> functional testing pass

Test environment and result as below:

Ubuntu 18.04
Kernel: 4.15.0-65-generic
Compiler: gcc gcc (Ubuntu 7.4.0-1ubuntu1~18.04.1) 7.4.0
NIC: Broadcom Inc. brcm_57414 25000 Mbps
Target: x86_64-native-linuxapp-gcc
Fail/Total: 0/3


To view detailed results, visit:
https://lab.dpdk.org/results/dashboard/patchsets/15286/

UNH-IOL DPDK Community Lab

To manage your email subscriptions, visit: 
https://lab.dpdk.org/results/dashboard/preferences/subscriptions/

^ permalink raw reply	[flat|nested] 13+ messages in thread

* [dpdk-test-report] |SUCCESS| pw86895 [PATCH] net/mlx5: fix refuse empty VLAN validation
@ 2021-01-19 18:32 dpdklab
  0 siblings, 0 replies; 13+ messages in thread
From: dpdklab @ 2021-01-19 18:32 UTC (permalink / raw)
  To: Ajit Khaparde, Test Report; +Cc: dpdk-test-reports

[-- Attachment #1: Type: text/plain, Size: 1260 bytes --]

Test-Label: iol-broadcom-Performance
Test-Status: SUCCESS
http://dpdk.org/patch/86895

_Performance Testing PASS_

Submitter: Shiri Kuzin <shirik@nvidia.com>
Date: Tuesday, January 19 2021 17:07:00 
DPDK git baseline: Repo:dpdk
  Branch: master
  CommitID:05a732f7f78d6be13c7e593f67040cf0e55e503d

86895 --> performance testing pass

Test environment and result as below:

Ubuntu 18.04
Kernel: 4.15.0-65-generic
Compiler: gcc gcc (Ubuntu 7.4.0-1ubuntu1~18.04.1) 7.4.0
NIC: Broadcom Inc. brcm_57414 25000 Mbps
Target: x86_64-native-linuxapp-gcc
Fail/Total: 0/2

Detail performance results: 
+------------+---------+-------------------------------------+
| frame_size | txd/rxd | throughput difference from expected |
+============+=========+=====================================+
| 64         | 512     | -0.007                              |
+------------+---------+-------------------------------------+
| 64         | 2048    | 0.030                               |
+------------+---------+-------------------------------------+

To view detailed results, visit:
https://lab.dpdk.org/results/dashboard/patchsets/15286/

UNH-IOL DPDK Community Lab

To manage your email subscriptions, visit: 
https://lab.dpdk.org/results/dashboard/preferences/subscriptions/

^ permalink raw reply	[flat|nested] 13+ messages in thread

* [dpdk-test-report] |SUCCESS| pw86895 [PATCH] net/mlx5: fix refuse empty VLAN validation
       [not found] <20210119170700.25918-1-shirik@nvidia.com>
@ 2021-01-19 17:07 ` checkpatch
  0 siblings, 0 replies; 13+ messages in thread
From: checkpatch @ 2021-01-19 17:07 UTC (permalink / raw)
  To: test-report

Test-Label: checkpatch
Test-Status: SUCCESS
http://dpdk.org/patch/86895

_coding style OK_



^ permalink raw reply	[flat|nested] 13+ messages in thread

end of thread, other threads:[~2021-01-25 15:52 UTC | newest]

Thread overview: 13+ messages (download: mbox.gz / follow: Atom feed)
-- links below jump to the message on this page --
2021-01-19 19:02 [dpdk-test-report] |SUCCESS| pw86895 [PATCH] net/mlx5: fix refuse empty VLAN validation dpdklab
  -- strict thread matches above, loose matches on Subject: below --
2021-01-25 15:52 dpdklab
2021-01-25 14:57 dpdklab
2021-01-20 19:02 dpdklab
2021-01-20 18:11 dpdklab
2021-01-19 19:15 dpdklab
2021-01-19 18:55 dpdklab
2021-01-19 18:52 dpdklab
2021-01-19 18:47 dpdklab
2021-01-19 18:42 dpdklab
2021-01-19 18:41 dpdklab
2021-01-19 18:32 dpdklab
     [not found] <20210119170700.25918-1-shirik@nvidia.com>
2021-01-19 17:07 ` checkpatch

automatic DPDK test reports

This inbox may be cloned and mirrored by anyone:

	git clone --mirror https://inbox.dpdk.org/test-report/0 test-report/git/0.git

	# If you have public-inbox 1.1+ installed, you may
	# initialize and index your mirror using the following commands:
	public-inbox-init -V2 test-report test-report/ https://inbox.dpdk.org/test-report \
		test-report@dpdk.org
	public-inbox-index test-report

Example config snippet for mirrors.
Newsgroup available over NNTP:
	nntp://inbox.dpdk.org/inbox.dpdk.test-report


AGPL code for this site: git clone https://public-inbox.org/public-inbox.git