automatic DPDK test reports
 help / color / mirror / Atom feed
* [dpdk-test-report] |SUCCESS| pw86720 [PATCH] app/testpmd: tx pkt clones parameter in flowgen
@ 2021-01-20 14:12 dpdklab
  0 siblings, 0 replies; 3+ messages in thread
From: dpdklab @ 2021-01-20 14:12 UTC (permalink / raw)
  To: Test Report; +Cc: dpdk-test-reports

[-- Attachment #1: Type: text/plain, Size: 921 bytes --]

Test-Label: iol-abi-testing
Test-Status: SUCCESS
http://dpdk.org/patch/86720

_Testing PASS_

Submitter: Igor Russkikh <irusskikh@marvell.com>
Date: Saturday, January 16 2021 09:38:59 
DPDK git baseline: Repo:dpdk
  Branch: master
  CommitID:6a426d733ec0d0d0d8edd6fb46da70a763a81194

86720 --> testing pass

Test environment and result as below:

+------------------+----------+
|   Environment    | abi_test |
+==================+==========+
| Ubuntu 18.04     | PASS     |
+------------------+----------+
| Ubuntu 18.04 ARM | PASS     |
+------------------+----------+


Ubuntu 18.04
	Kernel: 4.15.0-generic
	Compiler: gcc 7.5

Ubuntu 18.04 ARM
	Kernel: 5.4.0-53-generic
	Compiler: gcc 9.3

To view detailed results, visit:
https://lab.dpdk.org/results/dashboard/patchsets/15234/

UNH-IOL DPDK Community Lab

To manage your email subscriptions, visit: 
https://lab.dpdk.org/results/dashboard/preferences/subscriptions/

^ permalink raw reply	[flat|nested] 3+ messages in thread

* [dpdk-test-report] |SUCCESS| pw86720 [PATCH] app/testpmd: tx pkt clones parameter in flowgen
@ 2021-01-20 13:16 dpdklab
  0 siblings, 0 replies; 3+ messages in thread
From: dpdklab @ 2021-01-20 13:16 UTC (permalink / raw)
  To: Test Report; +Cc: dpdk-test-reports

[-- Attachment #1: Type: text/plain, Size: 921 bytes --]

Test-Label: iol-abi-testing
Test-Status: SUCCESS
http://dpdk.org/patch/86720

_Testing PASS_

Submitter: Igor Russkikh <irusskikh@marvell.com>
Date: Saturday, January 16 2021 09:38:59 
DPDK git baseline: Repo:dpdk
  Branch: master
  CommitID:6a426d733ec0d0d0d8edd6fb46da70a763a81194

86720 --> testing pass

Test environment and result as below:

+------------------+----------+
|   Environment    | abi_test |
+==================+==========+
| Ubuntu 18.04     | PASS     |
+------------------+----------+
| Ubuntu 18.04 ARM | PASS     |
+------------------+----------+


Ubuntu 18.04
	Kernel: 4.15.0-generic
	Compiler: gcc 7.5

Ubuntu 18.04 ARM
	Kernel: 5.4.0-53-generic
	Compiler: gcc 9.3

To view detailed results, visit:
https://lab.dpdk.org/results/dashboard/patchsets/15234/

UNH-IOL DPDK Community Lab

To manage your email subscriptions, visit: 
https://lab.dpdk.org/results/dashboard/preferences/subscriptions/

^ permalink raw reply	[flat|nested] 3+ messages in thread

* [dpdk-test-report] |SUCCESS| pw86720 [PATCH] app/testpmd: tx pkt clones parameter in flowgen
       [not found] <20210116093859.3025-1-irusskikh@marvell.com>
@ 2021-01-16  9:39 ` checkpatch
  0 siblings, 0 replies; 3+ messages in thread
From: checkpatch @ 2021-01-16  9:39 UTC (permalink / raw)
  To: test-report

Test-Label: checkpatch
Test-Status: SUCCESS
http://dpdk.org/patch/86720

_coding style OK_



^ permalink raw reply	[flat|nested] 3+ messages in thread

end of thread, other threads:[~2021-01-20 14:12 UTC | newest]

Thread overview: 3+ messages (download: mbox.gz / follow: Atom feed)
-- links below jump to the message on this page --
2021-01-20 14:12 [dpdk-test-report] |SUCCESS| pw86720 [PATCH] app/testpmd: tx pkt clones parameter in flowgen dpdklab
  -- strict thread matches above, loose matches on Subject: below --
2021-01-20 13:16 dpdklab
     [not found] <20210116093859.3025-1-irusskikh@marvell.com>
2021-01-16  9:39 ` checkpatch

automatic DPDK test reports

This inbox may be cloned and mirrored by anyone:

	git clone --mirror https://inbox.dpdk.org/test-report/0 test-report/git/0.git

	# If you have public-inbox 1.1+ installed, you may
	# initialize and index your mirror using the following commands:
	public-inbox-init -V2 test-report test-report/ https://inbox.dpdk.org/test-report \
		test-report@dpdk.org
	public-inbox-index test-report

Example config snippet for mirrors.
Newsgroup available over NNTP:
	nntp://inbox.dpdk.org/inbox.dpdk.test-report


AGPL code for this site: git clone https://public-inbox.org/public-inbox.git