automatic DPDK test reports
 help / color / mirror / Atom feed
* [dpdk-test-report] |SUCCESS| pw86805 [PATCH] build: force pkg-config for dependency detection
@ 2021-01-20 19:40 dpdklab
  0 siblings, 0 replies; 13+ messages in thread
From: dpdklab @ 2021-01-20 19:40 UTC (permalink / raw)
  To: Ali Alnubani, Test Report; +Cc: dpdk-test-reports

[-- Attachment #1: Type: text/plain, Size: 3972 bytes --]

Test-Label: iol-mellanox-Performance
Test-Status: SUCCESS
http://dpdk.org/patch/86805

_Performance Testing PASS_

Submitter: Bruce Richardson <bruce.richardson@intel.com>
Date: Monday, January 18 2021 14:29:57 
DPDK git baseline: Repo:dpdk
  Branch: master
  CommitID:e03d2c3c705e40281bda2f11a947f4d3d5e062e6

86805 --> performance testing pass

Test environment and result as below:

Ubuntu 18.04
Kernel: 4.15.0-generic
Compiler: gcc 7.4
NIC: Mellanox ConnectX-5 100000 Mbps
Target: x86_64-native-linuxapp-gcc
Fail/Total: 0/6

Detail performance results: 
+------------+---------+-------------------------------------+
| frame_size | txd/rxd | throughput difference from expected |
+============+=========+=====================================+
| 64         | 256     | 0.085                               |
+------------+---------+-------------------------------------+
| 128        | 256     | -0.068                              |
+------------+---------+-------------------------------------+
| 256        | 256     | 0.130                               |
+------------+---------+-------------------------------------+
| 512        | 256     | -0.174                              |
+------------+---------+-------------------------------------+
| 1024       | 256     | -0.119                              |
+------------+---------+-------------------------------------+
| 1518       | 256     | 0.016                               |
+------------+---------+-------------------------------------+

Ubuntu 18.04
Kernel: 4.15.0-generic
Compiler: gcc 7.4
NIC: Mellanox ConnectX-4 Lx 25000 Mbps
Target: x86_64-native-linuxapp-gcc
Fail/Total: 0/6

Detail performance results: 
+------------+---------+-------------------------------------+
| frame_size | txd/rxd | throughput difference from expected |
+============+=========+=====================================+
| 64         | 256     | 0.095                               |
+------------+---------+-------------------------------------+
| 128        | 256     | 0.137                               |
+------------+---------+-------------------------------------+
| 256        | 256     | 0.215                               |
+------------+---------+-------------------------------------+
| 512        | 256     | 0.017                               |
+------------+---------+-------------------------------------+
| 1024       | 256     | 0.003                               |
+------------+---------+-------------------------------------+
| 1518       | 256     | 0                                   |
+------------+---------+-------------------------------------+

Ubuntu 18.04
Kernel: 4.15.0-generic
Compiler: gcc 7.4
NIC: Mellanox ConnectX-4 Lx 40000 Mbps
Target: x86_64-native-linuxapp-gcc
Fail/Total: 0/6

Detail performance results: 
+------------+---------+-------------------------------------+
| frame_size | txd/rxd | throughput difference from expected |
+============+=========+=====================================+
| 64         | 256     | -0.137                              |
+------------+---------+-------------------------------------+
| 128        | 256     | 0.202                               |
+------------+---------+-------------------------------------+
| 256        | 256     | 0.037                               |
+------------+---------+-------------------------------------+
| 512        | 256     | -0.069                              |
+------------+---------+-------------------------------------+
| 1024       | 256     | 0                                   |
+------------+---------+-------------------------------------+
| 1518       | 256     | 0.001                               |
+------------+---------+-------------------------------------+

To view detailed results, visit:
https://lab.dpdk.org/results/dashboard/patchsets/15256/

UNH-IOL DPDK Community Lab

To manage your email subscriptions, visit: 
https://lab.dpdk.org/results/dashboard/preferences/subscriptions/

^ permalink raw reply	[flat|nested] 13+ messages in thread
* [dpdk-test-report] |SUCCESS| pw86805 [PATCH] build: force pkg-config for dependency detection
@ 2021-01-21  7:20 dpdklab
  0 siblings, 0 replies; 13+ messages in thread
From: dpdklab @ 2021-01-21  7:20 UTC (permalink / raw)
  To: Test Report; +Cc: dpdk-test-reports

[-- Attachment #1: Type: text/plain, Size: 927 bytes --]

Test-Label: iol-abi-testing
Test-Status: SUCCESS
http://dpdk.org/patch/86805

_Testing PASS_

Submitter: Bruce Richardson <bruce.richardson@intel.com>
Date: Monday, January 18 2021 14:29:57 
DPDK git baseline: Repo:dpdk
  Branch: master
  CommitID:e03d2c3c705e40281bda2f11a947f4d3d5e062e6

86805 --> testing pass

Test environment and result as below:

+------------------+----------+
|   Environment    | abi_test |
+==================+==========+
| Ubuntu 18.04     | PASS     |
+------------------+----------+
| Ubuntu 18.04 ARM | PASS     |
+------------------+----------+


Ubuntu 18.04
	Kernel: 4.15.0-generic
	Compiler: gcc 7.5

Ubuntu 18.04 ARM
	Kernel: 5.4.0-53-generic
	Compiler: gcc 9.3

To view detailed results, visit:
https://lab.dpdk.org/results/dashboard/patchsets/15256/

UNH-IOL DPDK Community Lab

To manage your email subscriptions, visit: 
https://lab.dpdk.org/results/dashboard/preferences/subscriptions/

^ permalink raw reply	[flat|nested] 13+ messages in thread
* [dpdk-test-report] |SUCCESS| pw86805 [PATCH] build: force pkg-config for dependency detection
@ 2021-01-21  5:59 dpdklab
  0 siblings, 0 replies; 13+ messages in thread
From: dpdklab @ 2021-01-21  5:59 UTC (permalink / raw)
  To: Test Report; +Cc: dpdk-test-reports

[-- Attachment #1: Type: text/plain, Size: 927 bytes --]

Test-Label: iol-abi-testing
Test-Status: SUCCESS
http://dpdk.org/patch/86805

_Testing PASS_

Submitter: Bruce Richardson <bruce.richardson@intel.com>
Date: Monday, January 18 2021 14:29:57 
DPDK git baseline: Repo:dpdk
  Branch: master
  CommitID:e03d2c3c705e40281bda2f11a947f4d3d5e062e6

86805 --> testing pass

Test environment and result as below:

+------------------+----------+
|   Environment    | abi_test |
+==================+==========+
| Ubuntu 18.04     | PASS     |
+------------------+----------+
| Ubuntu 18.04 ARM | PASS     |
+------------------+----------+


Ubuntu 18.04
	Kernel: 4.15.0-generic
	Compiler: gcc 7.5

Ubuntu 18.04 ARM
	Kernel: 5.4.0-53-generic
	Compiler: gcc 9.3

To view detailed results, visit:
https://lab.dpdk.org/results/dashboard/patchsets/15256/

UNH-IOL DPDK Community Lab

To manage your email subscriptions, visit: 
https://lab.dpdk.org/results/dashboard/preferences/subscriptions/

^ permalink raw reply	[flat|nested] 13+ messages in thread
* [dpdk-test-report] |SUCCESS| pw86805 [PATCH] build: force pkg-config for dependency detection
@ 2021-01-20 18:24 dpdklab
  0 siblings, 0 replies; 13+ messages in thread
From: dpdklab @ 2021-01-20 18:24 UTC (permalink / raw)
  To: Ali Alnubani, Test Report; +Cc: dpdk-test-reports

[-- Attachment #1: Type: text/plain, Size: 3972 bytes --]

Test-Label: iol-mellanox-Performance
Test-Status: SUCCESS
http://dpdk.org/patch/86805

_Performance Testing PASS_

Submitter: Bruce Richardson <bruce.richardson@intel.com>
Date: Monday, January 18 2021 14:29:57 
DPDK git baseline: Repo:dpdk
  Branch: master
  CommitID:e03d2c3c705e40281bda2f11a947f4d3d5e062e6

86805 --> performance testing pass

Test environment and result as below:

Ubuntu 18.04
Kernel: 4.15.0-generic
Compiler: gcc 7.4
NIC: Mellanox ConnectX-5 100000 Mbps
Target: x86_64-native-linuxapp-gcc
Fail/Total: 0/6

Detail performance results: 
+------------+---------+-------------------------------------+
| frame_size | txd/rxd | throughput difference from expected |
+============+=========+=====================================+
| 64         | 256     | -0.016                              |
+------------+---------+-------------------------------------+
| 128        | 256     | 0.117                               |
+------------+---------+-------------------------------------+
| 256        | 256     | -0.052                              |
+------------+---------+-------------------------------------+
| 512        | 256     | -0.013                              |
+------------+---------+-------------------------------------+
| 1024       | 256     | -0.089                              |
+------------+---------+-------------------------------------+
| 1518       | 256     | -0.016                              |
+------------+---------+-------------------------------------+

Ubuntu 18.04
Kernel: 4.15.0-generic
Compiler: gcc 7.4
NIC: Mellanox ConnectX-4 Lx 25000 Mbps
Target: x86_64-native-linuxapp-gcc
Fail/Total: 0/6

Detail performance results: 
+------------+---------+-------------------------------------+
| frame_size | txd/rxd | throughput difference from expected |
+============+=========+=====================================+
| 64         | 256     | -0.086                              |
+------------+---------+-------------------------------------+
| 128        | 256     | 0.124                               |
+------------+---------+-------------------------------------+
| 256        | 256     | 0.081                               |
+------------+---------+-------------------------------------+
| 512        | 256     | 0.064                               |
+------------+---------+-------------------------------------+
| 1024       | 256     | -0.002                              |
+------------+---------+-------------------------------------+
| 1518       | 256     | 0.001                               |
+------------+---------+-------------------------------------+

Ubuntu 18.04
Kernel: 4.15.0-generic
Compiler: gcc 7.4
NIC: Mellanox ConnectX-4 Lx 40000 Mbps
Target: x86_64-native-linuxapp-gcc
Fail/Total: 0/6

Detail performance results: 
+------------+---------+-------------------------------------+
| frame_size | txd/rxd | throughput difference from expected |
+============+=========+=====================================+
| 64         | 256     | -0.148                              |
+------------+---------+-------------------------------------+
| 128        | 256     | 0.208                               |
+------------+---------+-------------------------------------+
| 256        | 256     | 0.493                               |
+------------+---------+-------------------------------------+
| 512        | 256     | -0.065                              |
+------------+---------+-------------------------------------+
| 1024       | 256     | 0.007                               |
+------------+---------+-------------------------------------+
| 1518       | 256     | 0.003                               |
+------------+---------+-------------------------------------+

To view detailed results, visit:
https://lab.dpdk.org/results/dashboard/patchsets/15256/

UNH-IOL DPDK Community Lab

To manage your email subscriptions, visit: 
https://lab.dpdk.org/results/dashboard/preferences/subscriptions/

^ permalink raw reply	[flat|nested] 13+ messages in thread
* [dpdk-test-report] |SUCCESS| pw86805 [PATCH] build: force pkg-config for dependency detection
@ 2021-01-18 17:32 dpdklab
  0 siblings, 0 replies; 13+ messages in thread
From: dpdklab @ 2021-01-18 17:32 UTC (permalink / raw)
  To: Ali Alnubani, Test Report; +Cc: dpdk-test-reports

[-- Attachment #1: Type: text/plain, Size: 903 bytes --]

Test-Label: iol-mellanox-Functional
Test-Status: SUCCESS
http://dpdk.org/patch/86805

_Functional Testing PASS_

Submitter: Bruce Richardson <bruce.richardson@intel.com>
Date: Monday, January 18 2021 14:29:57 
DPDK git baseline: Repo:dpdk
  Branch: master
  CommitID:e03d2c3c705e40281bda2f11a947f4d3d5e062e6

86805 --> functional testing pass

Test environment and result as below:

Ubuntu 18.04
Kernel: 4.15.0-generic
Compiler: gcc 7.4
NIC: Mellanox ConnectX-4 Lx 25000 Mbps
Target: x86_64-native-linuxapp-gcc
Fail/Total: 0/5


Ubuntu 18.04
Kernel: 4.15.0-generic
Compiler: gcc 7.4
NIC: Mellanox ConnectX-4 Lx 40000 Mbps
Target: x86_64-native-linuxapp-gcc
Fail/Total: 0/5


To view detailed results, visit:
https://lab.dpdk.org/results/dashboard/patchsets/15256/

UNH-IOL DPDK Community Lab

To manage your email subscriptions, visit: 
https://lab.dpdk.org/results/dashboard/preferences/subscriptions/

^ permalink raw reply	[flat|nested] 13+ messages in thread
* [dpdk-test-report] |SUCCESS| pw86805 [PATCH] build: force pkg-config for dependency detection
@ 2021-01-18 16:16 dpdklab
  0 siblings, 0 replies; 13+ messages in thread
From: dpdklab @ 2021-01-18 16:16 UTC (permalink / raw)
  To: Ali Alnubani, Test Report; +Cc: dpdk-test-reports

[-- Attachment #1: Type: text/plain, Size: 903 bytes --]

Test-Label: iol-mellanox-Functional
Test-Status: SUCCESS
http://dpdk.org/patch/86805

_Functional Testing PASS_

Submitter: Bruce Richardson <bruce.richardson@intel.com>
Date: Monday, January 18 2021 14:29:57 
DPDK git baseline: Repo:dpdk
  Branch: master
  CommitID:e03d2c3c705e40281bda2f11a947f4d3d5e062e6

86805 --> functional testing pass

Test environment and result as below:

Ubuntu 18.04
Kernel: 4.15.0-generic
Compiler: gcc 7.4
NIC: Mellanox ConnectX-4 Lx 25000 Mbps
Target: x86_64-native-linuxapp-gcc
Fail/Total: 0/5


Ubuntu 18.04
Kernel: 4.15.0-generic
Compiler: gcc 7.4
NIC: Mellanox ConnectX-4 Lx 40000 Mbps
Target: x86_64-native-linuxapp-gcc
Fail/Total: 0/5


To view detailed results, visit:
https://lab.dpdk.org/results/dashboard/patchsets/15256/

UNH-IOL DPDK Community Lab

To manage your email subscriptions, visit: 
https://lab.dpdk.org/results/dashboard/preferences/subscriptions/

^ permalink raw reply	[flat|nested] 13+ messages in thread
* [dpdk-test-report] |SUCCESS| pw86805 [PATCH] build: force pkg-config for dependency detection
@ 2021-01-18 15:49 dpdklab
  0 siblings, 0 replies; 13+ messages in thread
From: dpdklab @ 2021-01-18 15:49 UTC (permalink / raw)
  To: Test Report; +Cc: dpdk-test-reports

[-- Attachment #1: Type: text/plain, Size: 1268 bytes --]

Test-Label: iol-intel-Performance
Test-Status: SUCCESS
http://dpdk.org/patch/86805

_Performance Testing PASS_

Submitter: Bruce Richardson <bruce.richardson@intel.com>
Date: Monday, January 18 2021 14:29:57 
DPDK git baseline: Repo:dpdk
  Branch: master
  CommitID:e03d2c3c705e40281bda2f11a947f4d3d5e062e6

86805 --> performance testing pass

Test environment and result as below:

Ubuntu 18.04
Kernel: 4.15.0-generic
Compiler: gcc 7.4
NIC: Intel Corporation Ethernet Converged Network Adapter XL710-QDA2 40000 Mbps
Target: x86_64-native-linuxapp-gcc
Fail/Total: 0/2

Detail performance results: 
+------------+---------+-------------------------------------+
| frame_size | txd/rxd | throughput difference from expected |
+============+=========+=====================================+
| 64         | 512     | 2.490                               |
+------------+---------+-------------------------------------+
| 64         | 2048    | 2.171                               |
+------------+---------+-------------------------------------+

To view detailed results, visit:
https://lab.dpdk.org/results/dashboard/patchsets/15256/

UNH-IOL DPDK Community Lab

To manage your email subscriptions, visit: 
https://lab.dpdk.org/results/dashboard/preferences/subscriptions/

^ permalink raw reply	[flat|nested] 13+ messages in thread
* [dpdk-test-report] |SUCCESS| pw86805 [PATCH] build: force pkg-config for dependency detection
@ 2021-01-18 15:36 dpdklab
  0 siblings, 0 replies; 13+ messages in thread
From: dpdklab @ 2021-01-18 15:36 UTC (permalink / raw)
  To: Test Report; +Cc: dpdk-test-reports

[-- Attachment #1: Type: text/plain, Size: 795 bytes --]

Test-Label: iol-intel-Functional
Test-Status: SUCCESS
http://dpdk.org/patch/86805

_Functional Testing PASS_

Submitter: Bruce Richardson <bruce.richardson@intel.com>
Date: Monday, January 18 2021 14:29:57 
DPDK git baseline: Repo:dpdk
  Branch: master
  CommitID:e03d2c3c705e40281bda2f11a947f4d3d5e062e6

86805 --> functional testing pass

Test environment and result as below:

Ubuntu 18.04
Kernel: 4.15.0-generic
Compiler: gcc 7.4
NIC: Intel Corporation Ethernet Converged Network Adapter XL710-QDA2 40000 Mbps
Target: x86_64-native-linuxapp-gcc
Fail/Total: 0/3


To view detailed results, visit:
https://lab.dpdk.org/results/dashboard/patchsets/15256/

UNH-IOL DPDK Community Lab

To manage your email subscriptions, visit: 
https://lab.dpdk.org/results/dashboard/preferences/subscriptions/

^ permalink raw reply	[flat|nested] 13+ messages in thread
* [dpdk-test-report] |SUCCESS| pw86805 [PATCH] build: force pkg-config for dependency detection
@ 2021-01-18 15:26 dpdklab
  0 siblings, 0 replies; 13+ messages in thread
From: dpdklab @ 2021-01-18 15:26 UTC (permalink / raw)
  To: Test Report; +Cc: dpdk-test-reports

[-- Attachment #1: Type: text/plain, Size: 1268 bytes --]

Test-Label: iol-intel-Performance
Test-Status: SUCCESS
http://dpdk.org/patch/86805

_Performance Testing PASS_

Submitter: Bruce Richardson <bruce.richardson@intel.com>
Date: Monday, January 18 2021 14:29:57 
DPDK git baseline: Repo:dpdk
  Branch: master
  CommitID:e03d2c3c705e40281bda2f11a947f4d3d5e062e6

86805 --> performance testing pass

Test environment and result as below:

Ubuntu 18.04
Kernel: 4.15.0-generic
Compiler: gcc 7.4
NIC: Intel Corporation Ethernet Converged Network Adapter XL710-QDA2 40000 Mbps
Target: x86_64-native-linuxapp-gcc
Fail/Total: 0/2

Detail performance results: 
+------------+---------+-------------------------------------+
| frame_size | txd/rxd | throughput difference from expected |
+============+=========+=====================================+
| 64         | 512     | 2.497                               |
+------------+---------+-------------------------------------+
| 64         | 2048    | 2.127                               |
+------------+---------+-------------------------------------+

To view detailed results, visit:
https://lab.dpdk.org/results/dashboard/patchsets/15256/

UNH-IOL DPDK Community Lab

To manage your email subscriptions, visit: 
https://lab.dpdk.org/results/dashboard/preferences/subscriptions/

^ permalink raw reply	[flat|nested] 13+ messages in thread
* [dpdk-test-report] |SUCCESS| pw86805 [PATCH] build: force pkg-config for dependency detection
@ 2021-01-18 15:20 dpdklab
  0 siblings, 0 replies; 13+ messages in thread
From: dpdklab @ 2021-01-18 15:20 UTC (permalink / raw)
  To: Ajit Khaparde, Test Report; +Cc: dpdk-test-reports

[-- Attachment #1: Type: text/plain, Size: 800 bytes --]

Test-Label: iol-broadcom-Functional
Test-Status: SUCCESS
http://dpdk.org/patch/86805

_Functional Testing PASS_

Submitter: Bruce Richardson <bruce.richardson@intel.com>
Date: Monday, January 18 2021 14:29:57 
DPDK git baseline: Repo:dpdk
  Branch: master
  CommitID:e03d2c3c705e40281bda2f11a947f4d3d5e062e6

86805 --> functional testing pass

Test environment and result as below:

Ubuntu 18.04
Kernel: 4.15.0-65-generic
Compiler: gcc gcc (Ubuntu 7.4.0-1ubuntu1~18.04.1) 7.4.0
NIC: Broadcom Inc. brcm_57414 25000 Mbps
Target: x86_64-native-linuxapp-gcc
Fail/Total: 0/3


To view detailed results, visit:
https://lab.dpdk.org/results/dashboard/patchsets/15256/

UNH-IOL DPDK Community Lab

To manage your email subscriptions, visit: 
https://lab.dpdk.org/results/dashboard/preferences/subscriptions/

^ permalink raw reply	[flat|nested] 13+ messages in thread
* [dpdk-test-report] |SUCCESS| pw86805 [PATCH] build: force pkg-config for dependency detection
@ 2021-01-18 15:12 dpdklab
  0 siblings, 0 replies; 13+ messages in thread
From: dpdklab @ 2021-01-18 15:12 UTC (permalink / raw)
  To: Test Report; +Cc: dpdk-test-reports

[-- Attachment #1: Type: text/plain, Size: 795 bytes --]

Test-Label: iol-intel-Functional
Test-Status: SUCCESS
http://dpdk.org/patch/86805

_Functional Testing PASS_

Submitter: Bruce Richardson <bruce.richardson@intel.com>
Date: Monday, January 18 2021 14:29:57 
DPDK git baseline: Repo:dpdk
  Branch: master
  CommitID:e03d2c3c705e40281bda2f11a947f4d3d5e062e6

86805 --> functional testing pass

Test environment and result as below:

Ubuntu 18.04
Kernel: 4.15.0-generic
Compiler: gcc 7.4
NIC: Intel Corporation Ethernet Converged Network Adapter XL710-QDA2 40000 Mbps
Target: x86_64-native-linuxapp-gcc
Fail/Total: 0/3


To view detailed results, visit:
https://lab.dpdk.org/results/dashboard/patchsets/15256/

UNH-IOL DPDK Community Lab

To manage your email subscriptions, visit: 
https://lab.dpdk.org/results/dashboard/preferences/subscriptions/

^ permalink raw reply	[flat|nested] 13+ messages in thread
* [dpdk-test-report] |SUCCESS| pw86805 [PATCH] build: force pkg-config for dependency detection
@ 2021-01-18 15:10 dpdklab
  0 siblings, 0 replies; 13+ messages in thread
From: dpdklab @ 2021-01-18 15:10 UTC (permalink / raw)
  To: Ajit Khaparde, Test Report; +Cc: dpdk-test-reports

[-- Attachment #1: Type: text/plain, Size: 800 bytes --]

Test-Label: iol-broadcom-Functional
Test-Status: SUCCESS
http://dpdk.org/patch/86805

_Functional Testing PASS_

Submitter: Bruce Richardson <bruce.richardson@intel.com>
Date: Monday, January 18 2021 14:29:57 
DPDK git baseline: Repo:dpdk
  Branch: master
  CommitID:e03d2c3c705e40281bda2f11a947f4d3d5e062e6

86805 --> functional testing pass

Test environment and result as below:

Ubuntu 18.04
Kernel: 4.15.0-65-generic
Compiler: gcc gcc (Ubuntu 7.4.0-1ubuntu1~18.04.1) 7.4.0
NIC: Broadcom Inc. brcm_57414 25000 Mbps
Target: x86_64-native-linuxapp-gcc
Fail/Total: 0/3


To view detailed results, visit:
https://lab.dpdk.org/results/dashboard/patchsets/15256/

UNH-IOL DPDK Community Lab

To manage your email subscriptions, visit: 
https://lab.dpdk.org/results/dashboard/preferences/subscriptions/

^ permalink raw reply	[flat|nested] 13+ messages in thread
[parent not found: <20210118142957.144067-1-bruce.richardson@intel.com>]

end of thread, other threads:[~2021-01-21  7:20 UTC | newest]

Thread overview: 13+ messages (download: mbox.gz / follow: Atom feed)
-- links below jump to the message on this page --
2021-01-20 19:40 [dpdk-test-report] |SUCCESS| pw86805 [PATCH] build: force pkg-config for dependency detection dpdklab
  -- strict thread matches above, loose matches on Subject: below --
2021-01-21  7:20 dpdklab
2021-01-21  5:59 dpdklab
2021-01-20 18:24 dpdklab
2021-01-18 17:32 dpdklab
2021-01-18 16:16 dpdklab
2021-01-18 15:49 dpdklab
2021-01-18 15:36 dpdklab
2021-01-18 15:26 dpdklab
2021-01-18 15:20 dpdklab
2021-01-18 15:12 dpdklab
2021-01-18 15:10 dpdklab
     [not found] <20210118142957.144067-1-bruce.richardson@intel.com>
2021-01-18 14:30 ` checkpatch

automatic DPDK test reports

This inbox may be cloned and mirrored by anyone:

	git clone --mirror https://inbox.dpdk.org/test-report/0 test-report/git/0.git

	# If you have public-inbox 1.1+ installed, you may
	# initialize and index your mirror using the following commands:
	public-inbox-init -V2 test-report test-report/ https://inbox.dpdk.org/test-report \
		test-report@dpdk.org
	public-inbox-index test-report

Example config snippet for mirrors.
Newsgroup available over NNTP:
	nntp://inbox.dpdk.org/inbox.dpdk.test-report


AGPL code for this site: git clone https://public-inbox.org/public-inbox.git