[-- Attachment #1: Type: text/plain, Size: 802 bytes --] Test-Label: iol-broadcom-Functional Test-Status: SUCCESS http://dpdk.org/patch/87933 _Functional Testing PASS_ Submitter: Bruce Richardson <bruce.richardson@intel.com> Date: Tuesday, February 16 2021 15:13:29 DPDK git baseline: Repo:dpdk Branch: master CommitID:543f40f5952a869710e39ff51deccc96c5b88b3f 87933 --> functional testing pass Test environment and result as below: Ubuntu 18.04 Kernel: 4.15.0-65-generic Compiler: gcc gcc (Ubuntu 7.4.0-1ubuntu1~18.04.1) 7.4.0 NIC: Broadcom Inc. brcm_57414 25000 Mbps Target: x86_64-native-linuxapp-gcc Fail/Total: 0/3 To view detailed results, visit: https://lab.dpdk.org/results/dashboard/patchsets/15633/ UNH-IOL DPDK Community Lab To manage your email subscriptions, visit: https://lab.dpdk.org/results/dashboard/preferences/subscriptions/
[-- Attachment #1: Type: text/plain, Size: 1275 bytes --] Test-Label: iol-broadcom-Performance Test-Status: SUCCESS http://dpdk.org/patch/87933 _Performance Testing PASS_ Submitter: Bruce Richardson <bruce.richardson@intel.com> Date: Tuesday, February 16 2021 15:13:29 DPDK git baseline: Repo:dpdk Branch: master CommitID:543f40f5952a869710e39ff51deccc96c5b88b3f 87933 --> performance testing pass Test environment and result as below: Ubuntu 18.04 Kernel: 4.15.0-65-generic Compiler: gcc gcc (Ubuntu 7.4.0-1ubuntu1~18.04.1) 7.4.0 NIC: Broadcom Inc. brcm_57414 25000 Mbps Target: x86_64-native-linuxapp-gcc Fail/Total: 0/2 Detail performance results: +------------+---------+-------------------------------------+ | frame_size | txd/rxd | throughput difference from expected | +============+=========+=====================================+ | 64 | 512 | 0.48720419745153404% | +------------+---------+-------------------------------------+ | 64 | 2048 | -0.047951409238621075% | +------------+---------+-------------------------------------+ To view detailed results, visit: https://lab.dpdk.org/results/dashboard/patchsets/15633/ UNH-IOL DPDK Community Lab To manage your email subscriptions, visit: https://lab.dpdk.org/results/dashboard/preferences/subscriptions/
[-- Attachment #1: Type: text/plain, Size: 1924 bytes --] Test-Label: iol-intel-Performance Test-Status: SUCCESS http://dpdk.org/patch/87933 _Performance Testing PASS_ Submitter: Bruce Richardson <bruce.richardson@intel.com> Date: Tuesday, February 16 2021 15:13:29 DPDK git baseline: Repo:dpdk Branch: master CommitID:543f40f5952a869710e39ff51deccc96c5b88b3f 87933 --> performance testing pass Test environment and result as below: Ubuntu 18.04 Kernel: 4.15.0-generic Compiler: gcc 7.4 NIC: Intel Corporation Ethernet Converged Network Adapter 82599ES 10000 Mbps Target: x86_64-native-linuxapp-gcc Fail/Total: 0/2 Detail performance results: +------------+---------+-------------------------------------+ | frame_size | txd/rxd | throughput difference from expected | +============+=========+=====================================+ | 64 | 512 | -0.19025185722051816% | +------------+---------+-------------------------------------+ | 64 | 2048 | 1.7380562498204601% | +------------+---------+-------------------------------------+ Ubuntu 18.04 Kernel: 4.15.0-generic Compiler: gcc 7.4 NIC: Intel Corporation Ethernet Converged Network Adapter XL710-QDA2 40000 Mbps Target: x86_64-native-linuxapp-gcc Fail/Total: 0/2 Detail performance results: +------------+---------+-------------------------------------+ | frame_size | txd/rxd | throughput difference from expected | +============+=========+=====================================+ | 64 | 512 | 5.406323021309742% | +------------+---------+-------------------------------------+ | 64 | 2048 | 5.025814980171085% | +------------+---------+-------------------------------------+ To view detailed results, visit: https://lab.dpdk.org/results/dashboard/patchsets/15633/ UNH-IOL DPDK Community Lab To manage your email subscriptions, visit: https://lab.dpdk.org/results/dashboard/preferences/subscriptions/
[-- Attachment #1: Type: text/plain, Size: 2648 bytes --] Test-Label: iol-testing Test-Status: SUCCESS http://dpdk.org/patch/87933 _Testing PASS_ Submitter: Bruce Richardson <bruce.richardson@intel.com> Date: Tuesday, February 16 2021 15:13:29 DPDK git baseline: Repo:dpdk Branch: master CommitID:543f40f5952a869710e39ff51deccc96c5b88b3f 87933 --> testing pass Test environment and result as below: +---------------------+----------------------+--------------------+----------------+ | Environment | dpdk_mingw64_compile | dpdk_meson_compile | dpdk_unit_test | +=====================+======================+====================+================+ | Windows Server 2019 | PASS | PASS | SKIPPED | +---------------------+----------------------+--------------------+----------------+ | FreeBSD 11.2 | SKIPPED | PASS | SKIPPED | +---------------------+----------------------+--------------------+----------------+ | CentOS 8 | SKIPPED | PASS | SKIPPED | +---------------------+----------------------+--------------------+----------------+ | Fedora 31 | SKIPPED | PASS | SKIPPED | +---------------------+----------------------+--------------------+----------------+ | openSUSE Leap 15 | SKIPPED | PASS | SKIPPED | +---------------------+----------------------+--------------------+----------------+ | Arch Linux | SKIPPED | PASS | SKIPPED | +---------------------+----------------------+--------------------+----------------+ | Ubuntu 18.04 ARM | SKIPPED | PASS | PASS | +---------------------+----------------------+--------------------+----------------+ | Ubuntu 18.04 | SKIPPED | PASS | PASS | +---------------------+----------------------+--------------------+----------------+ Windows Server 2019 Kernel: 10.0 Compiler: clang 9.0 and gcc 8.1.0 (MinGW) FreeBSD 11.2 Kernel: 11.2 Compiler: gcc 8.3 CentOS 8 Kernel: 4.18.0.el8_0 Compiler: gcc 8.3.1 Fedora 31 Kernel: 5.3.16 Compiler: gcc 9.2.1 openSUSE Leap 15 Kernel: 4.12.14 Compiler: gcc 7.4.1 Arch Linux Kernel: latest Compiler: gcc latest Ubuntu 18.04 ARM Kernel: 5.4.0-53-generic Compiler: gcc 9.3 Ubuntu 18.04 Kernel: 4.15.0-generic Compiler: gcc 7.5 To view detailed results, visit: https://lab.dpdk.org/results/dashboard/patchsets/15633/ UNH-IOL DPDK Community Lab To manage your email subscriptions, visit: https://lab.dpdk.org/results/dashboard/preferences/subscriptions/
[-- Attachment #1: Type: text/plain, Size: 929 bytes --] Test-Label: iol-abi-testing Test-Status: SUCCESS http://dpdk.org/patch/87933 _Testing PASS_ Submitter: Bruce Richardson <bruce.richardson@intel.com> Date: Tuesday, February 16 2021 15:13:29 DPDK git baseline: Repo:dpdk Branch: master CommitID:543f40f5952a869710e39ff51deccc96c5b88b3f 87933 --> testing pass Test environment and result as below: +------------------+----------+ | Environment | abi_test | +==================+==========+ | Ubuntu 18.04 | PASS | +------------------+----------+ | Ubuntu 18.04 ARM | PASS | +------------------+----------+ Ubuntu 18.04 Kernel: 4.15.0-generic Compiler: gcc 7.5 Ubuntu 18.04 ARM Kernel: 5.4.0-53-generic Compiler: gcc 9.3 To view detailed results, visit: https://lab.dpdk.org/results/dashboard/patchsets/15633/ UNH-IOL DPDK Community Lab To manage your email subscriptions, visit: https://lab.dpdk.org/results/dashboard/preferences/subscriptions/