automatic DPDK test reports
 help / color / mirror / Atom feed
* [dpdk-test-report] |SUCCESS| pw87989 [PATCH] common/mlx5: fix output buffer size calculation
@ 2021-02-18 19:10 dpdklab
  0 siblings, 0 replies; 6+ messages in thread
From: dpdklab @ 2021-02-18 19:10 UTC (permalink / raw)
  To: Ali Alnubani, Test Report; +Cc: dpdk-test-reports

[-- Attachment #1: Type: text/plain, Size: 746 bytes --]

Test-Label: iol-mellanox-Functional
Test-Status: SUCCESS
http://dpdk.org/patch/87989

_Functional Testing PASS_

Submitter: Dekel Peled <dekelp@nvidia.com>
Date: Thursday, February 18 2021 16:18:05 
DPDK git baseline: Repo:dpdk
  Branch: master
  CommitID:442155f70c6bbdf59aa1f7b4d8039b5140f62927

87989 --> functional testing pass

Test environment and result as below:

Ubuntu 18.04
Kernel: 4.15.0-generic
Compiler: gcc 7.4
NIC: Mellanox ConnectX-4 Lx 25000 Mbps
Target: x86_64-native-linuxapp-gcc
Fail/Total: 0/5


To view detailed results, visit:
https://lab.dpdk.org/results/dashboard/patchsets/15649/

UNH-IOL DPDK Community Lab

To manage your email subscriptions, visit: 
https://lab.dpdk.org/results/dashboard/preferences/subscriptions/

^ permalink raw reply	[flat|nested] 6+ messages in thread
* [dpdk-test-report] |SUCCESS| pw87989 [PATCH] common/mlx5: fix output buffer size calculation
@ 2021-02-18 23:59 dpdklab
  0 siblings, 0 replies; 6+ messages in thread
From: dpdklab @ 2021-02-18 23:59 UTC (permalink / raw)
  To: Test Report; +Cc: dpdk-test-reports

[-- Attachment #1: Type: text/plain, Size: 3015 bytes --]

Test-Label: iol-testing
Test-Status: SUCCESS
http://dpdk.org/patch/87989

_Testing PASS_

Submitter: Dekel Peled <dekelp@nvidia.com>
Date: Thursday, February 18 2021 16:18:05 
DPDK git baseline: Repo:dpdk
  Branch: master
  CommitID:442155f70c6bbdf59aa1f7b4d8039b5140f62927

87989 --> testing pass

Test environment and result as below:

+---------------------+----------------------+-------------------+--------------------+----------------+
|     Environment     | dpdk_mingw64_compile | dpdk_compile_spdk | dpdk_meson_compile | dpdk_unit_test |
+=====================+======================+===================+====================+================+
| Windows Server 2019 | PASS                 | SKIPPED           | PASS               | SKIPPED        |
+---------------------+----------------------+-------------------+--------------------+----------------+
| Fedora 31           | SKIPPED              | PASS              | PASS               | SKIPPED        |
+---------------------+----------------------+-------------------+--------------------+----------------+
| Ubuntu 18.04        | SKIPPED              | PASS              | PASS               | PASS           |
+---------------------+----------------------+-------------------+--------------------+----------------+
| FreeBSD 11.2        | SKIPPED              | SKIPPED           | PASS               | SKIPPED        |
+---------------------+----------------------+-------------------+--------------------+----------------+
| CentOS 8            | SKIPPED              | SKIPPED           | PASS               | SKIPPED        |
+---------------------+----------------------+-------------------+--------------------+----------------+
| openSUSE Leap 15    | SKIPPED              | SKIPPED           | PASS               | SKIPPED        |
+---------------------+----------------------+-------------------+--------------------+----------------+
| Arch Linux          | SKIPPED              | SKIPPED           | PASS               | SKIPPED        |
+---------------------+----------------------+-------------------+--------------------+----------------+
| Ubuntu 18.04 ARM    | SKIPPED              | SKIPPED           | PASS               | SKIPPED        |
+---------------------+----------------------+-------------------+--------------------+----------------+


Windows Server 2019
	Kernel: 10.0
	Compiler: clang 9.0 and gcc 8.1.0 (MinGW)

Fedora 31
	Kernel: 5.3.16
	Compiler: gcc 9.2.1

Ubuntu 18.04
	Kernel: 4.15.0-generic
	Compiler: gcc 7.5

FreeBSD 11.2
	Kernel: 11.2
	Compiler: gcc 8.3

CentOS 8
	Kernel: 4.18.0.el8_0
	Compiler: gcc 8.3.1

openSUSE Leap 15
	Kernel: 4.12.14
	Compiler: gcc 7.4.1

Arch Linux
	Kernel: latest
	Compiler: gcc latest

Ubuntu 18.04 ARM
	Kernel: 5.4.0-53-generic
	Compiler: gcc 9.3

To view detailed results, visit:
https://lab.dpdk.org/results/dashboard/patchsets/15649/

UNH-IOL DPDK Community Lab

To manage your email subscriptions, visit: 
https://lab.dpdk.org/results/dashboard/preferences/subscriptions/

^ permalink raw reply	[flat|nested] 6+ messages in thread
* [dpdk-test-report] |SUCCESS| pw87989 [PATCH] common/mlx5: fix output buffer size calculation
@ 2021-02-18 17:11 dpdklab
  0 siblings, 0 replies; 6+ messages in thread
From: dpdklab @ 2021-02-18 17:11 UTC (permalink / raw)
  To: Test Report; +Cc: dpdk-test-reports

[-- Attachment #1: Type: text/plain, Size: 2580 bytes --]

Test-Label: iol-intel-Performance
Test-Status: SUCCESS
http://dpdk.org/patch/87989

_Performance Testing PASS_

Submitter: Dekel Peled <dekelp@nvidia.com>
Date: Thursday, February 18 2021 16:18:05 
DPDK git baseline: Repo:dpdk
  Branch: master
  CommitID:442155f70c6bbdf59aa1f7b4d8039b5140f62927

87989 --> performance testing pass

Test environment and result as below:

Ubuntu 18.04
Kernel: 4.15.0-generic
Compiler: gcc 7.4
NIC: Intel Corporation Ethernet Converged Network Adapter 82599ES 10000 Mbps
Target: x86_64-native-linuxapp-gcc
Fail/Total: 0/2

Detail performance results: 
+------------+---------+-------------------------------------+
| frame_size | txd/rxd | throughput difference from expected |
+============+=========+=====================================+
| 64         | 512     | 1.6601739445551662%                 |
+------------+---------+-------------------------------------+
| 64         | 2048    | 1.7466747105633718%                 |
+------------+---------+-------------------------------------+

Ubuntu 18.04 ARM
Kernel: 4.15.0-132-generic
Compiler: gcc 7.5
NIC: Arm Intel Corporation Ethernet Converged Network Adapter XL710-QDA2 40000 Mbps
Target: x86_64-native-linuxapp-gcc
Fail/Total: 0/2

Detail performance results: 
+------------+---------+-------------------------------------+
| frame_size | txd/rxd | throughput difference from expected |
+============+=========+=====================================+
| 64         | 512     | -0.18148820326678627%               |
+------------+---------+-------------------------------------+
| 64         | 2048    | 0.3484320557491339%                 |
+------------+---------+-------------------------------------+

Ubuntu 18.04
Kernel: 4.15.0-generic
Compiler: gcc 7.4
NIC: Intel Corporation Ethernet Converged Network Adapter XL710-QDA2 40000 Mbps
Target: x86_64-native-linuxapp-gcc
Fail/Total: 0/2

Detail performance results: 
+------------+---------+-------------------------------------+
| frame_size | txd/rxd | throughput difference from expected |
+============+=========+=====================================+
| 64         | 512     | 5.5401330111242055%                 |
+------------+---------+-------------------------------------+
| 64         | 2048    | 4.2127054598059335%                 |
+------------+---------+-------------------------------------+

To view detailed results, visit:
https://lab.dpdk.org/results/dashboard/patchsets/15649/

UNH-IOL DPDK Community Lab

To manage your email subscriptions, visit: 
https://lab.dpdk.org/results/dashboard/preferences/subscriptions/

^ permalink raw reply	[flat|nested] 6+ messages in thread
* [dpdk-test-report] |SUCCESS| pw87989 [PATCH] common/mlx5: fix output buffer size calculation
@ 2021-02-18 16:59 dpdklab
  0 siblings, 0 replies; 6+ messages in thread
From: dpdklab @ 2021-02-18 16:59 UTC (permalink / raw)
  To: Ajit Khaparde, Test Report; +Cc: dpdk-test-reports

[-- Attachment #1: Type: text/plain, Size: 789 bytes --]

Test-Label: iol-broadcom-Functional
Test-Status: SUCCESS
http://dpdk.org/patch/87989

_Functional Testing PASS_

Submitter: Dekel Peled <dekelp@nvidia.com>
Date: Thursday, February 18 2021 16:18:05 
DPDK git baseline: Repo:dpdk
  Branch: master
  CommitID:442155f70c6bbdf59aa1f7b4d8039b5140f62927

87989 --> functional testing pass

Test environment and result as below:

Ubuntu 18.04
Kernel: 4.15.0-65-generic
Compiler: gcc gcc (Ubuntu 7.4.0-1ubuntu1~18.04.1) 7.4.0
NIC: Broadcom Inc. brcm_57414 25000 Mbps
Target: x86_64-native-linuxapp-gcc
Fail/Total: 0/3


To view detailed results, visit:
https://lab.dpdk.org/results/dashboard/patchsets/15649/

UNH-IOL DPDK Community Lab

To manage your email subscriptions, visit: 
https://lab.dpdk.org/results/dashboard/preferences/subscriptions/

^ permalink raw reply	[flat|nested] 6+ messages in thread
* [dpdk-test-report] |SUCCESS| pw87989 [PATCH] common/mlx5: fix output buffer size calculation
@ 2021-02-18 16:52 dpdklab
  0 siblings, 0 replies; 6+ messages in thread
From: dpdklab @ 2021-02-18 16:52 UTC (permalink / raw)
  To: Ajit Khaparde, Test Report; +Cc: dpdk-test-reports

[-- Attachment #1: Type: text/plain, Size: 1262 bytes --]

Test-Label: iol-broadcom-Performance
Test-Status: SUCCESS
http://dpdk.org/patch/87989

_Performance Testing PASS_

Submitter: Dekel Peled <dekelp@nvidia.com>
Date: Thursday, February 18 2021 16:18:05 
DPDK git baseline: Repo:dpdk
  Branch: master
  CommitID:442155f70c6bbdf59aa1f7b4d8039b5140f62927

87989 --> performance testing pass

Test environment and result as below:

Ubuntu 18.04
Kernel: 4.15.0-65-generic
Compiler: gcc gcc (Ubuntu 7.4.0-1ubuntu1~18.04.1) 7.4.0
NIC: Broadcom Inc. brcm_57414 25000 Mbps
Target: x86_64-native-linuxapp-gcc
Fail/Total: 0/2

Detail performance results: 
+------------+---------+-------------------------------------+
| frame_size | txd/rxd | throughput difference from expected |
+============+=========+=====================================+
| 64         | 512     | -0.2770525867121296%                |
+------------+---------+-------------------------------------+
| 64         | 2048    | 0.38550088343952016%                |
+------------+---------+-------------------------------------+

To view detailed results, visit:
https://lab.dpdk.org/results/dashboard/patchsets/15649/

UNH-IOL DPDK Community Lab

To manage your email subscriptions, visit: 
https://lab.dpdk.org/results/dashboard/preferences/subscriptions/

^ permalink raw reply	[flat|nested] 6+ messages in thread
[parent not found: <20c35b607a623f615338a84c4af5b80c1d95b39b.1613664690.git.dekelp@nvidia.com>]

end of thread, other threads:[~2021-02-18 23:59 UTC | newest]

Thread overview: 6+ messages (download: mbox.gz / follow: Atom feed)
-- links below jump to the message on this page --
2021-02-18 19:10 [dpdk-test-report] |SUCCESS| pw87989 [PATCH] common/mlx5: fix output buffer size calculation dpdklab
  -- strict thread matches above, loose matches on Subject: below --
2021-02-18 23:59 dpdklab
2021-02-18 17:11 dpdklab
2021-02-18 16:59 dpdklab
2021-02-18 16:52 dpdklab
     [not found] <20c35b607a623f615338a84c4af5b80c1d95b39b.1613664690.git.dekelp@nvidia.com>
2021-02-18 16:19 ` checkpatch

automatic DPDK test reports

This inbox may be cloned and mirrored by anyone:

	git clone --mirror https://inbox.dpdk.org/test-report/0 test-report/git/0.git

	# If you have public-inbox 1.1+ installed, you may
	# initialize and index your mirror using the following commands:
	public-inbox-init -V2 test-report test-report/ https://inbox.dpdk.org/test-report \
		test-report@dpdk.org
	public-inbox-index test-report

Example config snippet for mirrors.
Newsgroup available over NNTP:
	nntp://inbox.dpdk.org/inbox.dpdk.test-report


AGPL code for this site: git clone https://public-inbox.org/public-inbox.git