* [dpdk-test-report] |SUCCESS| pw87992 [PATCH] [v2] bus/pci/windows: support for PCI scan allowed and blocked lists
@ 2021-02-18 19:24 dpdklab
0 siblings, 0 replies; 6+ messages in thread
From: dpdklab @ 2021-02-18 19:24 UTC (permalink / raw)
To: Ajit Khaparde, Test Report; +Cc: dpdk-test-reports
[-- Attachment #1: Type: text/plain, Size: 792 bytes --]
Test-Label: iol-broadcom-Functional
Test-Status: SUCCESS
http://dpdk.org/patch/87992
_Functional Testing PASS_
Submitter: Khoa To <khot@linux.microsoft.com>
Date: Thursday, February 18 2021 18:40:02
DPDK git baseline: Repo:dpdk
Branch: master
CommitID:442155f70c6bbdf59aa1f7b4d8039b5140f62927
87992 --> functional testing pass
Test environment and result as below:
Ubuntu 18.04
Kernel: 4.15.0-65-generic
Compiler: gcc gcc (Ubuntu 7.4.0-1ubuntu1~18.04.1) 7.4.0
NIC: Broadcom Inc. brcm_57414 25000 Mbps
Target: x86_64-native-linuxapp-gcc
Fail/Total: 0/3
To view detailed results, visit:
https://lab.dpdk.org/results/dashboard/patchsets/15652/
UNH-IOL DPDK Community Lab
To manage your email subscriptions, visit:
https://lab.dpdk.org/results/dashboard/preferences/subscriptions/
^ permalink raw reply [flat|nested] 6+ messages in thread
* [dpdk-test-report] |SUCCESS| pw87992 [PATCH] [v2] bus/pci/windows: support for PCI scan allowed and blocked lists
@ 2021-02-19 0:40 dpdklab
0 siblings, 0 replies; 6+ messages in thread
From: dpdklab @ 2021-02-19 0:40 UTC (permalink / raw)
To: Test Report; +Cc: dpdk-test-reports
[-- Attachment #1: Type: text/plain, Size: 3018 bytes --]
Test-Label: iol-testing
Test-Status: SUCCESS
http://dpdk.org/patch/87992
_Testing PASS_
Submitter: Khoa To <khot@linux.microsoft.com>
Date: Thursday, February 18 2021 18:40:02
DPDK git baseline: Repo:dpdk
Branch: master
CommitID:442155f70c6bbdf59aa1f7b4d8039b5140f62927
87992 --> testing pass
Test environment and result as below:
+---------------------+----------------------+--------------------+----------------+-------------------+
| Environment | dpdk_mingw64_compile | dpdk_meson_compile | dpdk_unit_test | dpdk_compile_spdk |
+=====================+======================+====================+================+===================+
| Windows Server 2019 | PASS | PASS | SKIPPED | SKIPPED |
+---------------------+----------------------+--------------------+----------------+-------------------+
| FreeBSD 11.2 | SKIPPED | PASS | SKIPPED | SKIPPED |
+---------------------+----------------------+--------------------+----------------+-------------------+
| Ubuntu 18.04 | SKIPPED | PASS | PASS | PASS |
+---------------------+----------------------+--------------------+----------------+-------------------+
| CentOS 8 | SKIPPED | PASS | SKIPPED | SKIPPED |
+---------------------+----------------------+--------------------+----------------+-------------------+
| openSUSE Leap 15 | SKIPPED | PASS | SKIPPED | SKIPPED |
+---------------------+----------------------+--------------------+----------------+-------------------+
| Arch Linux | SKIPPED | PASS | SKIPPED | SKIPPED |
+---------------------+----------------------+--------------------+----------------+-------------------+
| Fedora 31 | SKIPPED | PASS | SKIPPED | PASS |
+---------------------+----------------------+--------------------+----------------+-------------------+
| Ubuntu 18.04 ARM | SKIPPED | PASS | PASS | SKIPPED |
+---------------------+----------------------+--------------------+----------------+-------------------+
Windows Server 2019
Kernel: 10.0
Compiler: clang 9.0 and gcc 8.1.0 (MinGW)
FreeBSD 11.2
Kernel: 11.2
Compiler: gcc 8.3
Ubuntu 18.04
Kernel: 4.15.0-generic
Compiler: gcc 7.5
CentOS 8
Kernel: 4.18.0.el8_0
Compiler: gcc 8.3.1
openSUSE Leap 15
Kernel: 4.12.14
Compiler: gcc 7.4.1
Arch Linux
Kernel: latest
Compiler: gcc latest
Fedora 31
Kernel: 5.3.16
Compiler: gcc 9.2.1
Ubuntu 18.04 ARM
Kernel: 5.4.0-53-generic
Compiler: gcc 9.3
To view detailed results, visit:
https://lab.dpdk.org/results/dashboard/patchsets/15652/
UNH-IOL DPDK Community Lab
To manage your email subscriptions, visit:
https://lab.dpdk.org/results/dashboard/preferences/subscriptions/
^ permalink raw reply [flat|nested] 6+ messages in thread
* [dpdk-test-report] |SUCCESS| pw87992 [PATCH] [v2] bus/pci/windows: support for PCI scan allowed and blocked lists
@ 2021-02-18 23:59 dpdklab
0 siblings, 0 replies; 6+ messages in thread
From: dpdklab @ 2021-02-18 23:59 UTC (permalink / raw)
To: Test Report; +Cc: dpdk-test-reports
[-- Attachment #1: Type: text/plain, Size: 919 bytes --]
Test-Label: iol-abi-testing
Test-Status: SUCCESS
http://dpdk.org/patch/87992
_Testing PASS_
Submitter: Khoa To <khot@linux.microsoft.com>
Date: Thursday, February 18 2021 18:40:02
DPDK git baseline: Repo:dpdk
Branch: master
CommitID:442155f70c6bbdf59aa1f7b4d8039b5140f62927
87992 --> testing pass
Test environment and result as below:
+------------------+----------+
| Environment | abi_test |
+==================+==========+
| Ubuntu 18.04 | PASS |
+------------------+----------+
| Ubuntu 18.04 ARM | PASS |
+------------------+----------+
Ubuntu 18.04
Kernel: 4.15.0-generic
Compiler: gcc 7.5
Ubuntu 18.04 ARM
Kernel: 5.4.0-53-generic
Compiler: gcc 9.3
To view detailed results, visit:
https://lab.dpdk.org/results/dashboard/patchsets/15652/
UNH-IOL DPDK Community Lab
To manage your email subscriptions, visit:
https://lab.dpdk.org/results/dashboard/preferences/subscriptions/
^ permalink raw reply [flat|nested] 6+ messages in thread
* [dpdk-test-report] |SUCCESS| pw87992 [PATCH] [v2] bus/pci/windows: support for PCI scan allowed and blocked lists
@ 2021-02-18 20:44 dpdklab
0 siblings, 0 replies; 6+ messages in thread
From: dpdklab @ 2021-02-18 20:44 UTC (permalink / raw)
To: Test Report; +Cc: dpdk-test-reports
[-- Attachment #1: Type: text/plain, Size: 2583 bytes --]
Test-Label: iol-intel-Performance
Test-Status: SUCCESS
http://dpdk.org/patch/87992
_Performance Testing PASS_
Submitter: Khoa To <khot@linux.microsoft.com>
Date: Thursday, February 18 2021 18:40:02
DPDK git baseline: Repo:dpdk
Branch: master
CommitID:442155f70c6bbdf59aa1f7b4d8039b5140f62927
87992 --> performance testing pass
Test environment and result as below:
Ubuntu 18.04
Kernel: 4.15.0-generic
Compiler: gcc 7.4
NIC: Intel Corporation Ethernet Converged Network Adapter 82599ES 10000 Mbps
Target: x86_64-native-linuxapp-gcc
Fail/Total: 0/2
Detail performance results:
+------------+---------+-------------------------------------+
| frame_size | txd/rxd | throughput difference from expected |
+============+=========+=====================================+
| 64 | 512 | 1.69868% |
+------------+---------+-------------------------------------+
| 64 | 2048 | 1.5542% |
+------------+---------+-------------------------------------+
Ubuntu 18.04
Kernel: 4.15.0-generic
Compiler: gcc 7.4
NIC: Intel Corporation Ethernet Converged Network Adapter XL710-QDA2 40000 Mbps
Target: x86_64-native-linuxapp-gcc
Fail/Total: 0/2
Detail performance results:
+------------+---------+-------------------------------------+
| frame_size | txd/rxd | throughput difference from expected |
+============+=========+=====================================+
| 64 | 512 | 5.76581% |
+------------+---------+-------------------------------------+
| 64 | 2048 | 5.22785% |
+------------+---------+-------------------------------------+
Ubuntu 18.04 ARM
Kernel: 4.15.0-132-generic
Compiler: gcc 7.5
NIC: Arm Intel Corporation Ethernet Converged Network Adapter XL710-QDA2 40000 Mbps
Target: x86_64-native-linuxapp-gcc
Fail/Total: 0/2
Detail performance results:
+------------+---------+-------------------------------------+
| frame_size | txd/rxd | throughput difference from expected |
+============+=========+=====================================+
| 64 | 512 | 0.22337% |
+------------+---------+-------------------------------------+
| 64 | 2048 | -0.19512% |
+------------+---------+-------------------------------------+
To view detailed results, visit:
https://lab.dpdk.org/results/dashboard/patchsets/15652/
UNH-IOL DPDK Community Lab
To manage your email subscriptions, visit:
https://lab.dpdk.org/results/dashboard/preferences/subscriptions/
^ permalink raw reply [flat|nested] 6+ messages in thread
* [dpdk-test-report] |SUCCESS| pw87992 [PATCH] [v2] bus/pci/windows: support for PCI scan allowed and blocked lists
@ 2021-02-18 19:30 dpdklab
0 siblings, 0 replies; 6+ messages in thread
From: dpdklab @ 2021-02-18 19:30 UTC (permalink / raw)
To: Ajit Khaparde, Test Report; +Cc: dpdk-test-reports
[-- Attachment #1: Type: text/plain, Size: 1265 bytes --]
Test-Label: iol-broadcom-Performance
Test-Status: SUCCESS
http://dpdk.org/patch/87992
_Performance Testing PASS_
Submitter: Khoa To <khot@linux.microsoft.com>
Date: Thursday, February 18 2021 18:40:02
DPDK git baseline: Repo:dpdk
Branch: master
CommitID:442155f70c6bbdf59aa1f7b4d8039b5140f62927
87992 --> performance testing pass
Test environment and result as below:
Ubuntu 18.04
Kernel: 4.15.0-65-generic
Compiler: gcc gcc (Ubuntu 7.4.0-1ubuntu1~18.04.1) 7.4.0
NIC: Broadcom Inc. brcm_57414 25000 Mbps
Target: x86_64-native-linuxapp-gcc
Fail/Total: 0/2
Detail performance results:
+------------+---------+-------------------------------------+
| frame_size | txd/rxd | throughput difference from expected |
+============+=========+=====================================+
| 64 | 512 | -0.05861% |
+------------+---------+-------------------------------------+
| 64 | 2048 | 0.00535% |
+------------+---------+-------------------------------------+
To view detailed results, visit:
https://lab.dpdk.org/results/dashboard/patchsets/15652/
UNH-IOL DPDK Community Lab
To manage your email subscriptions, visit:
https://lab.dpdk.org/results/dashboard/preferences/subscriptions/
^ permalink raw reply [flat|nested] 6+ messages in thread
[parent not found: <1613673602-6291-1-git-send-email-khot@linux.microsoft.com>]
end of thread, other threads:[~2021-02-19 0:40 UTC | newest]
Thread overview: 6+ messages (download: mbox.gz / follow: Atom feed)
-- links below jump to the message on this page --
2021-02-18 19:24 [dpdk-test-report] |SUCCESS| pw87992 [PATCH] [v2] bus/pci/windows: support for PCI scan allowed and blocked lists dpdklab
-- strict thread matches above, loose matches on Subject: below --
2021-02-19 0:40 dpdklab
2021-02-18 23:59 dpdklab
2021-02-18 20:44 dpdklab
2021-02-18 19:30 dpdklab
[not found] <1613673602-6291-1-git-send-email-khot@linux.microsoft.com>
2021-02-18 18:41 ` [dpdk-test-report] |SUCCESS| pw87992 [PATCH v2] " checkpatch
This is a public inbox, see mirroring instructions
for how to clone and mirror all data and code used for this inbox;
as well as URLs for NNTP newsgroup(s).