[-- Attachment #1: Type: text/plain, Size: 805 bytes --] Test-Label: iol-broadcom-Functional Test-Status: SUCCESS http://dpdk.org/patch/87994 _Functional Testing PASS_ Submitter: Renata Saiakhova <renata.saiakhova@ekinops.com> Date: Thursday, February 18 2021 21:11:37 DPDK git baseline: Repo:dpdk Branch: master CommitID:442155f70c6bbdf59aa1f7b4d8039b5140f62927 87994 --> functional testing pass Test environment and result as below: Ubuntu 18.04 Kernel: 4.15.0-65-generic Compiler: gcc gcc (Ubuntu 7.4.0-1ubuntu1~18.04.1) 7.4.0 NIC: Broadcom Inc. brcm_57414 25000 Mbps Target: x86_64-native-linuxapp-gcc Fail/Total: 0/3 To view detailed results, visit: https://lab.dpdk.org/results/dashboard/patchsets/15653/ UNH-IOL DPDK Community Lab To manage your email subscriptions, visit: https://lab.dpdk.org/results/dashboard/preferences/subscriptions/
[-- Attachment #1: Type: text/plain, Size: 1278 bytes --] Test-Label: iol-broadcom-Performance Test-Status: SUCCESS http://dpdk.org/patch/87994 _Performance Testing PASS_ Submitter: Renata Saiakhova <renata.saiakhova@ekinops.com> Date: Thursday, February 18 2021 21:11:37 DPDK git baseline: Repo:dpdk Branch: master CommitID:442155f70c6bbdf59aa1f7b4d8039b5140f62927 87994 --> performance testing pass Test environment and result as below: Ubuntu 18.04 Kernel: 4.15.0-65-generic Compiler: gcc gcc (Ubuntu 7.4.0-1ubuntu1~18.04.1) 7.4.0 NIC: Broadcom Inc. brcm_57414 25000 Mbps Target: x86_64-native-linuxapp-gcc Fail/Total: 0/2 Detail performance results: +------------+---------+-------------------------------------+ | frame_size | txd/rxd | throughput difference from expected | +============+=========+=====================================+ | 64 | 512 | -0.49017% | +------------+---------+-------------------------------------+ | 64 | 2048 | 0.47652% | +------------+---------+-------------------------------------+ To view detailed results, visit: https://lab.dpdk.org/results/dashboard/patchsets/15653/ UNH-IOL DPDK Community Lab To manage your email subscriptions, visit: https://lab.dpdk.org/results/dashboard/preferences/subscriptions/
[-- Attachment #1: Type: text/plain, Size: 2596 bytes --] Test-Label: iol-intel-Performance Test-Status: SUCCESS http://dpdk.org/patch/87994 _Performance Testing PASS_ Submitter: Renata Saiakhova <renata.saiakhova@ekinops.com> Date: Thursday, February 18 2021 21:11:37 DPDK git baseline: Repo:dpdk Branch: master CommitID:442155f70c6bbdf59aa1f7b4d8039b5140f62927 87994 --> performance testing pass Test environment and result as below: Ubuntu 18.04 Kernel: 4.15.0-generic Compiler: gcc 7.4 NIC: Intel Corporation Ethernet Converged Network Adapter 82599ES 10000 Mbps Target: x86_64-native-linuxapp-gcc Fail/Total: 0/2 Detail performance results: +------------+---------+-------------------------------------+ | frame_size | txd/rxd | throughput difference from expected | +============+=========+=====================================+ | 64 | 512 | 2.85151% | +------------+---------+-------------------------------------+ | 64 | 2048 | 1.152% | +------------+---------+-------------------------------------+ Ubuntu 18.04 Kernel: 4.15.0-generic Compiler: gcc 7.4 NIC: Intel Corporation Ethernet Converged Network Adapter XL710-QDA2 40000 Mbps Target: x86_64-native-linuxapp-gcc Fail/Total: 0/2 Detail performance results: +------------+---------+-------------------------------------+ | frame_size | txd/rxd | throughput difference from expected | +============+=========+=====================================+ | 64 | 512 | 5.38635% | +------------+---------+-------------------------------------+ | 64 | 2048 | 4.80383% | +------------+---------+-------------------------------------+ Ubuntu 18.04 ARM Kernel: 4.15.0-132-generic Compiler: gcc 7.5 NIC: Arm Intel Corporation Ethernet Converged Network Adapter XL710-QDA2 40000 Mbps Target: x86_64-native-linuxapp-gcc Fail/Total: 0/2 Detail performance results: +------------+---------+-------------------------------------+ | frame_size | txd/rxd | throughput difference from expected | +============+=========+=====================================+ | 64 | 512 | 0.48862% | +------------+---------+-------------------------------------+ | 64 | 2048 | -0.66899% | +------------+---------+-------------------------------------+ To view detailed results, visit: https://lab.dpdk.org/results/dashboard/patchsets/15653/ UNH-IOL DPDK Community Lab To manage your email subscriptions, visit: https://lab.dpdk.org/results/dashboard/preferences/subscriptions/
[-- Attachment #1: Type: text/plain, Size: 3031 bytes --] Test-Label: iol-testing Test-Status: SUCCESS http://dpdk.org/patch/87994 _Testing PASS_ Submitter: Renata Saiakhova <renata.saiakhova@ekinops.com> Date: Thursday, February 18 2021 21:11:37 DPDK git baseline: Repo:dpdk Branch: master CommitID:442155f70c6bbdf59aa1f7b4d8039b5140f62927 87994 --> testing pass Test environment and result as below: +---------------------+----------------------+--------------------+----------------+-------------------+ | Environment | dpdk_mingw64_compile | dpdk_meson_compile | dpdk_unit_test | dpdk_compile_spdk | +=====================+======================+====================+================+===================+ | Windows Server 2019 | PASS | PASS | SKIPPED | SKIPPED | +---------------------+----------------------+--------------------+----------------+-------------------+ | FreeBSD 11.2 | SKIPPED | PASS | SKIPPED | SKIPPED | +---------------------+----------------------+--------------------+----------------+-------------------+ | Ubuntu 18.04 | SKIPPED | PASS | PASS | PASS | +---------------------+----------------------+--------------------+----------------+-------------------+ | CentOS 8 | SKIPPED | PASS | SKIPPED | SKIPPED | +---------------------+----------------------+--------------------+----------------+-------------------+ | openSUSE Leap 15 | SKIPPED | PASS | SKIPPED | SKIPPED | +---------------------+----------------------+--------------------+----------------+-------------------+ | Arch Linux | SKIPPED | PASS | SKIPPED | SKIPPED | +---------------------+----------------------+--------------------+----------------+-------------------+ | Fedora 31 | SKIPPED | PASS | SKIPPED | PASS | +---------------------+----------------------+--------------------+----------------+-------------------+ | Ubuntu 18.04 ARM | SKIPPED | PASS | PASS | SKIPPED | +---------------------+----------------------+--------------------+----------------+-------------------+ Windows Server 2019 Kernel: 10.0 Compiler: clang 9.0 and gcc 8.1.0 (MinGW) FreeBSD 11.2 Kernel: 11.2 Compiler: gcc 8.3 Ubuntu 18.04 Kernel: 4.15.0-generic Compiler: gcc 7.5 CentOS 8 Kernel: 4.18.0.el8_0 Compiler: gcc 8.3.1 openSUSE Leap 15 Kernel: 4.12.14 Compiler: gcc 7.4.1 Arch Linux Kernel: latest Compiler: gcc latest Fedora 31 Kernel: 5.3.16 Compiler: gcc 9.2.1 Ubuntu 18.04 ARM Kernel: 5.4.0-53-generic Compiler: gcc 9.3 To view detailed results, visit: https://lab.dpdk.org/results/dashboard/patchsets/15653/ UNH-IOL DPDK Community Lab To manage your email subscriptions, visit: https://lab.dpdk.org/results/dashboard/preferences/subscriptions/