* [dpdk-test-report] |SUCCESS| pw87996 [PATCH] [v4, 1/1] eal/interrupts: add synchronous wrapper around unregister
@ 2021-02-18 23:34 dpdklab
0 siblings, 0 replies; 6+ messages in thread
From: dpdklab @ 2021-02-18 23:34 UTC (permalink / raw)
To: Test Report; +Cc: dpdk-test-reports
[-- Attachment #1: Type: text/plain, Size: 2596 bytes --]
Test-Label: iol-intel-Performance
Test-Status: SUCCESS
http://dpdk.org/patch/87996
_Performance Testing PASS_
Submitter: Renata Saiakhova <renata.saiakhova@ekinops.com>
Date: Thursday, February 18 2021 21:27:46
DPDK git baseline: Repo:dpdk
Branch: master
CommitID:442155f70c6bbdf59aa1f7b4d8039b5140f62927
87996 --> performance testing pass
Test environment and result as below:
Ubuntu 18.04
Kernel: 4.15.0-generic
Compiler: gcc 7.4
NIC: Intel Corporation Ethernet Converged Network Adapter 82599ES 10000 Mbps
Target: x86_64-native-linuxapp-gcc
Fail/Total: 0/2
Detail performance results:
+------------+---------+-------------------------------------+
| frame_size | txd/rxd | throughput difference from expected |
+============+=========+=====================================+
| 64 | 512 | 2.75412% |
+------------+---------+-------------------------------------+
| 64 | 2048 | 1.92766% |
+------------+---------+-------------------------------------+
Ubuntu 18.04
Kernel: 4.15.0-generic
Compiler: gcc 7.4
NIC: Intel Corporation Ethernet Converged Network Adapter XL710-QDA2 40000 Mbps
Target: x86_64-native-linuxapp-gcc
Fail/Total: 0/2
Detail performance results:
+------------+---------+-------------------------------------+
| frame_size | txd/rxd | throughput difference from expected |
+============+=========+=====================================+
| 64 | 512 | 5.16866% |
+------------+---------+-------------------------------------+
| 64 | 2048 | 4.80134% |
+------------+---------+-------------------------------------+
Ubuntu 18.04 ARM
Kernel: 4.15.0-132-generic
Compiler: gcc 7.5
NIC: Arm Intel Corporation Ethernet Converged Network Adapter XL710-QDA2 40000 Mbps
Target: x86_64-native-linuxapp-gcc
Fail/Total: 0/2
Detail performance results:
+------------+---------+-------------------------------------+
| frame_size | txd/rxd | throughput difference from expected |
+============+=========+=====================================+
| 64 | 512 | -0.02792% |
+------------+---------+-------------------------------------+
| 64 | 2048 | 0.02787% |
+------------+---------+-------------------------------------+
To view detailed results, visit:
https://lab.dpdk.org/results/dashboard/patchsets/15654/
UNH-IOL DPDK Community Lab
To manage your email subscriptions, visit:
https://lab.dpdk.org/results/dashboard/preferences/subscriptions/
^ permalink raw reply [flat|nested] 6+ messages in thread
* [dpdk-test-report] |SUCCESS| pw87996 [PATCH] [v4, 1/1] eal/interrupts: add synchronous wrapper around unregister
@ 2021-02-19 2:47 dpdklab
0 siblings, 0 replies; 6+ messages in thread
From: dpdklab @ 2021-02-19 2:47 UTC (permalink / raw)
To: Test Report; +Cc: dpdk-test-reports
[-- Attachment #1: Type: text/plain, Size: 3031 bytes --]
Test-Label: iol-testing
Test-Status: SUCCESS
http://dpdk.org/patch/87996
_Testing PASS_
Submitter: Renata Saiakhova <renata.saiakhova@ekinops.com>
Date: Thursday, February 18 2021 21:27:46
DPDK git baseline: Repo:dpdk
Branch: master
CommitID:442155f70c6bbdf59aa1f7b4d8039b5140f62927
87996 --> testing pass
Test environment and result as below:
+---------------------+----------------------+--------------------+-------------------+----------------+
| Environment | dpdk_mingw64_compile | dpdk_meson_compile | dpdk_compile_spdk | dpdk_unit_test |
+=====================+======================+====================+===================+================+
| Windows Server 2019 | PASS | PASS | SKIPPED | SKIPPED |
+---------------------+----------------------+--------------------+-------------------+----------------+
| FreeBSD 11.2 | SKIPPED | PASS | SKIPPED | SKIPPED |
+---------------------+----------------------+--------------------+-------------------+----------------+
| Ubuntu 18.04 | SKIPPED | PASS | PASS | PASS |
+---------------------+----------------------+--------------------+-------------------+----------------+
| CentOS 8 | SKIPPED | PASS | SKIPPED | SKIPPED |
+---------------------+----------------------+--------------------+-------------------+----------------+
| openSUSE Leap 15 | SKIPPED | PASS | SKIPPED | SKIPPED |
+---------------------+----------------------+--------------------+-------------------+----------------+
| Ubuntu 18.04 ARM | SKIPPED | PASS | SKIPPED | PASS |
+---------------------+----------------------+--------------------+-------------------+----------------+
| Arch Linux | SKIPPED | PASS | SKIPPED | SKIPPED |
+---------------------+----------------------+--------------------+-------------------+----------------+
| Fedora 31 | SKIPPED | PASS | PASS | SKIPPED |
+---------------------+----------------------+--------------------+-------------------+----------------+
Windows Server 2019
Kernel: 10.0
Compiler: clang 9.0 and gcc 8.1.0 (MinGW)
FreeBSD 11.2
Kernel: 11.2
Compiler: gcc 8.3
Ubuntu 18.04
Kernel: 4.15.0-generic
Compiler: gcc 7.5
CentOS 8
Kernel: 4.18.0.el8_0
Compiler: gcc 8.3.1
openSUSE Leap 15
Kernel: 4.12.14
Compiler: gcc 7.4.1
Ubuntu 18.04 ARM
Kernel: 5.4.0-53-generic
Compiler: gcc 9.3
Arch Linux
Kernel: latest
Compiler: gcc latest
Fedora 31
Kernel: 5.3.16
Compiler: gcc 9.2.1
To view detailed results, visit:
https://lab.dpdk.org/results/dashboard/patchsets/15654/
UNH-IOL DPDK Community Lab
To manage your email subscriptions, visit:
https://lab.dpdk.org/results/dashboard/preferences/subscriptions/
^ permalink raw reply [flat|nested] 6+ messages in thread
* [dpdk-test-report] |SUCCESS| pw87996 [PATCH] [v4, 1/1] eal/interrupts: add synchronous wrapper around unregister
@ 2021-02-18 23:25 dpdklab
0 siblings, 0 replies; 6+ messages in thread
From: dpdklab @ 2021-02-18 23:25 UTC (permalink / raw)
To: Ali Alnubani, Test Report; +Cc: dpdk-test-reports
[-- Attachment #1: Type: text/plain, Size: 4854 bytes --]
Test-Label: iol-mellanox-Performance
Test-Status: SUCCESS
http://dpdk.org/patch/87996
_Performance Testing PASS_
Submitter: Renata Saiakhova <renata.saiakhova@ekinops.com>
Date: Thursday, February 18 2021 21:27:46
DPDK git baseline: Repo:dpdk
Branch: master
CommitID:442155f70c6bbdf59aa1f7b4d8039b5140f62927
87996 --> performance testing pass
Test environment and result as below:
Ubuntu 18.04
Kernel: 4.15.0-generic
Compiler: gcc 7.4
NIC: Mellanox ConnectX-4 Lx 40000 Mbps
Target: x86_64-native-linuxapp-gcc
Fail/Total: 0/6
Detail performance results:
+------------+---------+-------------------------------------+
| frame_size | txd/rxd | throughput difference from expected |
+============+=========+=====================================+
| 64 | 256 | -0.17413% |
+------------+---------+-------------------------------------+
| 128 | 256 | 0.45096% |
+------------+---------+-------------------------------------+
| 256 | 256 | -0.01096% |
+------------+---------+-------------------------------------+
| 512 | 256 | -0.37718% |
+------------+---------+-------------------------------------+
| 1024 | 256 | -0.0836% |
+------------+---------+-------------------------------------+
| 1518 | 256 | -0.16923% |
+------------+---------+-------------------------------------+
Ubuntu 18.04
Kernel: 4.15.0-generic
Compiler: gcc 7.4
NIC: Mellanox ConnectX-5 100000 Mbps
Target: x86_64-native-linuxapp-gcc
Fail/Total: 0/6
Detail performance results:
+------------+---------+-------------------------------------+
| frame_size | txd/rxd | throughput difference from expected |
+============+=========+=====================================+
| 64 | 256 | 0.06971% |
+------------+---------+-------------------------------------+
| 128 | 256 | 0.51832% |
+------------+---------+-------------------------------------+
| 256 | 256 | 0.01499% |
+------------+---------+-------------------------------------+
| 512 | 256 | -0.23267% |
+------------+---------+-------------------------------------+
| 1024 | 256 | -3.62721% |
+------------+---------+-------------------------------------+
| 1518 | 256 | -0.21152% |
+------------+---------+-------------------------------------+
Ubuntu 18.04
Kernel: 4.15.0-generic
Compiler: gcc 7.4
NIC: Mellanox ConnectX-4 Lx 25000 Mbps
Target: x86_64-native-linuxapp-gcc
Fail/Total: 0/6
Detail performance results:
+------------+---------+-------------------------------------+
| frame_size | txd/rxd | throughput difference from expected |
+============+=========+=====================================+
| 64 | 256 | 0.4379% |
+------------+---------+-------------------------------------+
| 128 | 256 | -0.0415% |
+------------+---------+-------------------------------------+
| 256 | 256 | -0.90833% |
+------------+---------+-------------------------------------+
| 512 | 256 | -0.43612% |
+------------+---------+-------------------------------------+
| 1024 | 256 | -0.01673% |
+------------+---------+-------------------------------------+
| 1518 | 256 | -0.22113% |
+------------+---------+-------------------------------------+
Ubuntu 18.04 ARM
Kernel: 4.15.0-132-generic
Compiler: gcc 7.5
NIC: Arm Mellanox ConnectX-5 10000 Mbps
Target: x86_64-native-linuxapp-gcc
Fail/Total: 0/4
Detail performance results:
+------------+---------+-------------------------------------+
| frame_size | txd/rxd | throughput difference from expected |
+============+=========+=====================================+
| 64 | 128 | -5.17061% |
+------------+---------+-------------------------------------+
| 64 | 256 | -3.36398% |
+------------+---------+-------------------------------------+
| 64 | 512 | -2.58485% |
+------------+---------+-------------------------------------+
| 64 | 2048 | -5.13034% |
+------------+---------+-------------------------------------+
To view detailed results, visit:
https://lab.dpdk.org/results/dashboard/patchsets/15654/
UNH-IOL DPDK Community Lab
To manage your email subscriptions, visit:
https://lab.dpdk.org/results/dashboard/preferences/subscriptions/
^ permalink raw reply [flat|nested] 6+ messages in thread
* [dpdk-test-report] |SUCCESS| pw87996 [PATCH] [v4, 1/1] eal/interrupts: add synchronous wrapper around unregister
@ 2021-02-18 22:09 dpdklab
0 siblings, 0 replies; 6+ messages in thread
From: dpdklab @ 2021-02-18 22:09 UTC (permalink / raw)
To: Ajit Khaparde, Test Report; +Cc: dpdk-test-reports
[-- Attachment #1: Type: text/plain, Size: 805 bytes --]
Test-Label: iol-broadcom-Functional
Test-Status: SUCCESS
http://dpdk.org/patch/87996
_Functional Testing PASS_
Submitter: Renata Saiakhova <renata.saiakhova@ekinops.com>
Date: Thursday, February 18 2021 21:27:46
DPDK git baseline: Repo:dpdk
Branch: master
CommitID:442155f70c6bbdf59aa1f7b4d8039b5140f62927
87996 --> functional testing pass
Test environment and result as below:
Ubuntu 18.04
Kernel: 4.15.0-65-generic
Compiler: gcc gcc (Ubuntu 7.4.0-1ubuntu1~18.04.1) 7.4.0
NIC: Broadcom Inc. brcm_57414 25000 Mbps
Target: x86_64-native-linuxapp-gcc
Fail/Total: 0/3
To view detailed results, visit:
https://lab.dpdk.org/results/dashboard/patchsets/15654/
UNH-IOL DPDK Community Lab
To manage your email subscriptions, visit:
https://lab.dpdk.org/results/dashboard/preferences/subscriptions/
^ permalink raw reply [flat|nested] 6+ messages in thread
* [dpdk-test-report] |SUCCESS| pw87996 [PATCH] [v4, 1/1] eal/interrupts: add synchronous wrapper around unregister
@ 2021-02-18 22:00 dpdklab
0 siblings, 0 replies; 6+ messages in thread
From: dpdklab @ 2021-02-18 22:00 UTC (permalink / raw)
To: Ajit Khaparde, Test Report; +Cc: dpdk-test-reports
[-- Attachment #1: Type: text/plain, Size: 1278 bytes --]
Test-Label: iol-broadcom-Performance
Test-Status: SUCCESS
http://dpdk.org/patch/87996
_Performance Testing PASS_
Submitter: Renata Saiakhova <renata.saiakhova@ekinops.com>
Date: Thursday, February 18 2021 21:27:46
DPDK git baseline: Repo:dpdk
Branch: master
CommitID:442155f70c6bbdf59aa1f7b4d8039b5140f62927
87996 --> performance testing pass
Test environment and result as below:
Ubuntu 18.04
Kernel: 4.15.0-65-generic
Compiler: gcc gcc (Ubuntu 7.4.0-1ubuntu1~18.04.1) 7.4.0
NIC: Broadcom Inc. brcm_57414 25000 Mbps
Target: x86_64-native-linuxapp-gcc
Fail/Total: 0/2
Detail performance results:
+------------+---------+-------------------------------------+
| frame_size | txd/rxd | throughput difference from expected |
+============+=========+=====================================+
| 64 | 512 | -0.01598% |
+------------+---------+-------------------------------------+
| 64 | 2048 | 0.14456% |
+------------+---------+-------------------------------------+
To view detailed results, visit:
https://lab.dpdk.org/results/dashboard/patchsets/15654/
UNH-IOL DPDK Community Lab
To manage your email subscriptions, visit:
https://lab.dpdk.org/results/dashboard/preferences/subscriptions/
^ permalink raw reply [flat|nested] 6+ messages in thread
[parent not found: <20210218212746.3073-2-Renata.Saiakhova@ekinops.com>]
end of thread, other threads:[~2021-02-19 2:47 UTC | newest]
Thread overview: 6+ messages (download: mbox.gz / follow: Atom feed)
-- links below jump to the message on this page --
2021-02-18 23:34 [dpdk-test-report] |SUCCESS| pw87996 [PATCH] [v4, 1/1] eal/interrupts: add synchronous wrapper around unregister dpdklab
-- strict thread matches above, loose matches on Subject: below --
2021-02-19 2:47 dpdklab
2021-02-18 23:25 dpdklab
2021-02-18 22:09 dpdklab
2021-02-18 22:00 dpdklab
[not found] <20210218212746.3073-2-Renata.Saiakhova@ekinops.com>
2021-02-18 21:28 ` [dpdk-test-report] |SUCCESS| pw87996 [PATCH v4 " checkpatch
This is a public inbox, see mirroring instructions
for how to clone and mirror all data and code used for this inbox;
as well as URLs for NNTP newsgroup(s).