* [dpdk-test-report] |SUCCESS| pw87832 [PATCH] [v2] app/testpmd: remove unused struct member
@ 2021-02-19 19:02 dpdklab
0 siblings, 0 replies; 8+ messages in thread
From: dpdklab @ 2021-02-19 19:02 UTC (permalink / raw)
To: Ajit Khaparde, Test Report; +Cc: dpdk-test-reports
[-- Attachment #1: Type: text/plain, Size: 800 bytes --]
Test-Label: iol-broadcom-Functional
Test-Status: SUCCESS
http://dpdk.org/patch/87832
_Functional Testing PASS_
Submitter: Kathleen Capella <kathleen.capella@arm.com>
Date: Tuesday, February 09 2021 15:40:26
DPDK git baseline: Repo:dpdk
Branch: master
CommitID:442155f70c6bbdf59aa1f7b4d8039b5140f62927
87832 --> functional testing pass
Test environment and result as below:
Ubuntu 18.04
Kernel: 4.15.0-65-generic
Compiler: gcc gcc (Ubuntu 7.4.0-1ubuntu1~18.04.1) 7.4.0
NIC: Broadcom Inc. brcm_57414 25000 Mbps
Target: x86_64-native-linuxapp-gcc
Fail/Total: 0/3
To view detailed results, visit:
https://lab.dpdk.org/results/dashboard/patchsets/15586/
UNH-IOL DPDK Community Lab
To manage your email subscriptions, visit:
https://lab.dpdk.org/results/dashboard/preferences/subscriptions/
^ permalink raw reply [flat|nested] 8+ messages in thread
* [dpdk-test-report] |SUCCESS| pw87832 [PATCH] [v2] app/testpmd: remove unused struct member
@ 2021-02-19 21:49 dpdklab
0 siblings, 0 replies; 8+ messages in thread
From: dpdklab @ 2021-02-19 21:49 UTC (permalink / raw)
To: Test Report; +Cc: dpdk-test-reports
[-- Attachment #1: Type: text/plain, Size: 3026 bytes --]
Test-Label: iol-testing
Test-Status: SUCCESS
http://dpdk.org/patch/87832
_Testing PASS_
Submitter: Kathleen Capella <kathleen.capella@arm.com>
Date: Tuesday, February 09 2021 15:40:26
DPDK git baseline: Repo:dpdk
Branch: master
CommitID:442155f70c6bbdf59aa1f7b4d8039b5140f62927
87832 --> testing pass
Test environment and result as below:
+---------------------+----------------------+--------------------+-------------------+----------------+
| Environment | dpdk_mingw64_compile | dpdk_meson_compile | dpdk_compile_spdk | dpdk_unit_test |
+=====================+======================+====================+===================+================+
| Windows Server 2019 | PASS | PASS | SKIPPED | SKIPPED |
+---------------------+----------------------+--------------------+-------------------+----------------+
| FreeBSD 11.2 | SKIPPED | PASS | SKIPPED | SKIPPED |
+---------------------+----------------------+--------------------+-------------------+----------------+
| Ubuntu 18.04 | SKIPPED | PASS | PASS | PASS |
+---------------------+----------------------+--------------------+-------------------+----------------+
| CentOS 8 | SKIPPED | PASS | SKIPPED | SKIPPED |
+---------------------+----------------------+--------------------+-------------------+----------------+
| openSUSE Leap 15 | SKIPPED | PASS | SKIPPED | SKIPPED |
+---------------------+----------------------+--------------------+-------------------+----------------+
| Ubuntu 18.04 ARM | SKIPPED | PASS | SKIPPED | PASS |
+---------------------+----------------------+--------------------+-------------------+----------------+
| Arch Linux | SKIPPED | PASS | SKIPPED | SKIPPED |
+---------------------+----------------------+--------------------+-------------------+----------------+
| Fedora 31 | SKIPPED | PASS | PASS | SKIPPED |
+---------------------+----------------------+--------------------+-------------------+----------------+
Windows Server 2019
Kernel: 10.0
Compiler: clang 9.0 and gcc 8.1.0 (MinGW)
FreeBSD 11.2
Kernel: 11.2
Compiler: gcc 8.3
Ubuntu 18.04
Kernel: 4.15.0-generic
Compiler: gcc 7.5
CentOS 8
Kernel: 4.18.0.el8_0
Compiler: gcc 8.3.1
openSUSE Leap 15
Kernel: 4.12.14
Compiler: gcc 7.4.1
Ubuntu 18.04 ARM
Kernel: 5.4.0-53-generic
Compiler: gcc 9.3
Arch Linux
Kernel: latest
Compiler: gcc latest
Fedora 31
Kernel: 5.3.16
Compiler: gcc 9.2.1
To view detailed results, visit:
https://lab.dpdk.org/results/dashboard/patchsets/15586/
UNH-IOL DPDK Community Lab
To manage your email subscriptions, visit:
https://lab.dpdk.org/results/dashboard/preferences/subscriptions/
^ permalink raw reply [flat|nested] 8+ messages in thread
* [dpdk-test-report] |SUCCESS| pw87832 [PATCH] [v2] app/testpmd: remove unused struct member
@ 2021-02-19 20:13 dpdklab
0 siblings, 0 replies; 8+ messages in thread
From: dpdklab @ 2021-02-19 20:13 UTC (permalink / raw)
To: Test Report; +Cc: dpdk-test-reports
[-- Attachment #1: Type: text/plain, Size: 2591 bytes --]
Test-Label: iol-intel-Performance
Test-Status: SUCCESS
http://dpdk.org/patch/87832
_Performance Testing PASS_
Submitter: Kathleen Capella <kathleen.capella@arm.com>
Date: Tuesday, February 09 2021 15:40:26
DPDK git baseline: Repo:dpdk
Branch: master
CommitID:442155f70c6bbdf59aa1f7b4d8039b5140f62927
87832 --> performance testing pass
Test environment and result as below:
Ubuntu 18.04
Kernel: 4.15.0-generic
Compiler: gcc 7.4
NIC: Intel Corporation Ethernet Converged Network Adapter 82599ES 10000 Mbps
Target: x86_64-native-linuxapp-gcc
Fail/Total: 0/2
Detail performance results:
+------------+---------+-------------------------------------+
| frame_size | txd/rxd | throughput difference from expected |
+============+=========+=====================================+
| 64 | 512 | 1.37933% |
+------------+---------+-------------------------------------+
| 64 | 2048 | 1.56281% |
+------------+---------+-------------------------------------+
Ubuntu 18.04
Kernel: 4.15.0-generic
Compiler: gcc 7.4
NIC: Intel Corporation Ethernet Converged Network Adapter XL710-QDA2 40000 Mbps
Target: x86_64-native-linuxapp-gcc
Fail/Total: 0/2
Detail performance results:
+------------+---------+-------------------------------------+
| frame_size | txd/rxd | throughput difference from expected |
+============+=========+=====================================+
| 64 | 512 | 5.10275% |
+------------+---------+-------------------------------------+
| 64 | 2048 | 4.33742% |
+------------+---------+-------------------------------------+
Ubuntu 18.04 ARM
Kernel: 4.15.0-132-generic
Compiler: gcc 7.5
NIC: Arm Intel Corporation Ethernet Converged Network Adapter XL710-QDA2 40000 Mbps
Target: x86_64-native-linuxapp-gcc
Fail/Total: 0/2
Detail performance results:
+------------+---------+-------------------------------------+
| frame_size | txd/rxd | throughput difference from expected |
+============+=========+=====================================+
| 64 | 512 | -1.03309% |
+------------+---------+-------------------------------------+
| 64 | 2048 | -1.71429% |
+------------+---------+-------------------------------------+
To view detailed results, visit:
https://lab.dpdk.org/results/dashboard/patchsets/15586/
UNH-IOL DPDK Community Lab
To manage your email subscriptions, visit:
https://lab.dpdk.org/results/dashboard/preferences/subscriptions/
^ permalink raw reply [flat|nested] 8+ messages in thread
* [dpdk-test-report] |SUCCESS| pw87832 [PATCH] [v2] app/testpmd: remove unused struct member
@ 2021-02-19 19:08 dpdklab
0 siblings, 0 replies; 8+ messages in thread
From: dpdklab @ 2021-02-19 19:08 UTC (permalink / raw)
To: Ajit Khaparde, Test Report; +Cc: dpdk-test-reports
[-- Attachment #1: Type: text/plain, Size: 1273 bytes --]
Test-Label: iol-broadcom-Performance
Test-Status: SUCCESS
http://dpdk.org/patch/87832
_Performance Testing PASS_
Submitter: Kathleen Capella <kathleen.capella@arm.com>
Date: Tuesday, February 09 2021 15:40:26
DPDK git baseline: Repo:dpdk
Branch: master
CommitID:442155f70c6bbdf59aa1f7b4d8039b5140f62927
87832 --> performance testing pass
Test environment and result as below:
Ubuntu 18.04
Kernel: 4.15.0-65-generic
Compiler: gcc gcc (Ubuntu 7.4.0-1ubuntu1~18.04.1) 7.4.0
NIC: Broadcom Inc. brcm_57414 25000 Mbps
Target: x86_64-native-linuxapp-gcc
Fail/Total: 0/2
Detail performance results:
+------------+---------+-------------------------------------+
| frame_size | txd/rxd | throughput difference from expected |
+============+=========+=====================================+
| 64 | 512 | 0.01598% |
+------------+---------+-------------------------------------+
| 64 | 2048 | 0.06425% |
+------------+---------+-------------------------------------+
To view detailed results, visit:
https://lab.dpdk.org/results/dashboard/patchsets/15586/
UNH-IOL DPDK Community Lab
To manage your email subscriptions, visit:
https://lab.dpdk.org/results/dashboard/preferences/subscriptions/
^ permalink raw reply [flat|nested] 8+ messages in thread
* [dpdk-test-report] |SUCCESS| pw87832 [PATCH] [v2] app/testpmd: remove unused struct member
@ 2021-02-09 20:59 dpdklab
0 siblings, 0 replies; 8+ messages in thread
From: dpdklab @ 2021-02-09 20:59 UTC (permalink / raw)
To: Ali Alnubani, Test Report; +Cc: dpdk-test-reports
[-- Attachment #1: Type: text/plain, Size: 903 bytes --]
Test-Label: iol-mellanox-Functional
Test-Status: SUCCESS
http://dpdk.org/patch/87832
_Functional Testing PASS_
Submitter: Kathleen Capella <kathleen.capella@arm.com>
Date: Tuesday, February 09 2021 15:40:26
DPDK git baseline: Repo:dpdk
Branch: master
CommitID:a69f94e934ccf9a6a6401e4f272cb2407783c2cb
87832 --> functional testing pass
Test environment and result as below:
Ubuntu 18.04
Kernel: 4.15.0-generic
Compiler: gcc 7.4
NIC: Mellanox ConnectX-4 Lx 25000 Mbps
Target: x86_64-native-linuxapp-gcc
Fail/Total: 0/5
Ubuntu 18.04
Kernel: 4.15.0-generic
Compiler: gcc 7.4
NIC: Mellanox ConnectX-4 Lx 40000 Mbps
Target: x86_64-native-linuxapp-gcc
Fail/Total: 0/5
To view detailed results, visit:
https://lab.dpdk.org/results/dashboard/patchsets/15586/
UNH-IOL DPDK Community Lab
To manage your email subscriptions, visit:
https://lab.dpdk.org/results/dashboard/preferences/subscriptions/
^ permalink raw reply [flat|nested] 8+ messages in thread
* [dpdk-test-report] |SUCCESS| pw87832 [PATCH] [v2] app/testpmd: remove unused struct member
@ 2021-02-09 18:21 dpdklab
0 siblings, 0 replies; 8+ messages in thread
From: dpdklab @ 2021-02-09 18:21 UTC (permalink / raw)
To: Test Report; +Cc: dpdk-test-reports
[-- Attachment #1: Type: text/plain, Size: 2591 bytes --]
Test-Label: iol-intel-Performance
Test-Status: SUCCESS
http://dpdk.org/patch/87832
_Performance Testing PASS_
Submitter: Kathleen Capella <kathleen.capella@arm.com>
Date: Tuesday, February 09 2021 15:40:26
DPDK git baseline: Repo:dpdk
Branch: master
CommitID:a69f94e934ccf9a6a6401e4f272cb2407783c2cb
87832 --> performance testing pass
Test environment and result as below:
Ubuntu 18.04
Kernel: 4.15.0-generic
Compiler: gcc 7.4
NIC: Intel Corporation Ethernet Converged Network Adapter 82599ES 10000 Mbps
Target: x86_64-native-linuxapp-gcc
Fail/Total: 0/2
Detail performance results:
+------------+---------+-------------------------------------+
| frame_size | txd/rxd | throughput difference from expected |
+============+=========+=====================================+
| 64 | 512 | 2.108 |
+------------+---------+-------------------------------------+
| 64 | 2048 | 1.156 |
+------------+---------+-------------------------------------+
Ubuntu 18.04
Kernel: 4.15.0-generic
Compiler: gcc 7.4
NIC: Intel Corporation Ethernet Converged Network Adapter XL710-QDA2 40000 Mbps
Target: x86_64-native-linuxapp-gcc
Fail/Total: 0/2
Detail performance results:
+------------+---------+-------------------------------------+
| frame_size | txd/rxd | throughput difference from expected |
+============+=========+=====================================+
| 64 | 512 | 2.735 |
+------------+---------+-------------------------------------+
| 64 | 2048 | 1.940 |
+------------+---------+-------------------------------------+
Ubuntu 18.04 ARM
Kernel: 4.15.0-132-generic
Compiler: gcc 7.5
NIC: Arm Intel Corporation Ethernet Converged Network Adapter XL710-QDA2 40000 Mbps
Target: x86_64-native-linuxapp-gcc
Fail/Total: 0/2
Detail performance results:
+------------+---------+-------------------------------------+
| frame_size | txd/rxd | throughput difference from expected |
+============+=========+=====================================+
| 64 | 512 | -0.009 |
+------------+---------+-------------------------------------+
| 64 | 2048 | -0.109 |
+------------+---------+-------------------------------------+
To view detailed results, visit:
https://lab.dpdk.org/results/dashboard/patchsets/15586/
UNH-IOL DPDK Community Lab
To manage your email subscriptions, visit:
https://lab.dpdk.org/results/dashboard/preferences/subscriptions/
^ permalink raw reply [flat|nested] 8+ messages in thread
* [dpdk-test-report] |SUCCESS| pw87832 [PATCH] [v2] app/testpmd: remove unused struct member
@ 2021-02-09 16:58 dpdklab
0 siblings, 0 replies; 8+ messages in thread
From: dpdklab @ 2021-02-09 16:58 UTC (permalink / raw)
To: Ajit Khaparde, Test Report; +Cc: dpdk-test-reports
[-- Attachment #1: Type: text/plain, Size: 800 bytes --]
Test-Label: iol-broadcom-Functional
Test-Status: SUCCESS
http://dpdk.org/patch/87832
_Functional Testing PASS_
Submitter: Kathleen Capella <kathleen.capella@arm.com>
Date: Tuesday, February 09 2021 15:40:26
DPDK git baseline: Repo:dpdk
Branch: master
CommitID:a69f94e934ccf9a6a6401e4f272cb2407783c2cb
87832 --> functional testing pass
Test environment and result as below:
Ubuntu 18.04
Kernel: 4.15.0-65-generic
Compiler: gcc gcc (Ubuntu 7.4.0-1ubuntu1~18.04.1) 7.4.0
NIC: Broadcom Inc. brcm_57414 25000 Mbps
Target: x86_64-native-linuxapp-gcc
Fail/Total: 0/3
To view detailed results, visit:
https://lab.dpdk.org/results/dashboard/patchsets/15586/
UNH-IOL DPDK Community Lab
To manage your email subscriptions, visit:
https://lab.dpdk.org/results/dashboard/preferences/subscriptions/
^ permalink raw reply [flat|nested] 8+ messages in thread
* [dpdk-test-report] |SUCCESS| pw87832 [PATCH] [v2] app/testpmd: remove unused struct member
@ 2021-02-09 16:50 dpdklab
0 siblings, 0 replies; 8+ messages in thread
From: dpdklab @ 2021-02-09 16:50 UTC (permalink / raw)
To: Ajit Khaparde, Test Report; +Cc: dpdk-test-reports
[-- Attachment #1: Type: text/plain, Size: 1273 bytes --]
Test-Label: iol-broadcom-Performance
Test-Status: SUCCESS
http://dpdk.org/patch/87832
_Performance Testing PASS_
Submitter: Kathleen Capella <kathleen.capella@arm.com>
Date: Tuesday, February 09 2021 15:40:26
DPDK git baseline: Repo:dpdk
Branch: master
CommitID:a69f94e934ccf9a6a6401e4f272cb2407783c2cb
87832 --> performance testing pass
Test environment and result as below:
Ubuntu 18.04
Kernel: 4.15.0-65-generic
Compiler: gcc gcc (Ubuntu 7.4.0-1ubuntu1~18.04.1) 7.4.0
NIC: Broadcom Inc. brcm_57414 25000 Mbps
Target: x86_64-native-linuxapp-gcc
Fail/Total: 0/2
Detail performance results:
+------------+---------+-------------------------------------+
| frame_size | txd/rxd | throughput difference from expected |
+============+=========+=====================================+
| 64 | 512 | 0.087 |
+------------+---------+-------------------------------------+
| 64 | 2048 | 0.020 |
+------------+---------+-------------------------------------+
To view detailed results, visit:
https://lab.dpdk.org/results/dashboard/patchsets/15586/
UNH-IOL DPDK Community Lab
To manage your email subscriptions, visit:
https://lab.dpdk.org/results/dashboard/preferences/subscriptions/
^ permalink raw reply [flat|nested] 8+ messages in thread
end of thread, other threads:[~2021-02-19 21:49 UTC | newest]
Thread overview: 8+ messages (download: mbox.gz / follow: Atom feed)
-- links below jump to the message on this page --
2021-02-19 19:02 [dpdk-test-report] |SUCCESS| pw87832 [PATCH] [v2] app/testpmd: remove unused struct member dpdklab
-- strict thread matches above, loose matches on Subject: below --
2021-02-19 21:49 dpdklab
2021-02-19 20:13 dpdklab
2021-02-19 19:08 dpdklab
2021-02-09 20:59 dpdklab
2021-02-09 18:21 dpdklab
2021-02-09 16:58 dpdklab
2021-02-09 16:50 dpdklab
This is a public inbox, see mirroring instructions
for how to clone and mirror all data and code used for this inbox;
as well as URLs for NNTP newsgroup(s).