automatic DPDK test reports
 help / color / mirror / Atom feed
From: dpdklab@iol.unh.edu
To: Test Report <test-report@dpdk.org>
Cc: dpdk-test-reports@iol.unh.edu
Subject: [dpdk-test-report] |SUCCESS| pw88021 [PATCH] fbarray: fix uninitialized variable usage
Date: Fri, 19 Feb 2021 16:20:39 -0500 (EST)
Message-ID: <20210219212039.C06B33075C@noxus.dpdklab.iol.unh.edu> (raw)

[-- Attachment #1: Type: text/plain, Size: 3025 bytes --]

Test-Label: iol-testing
Test-Status: SUCCESS
http://dpdk.org/patch/88021

_Testing PASS_

Submitter: Anatoly Burakov <anatoly.burakov@intel.com>
Date: Friday, February 19 2021 17:54:45 
DPDK git baseline: Repo:dpdk
  Branch: master
  CommitID:442155f70c6bbdf59aa1f7b4d8039b5140f62927

88021 --> testing pass

Test environment and result as below:

+---------------------+----------------------+--------------------+----------------+-------------------+
|     Environment     | dpdk_mingw64_compile | dpdk_meson_compile | dpdk_unit_test | dpdk_compile_spdk |
+=====================+======================+====================+================+===================+
| Windows Server 2019 | PASS                 | PASS               | SKIPPED        | SKIPPED           |
+---------------------+----------------------+--------------------+----------------+-------------------+
| FreeBSD 11.2        | SKIPPED              | PASS               | SKIPPED        | SKIPPED           |
+---------------------+----------------------+--------------------+----------------+-------------------+
| CentOS 8            | SKIPPED              | PASS               | SKIPPED        | SKIPPED           |
+---------------------+----------------------+--------------------+----------------+-------------------+
| openSUSE Leap 15    | SKIPPED              | PASS               | SKIPPED        | SKIPPED           |
+---------------------+----------------------+--------------------+----------------+-------------------+
| Ubuntu 18.04        | SKIPPED              | PASS               | PASS           | PASS              |
+---------------------+----------------------+--------------------+----------------+-------------------+
| Arch Linux          | SKIPPED              | PASS               | SKIPPED        | SKIPPED           |
+---------------------+----------------------+--------------------+----------------+-------------------+
| Fedora 31           | SKIPPED              | PASS               | SKIPPED        | PASS              |
+---------------------+----------------------+--------------------+----------------+-------------------+
| Ubuntu 18.04 ARM    | SKIPPED              | PASS               | PASS           | SKIPPED           |
+---------------------+----------------------+--------------------+----------------+-------------------+


Windows Server 2019
	Kernel: 10.0
	Compiler: clang 9.0 and gcc 8.1.0 (MinGW)

FreeBSD 11.2
	Kernel: 11.2
	Compiler: gcc 8.3

CentOS 8
	Kernel: 4.18.0.el8_0
	Compiler: gcc 8.3.1

openSUSE Leap 15
	Kernel: 4.12.14
	Compiler: gcc 7.4.1

Ubuntu 18.04
	Kernel: 4.15.0-generic
	Compiler: gcc 7.5

Arch Linux
	Kernel: latest
	Compiler: gcc latest

Fedora 31
	Kernel: 5.3.16
	Compiler: gcc 9.2.1

Ubuntu 18.04 ARM
	Kernel: 5.4.0-53-generic
	Compiler: gcc 9.3

To view detailed results, visit:
https://lab.dpdk.org/results/dashboard/patchsets/15667/

UNH-IOL DPDK Community Lab

To manage your email subscriptions, visit: 
https://lab.dpdk.org/results/dashboard/preferences/subscriptions/

             reply	other threads:[~2021-02-19 21:20 UTC|newest]

Thread overview: 6+ messages / expand[flat|nested]  mbox.gz  Atom feed  top
2021-02-19 21:20 dpdklab [this message]
  -- strict thread matches above, loose matches on Subject: below --
2021-02-19 20:43 dpdklab
2021-02-19 19:20 dpdklab
2021-02-19 18:32 dpdklab
2021-02-19 18:23 dpdklab
     [not found] <cf6bb1eb3f5e4740b462998df559ce3b2247a3bb.1613757281.git.anatoly.burakov@intel.com>
2021-02-19 17:56 ` checkpatch

Reply instructions:

You may reply publicly to this message via plain-text email
using any one of the following methods:

* Save the following mbox file, import it into your mail client,
  and reply-to-all from there: mbox

  Avoid top-posting and favor interleaved quoting:
  https://en.wikipedia.org/wiki/Posting_style#Interleaved_style

* Reply using the --to, --cc, and --in-reply-to
  switches of git-send-email(1):

  git send-email \
    --in-reply-to=20210219212039.C06B33075C@noxus.dpdklab.iol.unh.edu \
    --to=dpdklab@iol.unh.edu \
    --cc=dpdk-test-reports@iol.unh.edu \
    --cc=test-report@dpdk.org \
    /path/to/YOUR_REPLY

  https://kernel.org/pub/software/scm/git/docs/git-send-email.html

* If your mail client supports setting the In-Reply-To header
  via mailto: links, try the mailto: link

automatic DPDK test reports

This inbox may be cloned and mirrored by anyone:

	git clone --mirror https://inbox.dpdk.org/test-report/0 test-report/git/0.git

	# If you have public-inbox 1.1+ installed, you may
	# initialize and index your mirror using the following commands:
	public-inbox-init -V2 test-report test-report/ https://inbox.dpdk.org/test-report \
		test-report@dpdk.org
	public-inbox-index test-report

Example config snippet for mirrors.
Newsgroup available over NNTP:
	nntp://inbox.dpdk.org/inbox.dpdk.test-report


AGPL code for this site: git clone https://public-inbox.org/public-inbox.git