automatic DPDK test reports
 help / color / mirror / Atom feed
* [dpdk-test-report] |SUCCESS| pw88060-88066 [PATCH] [v3, 7/7] eal/windows: do not expose POSIX symbols
@ 2021-02-21 14:54 dpdklab
  0 siblings, 0 replies; 6+ messages in thread
From: dpdklab @ 2021-02-21 14:54 UTC (permalink / raw)
  To: Ajit Khaparde, Test Report; +Cc: dpdk-test-reports

[-- Attachment #1: Type: text/plain, Size: 1276 bytes --]

Test-Label: iol-broadcom-Performance
Test-Status: SUCCESS
http://dpdk.org/patch/88066

_Performance Testing PASS_

Submitter: Dmitry Kozlyuk <dmitry.kozliuk@gmail.com>
Date: Sunday, February 21 2021 14:28:19 
DPDK git baseline: Repo:dpdk
  Branch: master
  CommitID:442155f70c6bbdf59aa1f7b4d8039b5140f62927

88060-88066 --> performance testing pass

Test environment and result as below:

Ubuntu 18.04
Kernel: 4.15.0-65-generic
Compiler: gcc gcc (Ubuntu 7.4.0-1ubuntu1~18.04.1) 7.4.0
NIC: Broadcom Inc. brcm_57414 25000 Mbps
Target: x86_64-native-linuxapp-gcc
Fail/Total: 0/2

Detail performance results: 
+------------+---------+-------------------------------------+
| frame_size | txd/rxd | throughput difference from expected |
+============+=========+=====================================+
| 64         | 512     | -0.21312%                           |
+------------+---------+-------------------------------------+
| 64         | 2048    | 0.49258%                            |
+------------+---------+-------------------------------------+

To view detailed results, visit:
https://lab.dpdk.org/results/dashboard/patchsets/15676/

UNH-IOL DPDK Community Lab

To manage your email subscriptions, visit: 
https://lab.dpdk.org/results/dashboard/preferences/subscriptions/

^ permalink raw reply	[flat|nested] 6+ messages in thread
* [dpdk-test-report] |SUCCESS| pw88060-88066 [PATCH] [v3, 7/7] eal/windows: do not expose POSIX symbols
@ 2021-02-21 15:02 dpdklab
  0 siblings, 0 replies; 6+ messages in thread
From: dpdklab @ 2021-02-21 15:02 UTC (permalink / raw)
  To: Ajit Khaparde, Test Report; +Cc: dpdk-test-reports

[-- Attachment #1: Type: text/plain, Size: 803 bytes --]

Test-Label: iol-broadcom-Functional
Test-Status: SUCCESS
http://dpdk.org/patch/88066

_Functional Testing PASS_

Submitter: Dmitry Kozlyuk <dmitry.kozliuk@gmail.com>
Date: Sunday, February 21 2021 14:28:19 
DPDK git baseline: Repo:dpdk
  Branch: master
  CommitID:442155f70c6bbdf59aa1f7b4d8039b5140f62927

88060-88066 --> functional testing pass

Test environment and result as below:

Ubuntu 18.04
Kernel: 4.15.0-65-generic
Compiler: gcc gcc (Ubuntu 7.4.0-1ubuntu1~18.04.1) 7.4.0
NIC: Broadcom Inc. brcm_57414 25000 Mbps
Target: x86_64-native-linuxapp-gcc
Fail/Total: 0/3


To view detailed results, visit:
https://lab.dpdk.org/results/dashboard/patchsets/15676/

UNH-IOL DPDK Community Lab

To manage your email subscriptions, visit: 
https://lab.dpdk.org/results/dashboard/preferences/subscriptions/

^ permalink raw reply	[flat|nested] 6+ messages in thread
* [dpdk-test-report] |SUCCESS| pw88060-88066 [PATCH] [v3, 7/7] eal/windows: do not expose POSIX symbols
@ 2021-02-21 15:49 dpdklab
  0 siblings, 0 replies; 6+ messages in thread
From: dpdklab @ 2021-02-21 15:49 UTC (permalink / raw)
  To: Test Report; +Cc: dpdk-test-reports

[-- Attachment #1: Type: text/plain, Size: 2594 bytes --]

Test-Label: iol-intel-Performance
Test-Status: SUCCESS
http://dpdk.org/patch/88066

_Performance Testing PASS_

Submitter: Dmitry Kozlyuk <dmitry.kozliuk@gmail.com>
Date: Sunday, February 21 2021 14:28:19 
DPDK git baseline: Repo:dpdk
  Branch: master
  CommitID:442155f70c6bbdf59aa1f7b4d8039b5140f62927

88060-88066 --> performance testing pass

Test environment and result as below:

Ubuntu 18.04
Kernel: 4.15.0-generic
Compiler: gcc 7.4
NIC: Intel Corporation Ethernet Converged Network Adapter 82599ES 10000 Mbps
Target: x86_64-native-linuxapp-gcc
Fail/Total: 0/2

Detail performance results: 
+------------+---------+-------------------------------------+
| frame_size | txd/rxd | throughput difference from expected |
+============+=========+=====================================+
| 64         | 512     | 1.96141%                            |
+------------+---------+-------------------------------------+
| 64         | 2048    | 1.37608%                            |
+------------+---------+-------------------------------------+

Ubuntu 18.04
Kernel: 4.15.0-generic
Compiler: gcc 7.4
NIC: Intel Corporation Ethernet Converged Network Adapter XL710-QDA2 40000 Mbps
Target: x86_64-native-linuxapp-gcc
Fail/Total: 0/2

Detail performance results: 
+------------+---------+-------------------------------------+
| frame_size | txd/rxd | throughput difference from expected |
+============+=========+=====================================+
| 64         | 512     | 5.86967%                            |
+------------+---------+-------------------------------------+
| 64         | 2048    | 4.82129%                            |
+------------+---------+-------------------------------------+

Ubuntu 18.04 ARM
Kernel: 4.15.0-132-generic
Compiler: gcc 7.5
NIC: Arm Intel Corporation Ethernet Converged Network Adapter XL710-QDA2 40000 Mbps
Target: x86_64-native-linuxapp-gcc
Fail/Total: 0/2

Detail performance results: 
+------------+---------+-------------------------------------+
| frame_size | txd/rxd | throughput difference from expected |
+============+=========+=====================================+
| 64         | 512     | -0.43278%                           |
+------------+---------+-------------------------------------+
| 64         | 2048    | -0.19512%                           |
+------------+---------+-------------------------------------+

To view detailed results, visit:
https://lab.dpdk.org/results/dashboard/patchsets/15676/

UNH-IOL DPDK Community Lab

To manage your email subscriptions, visit: 
https://lab.dpdk.org/results/dashboard/preferences/subscriptions/

^ permalink raw reply	[flat|nested] 6+ messages in thread
* [dpdk-test-report] |SUCCESS| pw88060-88066 [PATCH] [v3, 7/7] eal/windows: do not expose POSIX symbols
@ 2021-02-21 16:43 dpdklab
  0 siblings, 0 replies; 6+ messages in thread
From: dpdklab @ 2021-02-21 16:43 UTC (permalink / raw)
  To: Test Report; +Cc: dpdk-test-reports

[-- Attachment #1: Type: text/plain, Size: 930 bytes --]

Test-Label: iol-abi-testing
Test-Status: SUCCESS
http://dpdk.org/patch/88066

_Testing PASS_

Submitter: Dmitry Kozlyuk <dmitry.kozliuk@gmail.com>
Date: Sunday, February 21 2021 14:28:19 
DPDK git baseline: Repo:dpdk
  Branch: master
  CommitID:442155f70c6bbdf59aa1f7b4d8039b5140f62927

88060-88066 --> testing pass

Test environment and result as below:

+------------------+----------+
|   Environment    | abi_test |
+==================+==========+
| Ubuntu 18.04     | PASS     |
+------------------+----------+
| Ubuntu 18.04 ARM | PASS     |
+------------------+----------+


Ubuntu 18.04
	Kernel: 4.15.0-generic
	Compiler: gcc 7.5

Ubuntu 18.04 ARM
	Kernel: 5.4.0-53-generic
	Compiler: gcc 9.3

To view detailed results, visit:
https://lab.dpdk.org/results/dashboard/patchsets/15676/

UNH-IOL DPDK Community Lab

To manage your email subscriptions, visit: 
https://lab.dpdk.org/results/dashboard/preferences/subscriptions/

^ permalink raw reply	[flat|nested] 6+ messages in thread
* [dpdk-test-report] |SUCCESS| pw88060-88066 [PATCH] [v3, 7/7] eal/windows: do not expose POSIX symbols
@ 2021-02-21 16:43 dpdklab
  0 siblings, 0 replies; 6+ messages in thread
From: dpdklab @ 2021-02-21 16:43 UTC (permalink / raw)
  To: Test Report; +Cc: dpdk-test-reports

[-- Attachment #1: Type: text/plain, Size: 3029 bytes --]

Test-Label: iol-testing
Test-Status: SUCCESS
http://dpdk.org/patch/88066

_Testing PASS_

Submitter: Dmitry Kozlyuk <dmitry.kozliuk@gmail.com>
Date: Sunday, February 21 2021 14:28:19 
DPDK git baseline: Repo:dpdk
  Branch: master
  CommitID:442155f70c6bbdf59aa1f7b4d8039b5140f62927

88060-88066 --> testing pass

Test environment and result as below:

+---------------------+----------------------+--------------------+-------------------+----------------+
|     Environment     | dpdk_mingw64_compile | dpdk_meson_compile | dpdk_compile_spdk | dpdk_unit_test |
+=====================+======================+====================+===================+================+
| Windows Server 2019 | PASS                 | PASS               | SKIPPED           | SKIPPED        |
+---------------------+----------------------+--------------------+-------------------+----------------+
| FreeBSD 11.2        | SKIPPED              | PASS               | SKIPPED           | SKIPPED        |
+---------------------+----------------------+--------------------+-------------------+----------------+
| CentOS 8            | SKIPPED              | PASS               | SKIPPED           | SKIPPED        |
+---------------------+----------------------+--------------------+-------------------+----------------+
| openSUSE Leap 15    | SKIPPED              | PASS               | SKIPPED           | SKIPPED        |
+---------------------+----------------------+--------------------+-------------------+----------------+
| Arch Linux          | SKIPPED              | PASS               | SKIPPED           | SKIPPED        |
+---------------------+----------------------+--------------------+-------------------+----------------+
| Fedora 31           | SKIPPED              | PASS               | PASS              | SKIPPED        |
+---------------------+----------------------+--------------------+-------------------+----------------+
| Ubuntu 18.04        | SKIPPED              | PASS               | PASS              | PASS           |
+---------------------+----------------------+--------------------+-------------------+----------------+
| Ubuntu 18.04 ARM    | SKIPPED              | PASS               | SKIPPED           | PASS           |
+---------------------+----------------------+--------------------+-------------------+----------------+


Windows Server 2019
	Kernel: 10.0
	Compiler: clang 9.0 and gcc 8.1.0 (MinGW)

FreeBSD 11.2
	Kernel: 11.2
	Compiler: gcc 8.3

CentOS 8
	Kernel: 4.18.0.el8_0
	Compiler: gcc 8.3.1

openSUSE Leap 15
	Kernel: 4.12.14
	Compiler: gcc 7.4.1

Arch Linux
	Kernel: latest
	Compiler: gcc latest

Fedora 31
	Kernel: 5.3.16
	Compiler: gcc 9.2.1

Ubuntu 18.04
	Kernel: 4.15.0-generic
	Compiler: gcc 7.5

Ubuntu 18.04 ARM
	Kernel: 5.4.0-53-generic
	Compiler: gcc 9.3

To view detailed results, visit:
https://lab.dpdk.org/results/dashboard/patchsets/15676/

UNH-IOL DPDK Community Lab

To manage your email subscriptions, visit: 
https://lab.dpdk.org/results/dashboard/preferences/subscriptions/

^ permalink raw reply	[flat|nested] 6+ messages in thread
* [dpdk-test-report] |SUCCESS| pw88060-88066 [PATCH] [v3, 7/7] eal/windows: do not expose POSIX symbols
@ 2021-02-23 16:49 dpdklab
  0 siblings, 0 replies; 6+ messages in thread
From: dpdklab @ 2021-02-23 16:49 UTC (permalink / raw)
  To: Ali Alnubani, Test Report; +Cc: dpdk-test-reports

[-- Attachment #1: Type: text/plain, Size: 4852 bytes --]

Test-Label: iol-mellanox-Performance
Test-Status: SUCCESS
http://dpdk.org/patch/88066

_Performance Testing PASS_

Submitter: Dmitry Kozlyuk <dmitry.kozliuk@gmail.com>
Date: Sunday, February 21 2021 14:28:19 
DPDK git baseline: Repo:dpdk
  Branch: master
  CommitID:442155f70c6bbdf59aa1f7b4d8039b5140f62927

88060-88066 --> performance testing pass

Test environment and result as below:

Ubuntu 18.04
Kernel: 4.15.0-generic
Compiler: gcc 7.4
NIC: Mellanox ConnectX-5 100000 Mbps
Target: x86_64-native-linuxapp-gcc
Fail/Total: 0/6

Detail performance results: 
+------------+---------+-------------------------------------+
| frame_size | txd/rxd | throughput difference from expected |
+============+=========+=====================================+
| 64         | 256     | 0.08106%                            |
+------------+---------+-------------------------------------+
| 128        | 256     | 0.42206%                            |
+------------+---------+-------------------------------------+
| 256        | 256     | 0.25731%                            |
+------------+---------+-------------------------------------+
| 512        | 256     | -0.26779%                           |
+------------+---------+-------------------------------------+
| 1024       | 256     | 0.35845%                            |
+------------+---------+-------------------------------------+
| 1518       | 256     | -0.21152%                           |
+------------+---------+-------------------------------------+

Ubuntu 18.04
Kernel: 4.15.0-generic
Compiler: gcc 7.4
NIC: Mellanox ConnectX-4 Lx 25000 Mbps
Target: x86_64-native-linuxapp-gcc
Fail/Total: 0/6

Detail performance results: 
+------------+---------+-------------------------------------+
| frame_size | txd/rxd | throughput difference from expected |
+============+=========+=====================================+
| 64         | 256     | -0.01706%                           |
+------------+---------+-------------------------------------+
| 128        | 256     | 0.02767%                            |
+------------+---------+-------------------------------------+
| 256        | 256     | -0.80522%                           |
+------------+---------+-------------------------------------+
| 512        | 256     | -0.35916%                           |
+------------+---------+-------------------------------------+
| 1024       | 256     | 0.0%                                |
+------------+---------+-------------------------------------+
| 1518       | 256     | -0.12285%                           |
+------------+---------+-------------------------------------+

Ubuntu 18.04 ARM
Kernel: 4.15.0-132-generic
Compiler: gcc 7.5
NIC: Arm Mellanox ConnectX-5 10000 Mbps
Target: x86_64-native-linuxapp-gcc
Fail/Total: 0/4

Detail performance results: 
+------------+---------+-------------------------------------+
| frame_size | txd/rxd | throughput difference from expected |
+============+=========+=====================================+
| 64         | 128     | -2.50157%                           |
+------------+---------+-------------------------------------+
| 64         | 256     | -1.80735%                           |
+------------+---------+-------------------------------------+
| 64         | 512     | -1.93338%                           |
+------------+---------+-------------------------------------+
| 64         | 2048    | -2.39833%                           |
+------------+---------+-------------------------------------+

Ubuntu 18.04
Kernel: 4.15.0-generic
Compiler: gcc 7.4
NIC: Mellanox ConnectX-4 Lx 40000 Mbps
Target: x86_64-native-linuxapp-gcc
Fail/Total: 0/6

Detail performance results: 
+------------+---------+-------------------------------------+
| frame_size | txd/rxd | throughput difference from expected |
+============+=========+=====================================+
| 64         | 256     | 0.52238%                            |
+------------+---------+-------------------------------------+
| 128        | 256     | 0.78918%                            |
+------------+---------+-------------------------------------+
| 256        | 256     | 0.09133%                            |
+------------+---------+-------------------------------------+
| 512        | 256     | -0.22843%                           |
+------------+---------+-------------------------------------+
| 1024       | 256     | -0.0836%                            |
+------------+---------+-------------------------------------+
| 1518       | 256     | -0.26154%                           |
+------------+---------+-------------------------------------+

To view detailed results, visit:
https://lab.dpdk.org/results/dashboard/patchsets/15676/

UNH-IOL DPDK Community Lab

To manage your email subscriptions, visit: 
https://lab.dpdk.org/results/dashboard/preferences/subscriptions/

^ permalink raw reply	[flat|nested] 6+ messages in thread

end of thread, other threads:[~2021-02-23 16:49 UTC | newest]

Thread overview: 6+ messages (download: mbox.gz / follow: Atom feed)
-- links below jump to the message on this page --
2021-02-21 14:54 [dpdk-test-report] |SUCCESS| pw88060-88066 [PATCH] [v3, 7/7] eal/windows: do not expose POSIX symbols dpdklab
2021-02-21 15:02 dpdklab
2021-02-21 15:49 dpdklab
2021-02-21 16:43 dpdklab
2021-02-21 16:43 dpdklab
2021-02-23 16:49 dpdklab

automatic DPDK test reports

This inbox may be cloned and mirrored by anyone:

	git clone --mirror https://inbox.dpdk.org/test-report/0 test-report/git/0.git

	# If you have public-inbox 1.1+ installed, you may
	# initialize and index your mirror using the following commands:
	public-inbox-init -V2 test-report test-report/ https://inbox.dpdk.org/test-report \
		test-report@dpdk.org
	public-inbox-index test-report

Example config snippet for mirrors.
Newsgroup available over NNTP:
	nntp://inbox.dpdk.org/inbox.dpdk.test-report


AGPL code for this site: git clone https://public-inbox.org/public-inbox.git