Test-Label: checkpatch Test-Status: SUCCESS http://dpdk.org/patch/88110 _coding style OK_
[-- Attachment #1: Type: text/plain, Size: 971 bytes --] Test-Label: iol-intel-Functional Test-Status: SUCCESS http://dpdk.org/patch/88110 _Functional Testing PASS_ Submitter: Jie Zhou <jizh@linux.microsoft.com> Date: Tuesday, February 23 2021 23:01:12 DPDK git baseline: Repo:dpdk Branch: master CommitID:51fe32138c860992f228dbf19416ffd3b8e8baf4 88110 --> functional testing pass Test environment and result as below: Ubuntu 18.04 Kernel: 4.15.0-generic Compiler: gcc 7.4 NIC: Intel Corporation Ethernet Converged Network Adapter XL710-QDA2 40000 Mbps Target: x86_64-native-linuxapp-gcc Fail/Total: 0/3 Ubuntu 18.04 Kernel: 4.15.0-generic Compiler: gcc 7.4 NIC: Intel Corporation Ethernet Converged Network Adapter 82599ES 10000 Mbps Target: x86_64-native-linuxapp-gcc Fail/Total: 0/5 To view detailed results, visit: https://lab.dpdk.org/results/dashboard/patchsets/15699/ UNH-IOL DPDK Community Lab To manage your email subscriptions, visit: https://lab.dpdk.org/results/dashboard/preferences/subscriptions/
[-- Attachment #1: Type: text/plain, Size: 919 bytes --] Test-Label: iol-abi-testing Test-Status: SUCCESS http://dpdk.org/patch/88110 _Testing PASS_ Submitter: Jie Zhou <jizh@linux.microsoft.com> Date: Tuesday, February 23 2021 23:01:12 DPDK git baseline: Repo:dpdk Branch: master CommitID:51fe32138c860992f228dbf19416ffd3b8e8baf4 88110 --> testing pass Test environment and result as below: +------------------+----------+ | Environment | abi_test | +==================+==========+ | Ubuntu 18.04 | PASS | +------------------+----------+ | Ubuntu 18.04 ARM | PASS | +------------------+----------+ Ubuntu 18.04 Kernel: 4.15.0-generic Compiler: gcc 7.5 Ubuntu 18.04 ARM Kernel: 5.4.0-53-generic Compiler: gcc 9.3 To view detailed results, visit: https://lab.dpdk.org/results/dashboard/patchsets/15699/ UNH-IOL DPDK Community Lab To manage your email subscriptions, visit: https://lab.dpdk.org/results/dashboard/preferences/subscriptions/
[-- Attachment #1: Type: text/plain, Size: 1914 bytes --] Test-Label: iol-intel-Performance Test-Status: SUCCESS http://dpdk.org/patch/88110 _Performance Testing PASS_ Submitter: Jie Zhou <jizh@linux.microsoft.com> Date: Tuesday, February 23 2021 23:01:12 DPDK git baseline: Repo:dpdk Branch: master CommitID:51fe32138c860992f228dbf19416ffd3b8e8baf4 88110 --> performance testing pass Test environment and result as below: Ubuntu 18.04 Kernel: 4.15.0-generic Compiler: gcc 7.4 NIC: Intel Corporation Ethernet Converged Network Adapter 82599ES 10000 Mbps Target: x86_64-native-linuxapp-gcc Fail/Total: 0/2 Detail performance results: +------------+---------+-------------------------------------+ | frame_size | txd/rxd | throughput difference from expected | +============+=========+=====================================+ | 64 | 512 | 3.60573% | +------------+---------+-------------------------------------+ | 64 | 2048 | 1.89032% | +------------+---------+-------------------------------------+ Ubuntu 18.04 Kernel: 4.15.0-generic Compiler: gcc 7.4 NIC: Intel Corporation Ethernet Converged Network Adapter XL710-QDA2 40000 Mbps Target: x86_64-native-linuxapp-gcc Fail/Total: 0/2 Detail performance results: +------------+---------+-------------------------------------+ | frame_size | txd/rxd | throughput difference from expected | +============+=========+=====================================+ | 64 | 512 | -0.56127% | +------------+---------+-------------------------------------+ | 64 | 2048 | -0.48503% | +------------+---------+-------------------------------------+ To view detailed results, visit: https://lab.dpdk.org/results/dashboard/patchsets/15699/ UNH-IOL DPDK Community Lab To manage your email subscriptions, visit: https://lab.dpdk.org/results/dashboard/preferences/subscriptions/
[-- Attachment #1: Type: text/plain, Size: 1914 bytes --] Test-Label: iol-intel-Performance Test-Status: SUCCESS http://dpdk.org/patch/88110 _Performance Testing PASS_ Submitter: Jie Zhou <jizh@linux.microsoft.com> Date: Tuesday, February 23 2021 23:01:12 DPDK git baseline: Repo:dpdk Branch: master CommitID:51fe32138c860992f228dbf19416ffd3b8e8baf4 88110 --> performance testing pass Test environment and result as below: Ubuntu 18.04 Kernel: 4.15.0-generic Compiler: gcc 7.4 NIC: Intel Corporation Ethernet Converged Network Adapter 82599ES 10000 Mbps Target: x86_64-native-linuxapp-gcc Fail/Total: 0/2 Detail performance results: +------------+---------+-------------------------------------+ | frame_size | txd/rxd | throughput difference from expected | +============+=========+=====================================+ | 64 | 512 | 3.60573% | +------------+---------+-------------------------------------+ | 64 | 2048 | 1.89032% | +------------+---------+-------------------------------------+ Ubuntu 18.04 Kernel: 4.15.0-generic Compiler: gcc 7.4 NIC: Intel Corporation Ethernet Converged Network Adapter XL710-QDA2 40000 Mbps Target: x86_64-native-linuxapp-gcc Fail/Total: 0/2 Detail performance results: +------------+---------+-------------------------------------+ | frame_size | txd/rxd | throughput difference from expected | +============+=========+=====================================+ | 64 | 512 | -0.56127% | +------------+---------+-------------------------------------+ | 64 | 2048 | -0.48503% | +------------+---------+-------------------------------------+ To view detailed results, visit: https://lab.dpdk.org/results/dashboard/patchsets/15699/ UNH-IOL DPDK Community Lab To manage your email subscriptions, visit: https://lab.dpdk.org/results/dashboard/preferences/subscriptions/
[-- Attachment #1: Type: text/plain, Size: 1914 bytes --] Test-Label: iol-intel-Performance Test-Status: SUCCESS http://dpdk.org/patch/88110 _Performance Testing PASS_ Submitter: Jie Zhou <jizh@linux.microsoft.com> Date: Tuesday, February 23 2021 23:01:12 DPDK git baseline: Repo:dpdk Branch: master CommitID:51fe32138c860992f228dbf19416ffd3b8e8baf4 88110 --> performance testing pass Test environment and result as below: Ubuntu 18.04 Kernel: 4.15.0-generic Compiler: gcc 7.4 NIC: Intel Corporation Ethernet Converged Network Adapter 82599ES 10000 Mbps Target: x86_64-native-linuxapp-gcc Fail/Total: 0/2 Detail performance results: +------------+---------+-------------------------------------+ | frame_size | txd/rxd | throughput difference from expected | +============+=========+=====================================+ | 64 | 512 | 1.54189% | +------------+---------+-------------------------------------+ | 64 | 2048 | 0.52091% | +------------+---------+-------------------------------------+ Ubuntu 18.04 Kernel: 4.15.0-generic Compiler: gcc 7.4 NIC: Intel Corporation Ethernet Converged Network Adapter XL710-QDA2 40000 Mbps Target: x86_64-native-linuxapp-gcc Fail/Total: 0/2 Detail performance results: +------------+---------+-------------------------------------+ | frame_size | txd/rxd | throughput difference from expected | +============+=========+=====================================+ | 64 | 512 | -0.56127% | +------------+---------+-------------------------------------+ | 64 | 2048 | -0.48503% | +------------+---------+-------------------------------------+ To view detailed results, visit: https://lab.dpdk.org/results/dashboard/patchsets/15699/ UNH-IOL DPDK Community Lab To manage your email subscriptions, visit: https://lab.dpdk.org/results/dashboard/preferences/subscriptions/
[-- Attachment #1: Type: text/plain, Size: 3964 bytes --] Test-Label: iol-mellanox-Performance Test-Status: SUCCESS http://dpdk.org/patch/88110 _Performance Testing PASS_ Submitter: Jie Zhou <jizh@linux.microsoft.com> Date: Tuesday, February 23 2021 23:01:12 DPDK git baseline: Repo:dpdk Branch: master CommitID:51fe32138c860992f228dbf19416ffd3b8e8baf4 88110 --> performance testing pass Test environment and result as below: Ubuntu 18.04 Kernel: 4.15.0-generic Compiler: gcc 7.4 NIC: Mellanox ConnectX-5 100000 Mbps Target: x86_64-native-linuxapp-gcc Fail/Total: 0/6 Detail performance results: +------------+---------+-------------------------------------+ | frame_size | txd/rxd | throughput difference from expected | +============+=========+=====================================+ | 64 | 256 | -0.11811% | +------------+---------+-------------------------------------+ | 128 | 256 | 0.10701% | +------------+---------+-------------------------------------+ | 256 | 256 | 0.07476% | +------------+---------+-------------------------------------+ | 512 | 256 | 0.65702% | +------------+---------+-------------------------------------+ | 1024 | 256 | 0.11053% | +------------+---------+-------------------------------------+ | 1518 | 256 | -0.10592% | +------------+---------+-------------------------------------+ Ubuntu 18.04 Kernel: 4.15.0-generic Compiler: gcc 7.4 NIC: Mellanox ConnectX-4 Lx 25000 Mbps Target: x86_64-native-linuxapp-gcc Fail/Total: 0/6 Detail performance results: +------------+---------+-------------------------------------+ | frame_size | txd/rxd | throughput difference from expected | +============+=========+=====================================+ | 64 | 256 | -0.70524% | +------------+---------+-------------------------------------+ | 128 | 256 | 0.0% | +------------+---------+-------------------------------------+ | 256 | 256 | -0.63972% | +------------+---------+-------------------------------------+ | 512 | 256 | -1.07039% | +------------+---------+-------------------------------------+ | 1024 | 256 | -0.15038% | +------------+---------+-------------------------------------+ | 1518 | 256 | -0.12318% | +------------+---------+-------------------------------------+ Ubuntu 18.04 Kernel: 4.15.0-generic Compiler: gcc 7.4 NIC: Mellanox ConnectX-4 Lx 40000 Mbps Target: x86_64-native-linuxapp-gcc Fail/Total: 0/6 Detail performance results: +------------+---------+-------------------------------------+ | frame_size | txd/rxd | throughput difference from expected | +============+=========+=====================================+ | 64 | 256 | 0.03713% | +------------+---------+-------------------------------------+ | 128 | 256 | 0.14098% | +------------+---------+-------------------------------------+ | 256 | 256 | -0.16071% | +------------+---------+-------------------------------------+ | 512 | 256 | 0.07999% | +------------+---------+-------------------------------------+ | 1024 | 256 | -0.01045% | +------------+---------+-------------------------------------+ | 1518 | 256 | -0.18428% | +------------+---------+-------------------------------------+ To view detailed results, visit: https://lab.dpdk.org/results/dashboard/patchsets/15699/ UNH-IOL DPDK Community Lab To manage your email subscriptions, visit: https://lab.dpdk.org/results/dashboard/preferences/subscriptions/
[-- Attachment #1: Type: text/plain, Size: 3964 bytes --] Test-Label: iol-mellanox-Performance Test-Status: SUCCESS http://dpdk.org/patch/88110 _Performance Testing PASS_ Submitter: Jie Zhou <jizh@linux.microsoft.com> Date: Tuesday, February 23 2021 23:01:12 DPDK git baseline: Repo:dpdk Branch: master CommitID:51fe32138c860992f228dbf19416ffd3b8e8baf4 88110 --> performance testing pass Test environment and result as below: Ubuntu 18.04 Kernel: 4.15.0-generic Compiler: gcc 7.4 NIC: Mellanox ConnectX-5 100000 Mbps Target: x86_64-native-linuxapp-gcc Fail/Total: 0/6 Detail performance results: +------------+---------+-------------------------------------+ | frame_size | txd/rxd | throughput difference from expected | +============+=========+=====================================+ | 64 | 256 | -0.11811% | +------------+---------+-------------------------------------+ | 128 | 256 | 0.10701% | +------------+---------+-------------------------------------+ | 256 | 256 | 0.07476% | +------------+---------+-------------------------------------+ | 512 | 256 | 0.65702% | +------------+---------+-------------------------------------+ | 1024 | 256 | 0.11053% | +------------+---------+-------------------------------------+ | 1518 | 256 | -0.10592% | +------------+---------+-------------------------------------+ Ubuntu 18.04 Kernel: 4.15.0-generic Compiler: gcc 7.4 NIC: Mellanox ConnectX-4 Lx 25000 Mbps Target: x86_64-native-linuxapp-gcc Fail/Total: 0/6 Detail performance results: +------------+---------+-------------------------------------+ | frame_size | txd/rxd | throughput difference from expected | +============+=========+=====================================+ | 64 | 256 | -1.48946% | +------------+---------+-------------------------------------+ | 128 | 256 | 0.17287% | +------------+---------+-------------------------------------+ | 256 | 256 | -0.243% | +------------+---------+-------------------------------------+ | 512 | 256 | 0.01713% | +------------+---------+-------------------------------------+ | 1024 | 256 | -0.18379% | +------------+---------+-------------------------------------+ | 1518 | 256 | 0.07391% | +------------+---------+-------------------------------------+ Ubuntu 18.04 Kernel: 4.15.0-generic Compiler: gcc 7.4 NIC: Mellanox ConnectX-4 Lx 40000 Mbps Target: x86_64-native-linuxapp-gcc Fail/Total: 0/6 Detail performance results: +------------+---------+-------------------------------------+ | frame_size | txd/rxd | throughput difference from expected | +============+=========+=====================================+ | 64 | 256 | 0.03713% | +------------+---------+-------------------------------------+ | 128 | 256 | 0.14098% | +------------+---------+-------------------------------------+ | 256 | 256 | -0.16071% | +------------+---------+-------------------------------------+ | 512 | 256 | 0.07999% | +------------+---------+-------------------------------------+ | 1024 | 256 | -0.01045% | +------------+---------+-------------------------------------+ | 1518 | 256 | -0.18428% | +------------+---------+-------------------------------------+ To view detailed results, visit: https://lab.dpdk.org/results/dashboard/patchsets/15699/ UNH-IOL DPDK Community Lab To manage your email subscriptions, visit: https://lab.dpdk.org/results/dashboard/preferences/subscriptions/
[-- Attachment #1: Type: text/plain, Size: 3964 bytes --] Test-Label: iol-mellanox-Performance Test-Status: SUCCESS http://dpdk.org/patch/88110 _Performance Testing PASS_ Submitter: Jie Zhou <jizh@linux.microsoft.com> Date: Tuesday, February 23 2021 23:01:12 DPDK git baseline: Repo:dpdk Branch: master CommitID:51fe32138c860992f228dbf19416ffd3b8e8baf4 88110 --> performance testing pass Test environment and result as below: Ubuntu 18.04 Kernel: 4.15.0-generic Compiler: gcc 7.4 NIC: Mellanox ConnectX-5 100000 Mbps Target: x86_64-native-linuxapp-gcc Fail/Total: 0/6 Detail performance results: +------------+---------+-------------------------------------+ | frame_size | txd/rxd | throughput difference from expected | +============+=========+=====================================+ | 64 | 256 | -0.11811% | +------------+---------+-------------------------------------+ | 128 | 256 | 0.10701% | +------------+---------+-------------------------------------+ | 256 | 256 | 0.07476% | +------------+---------+-------------------------------------+ | 512 | 256 | 0.65702% | +------------+---------+-------------------------------------+ | 1024 | 256 | 0.11053% | +------------+---------+-------------------------------------+ | 1518 | 256 | -0.10592% | +------------+---------+-------------------------------------+ Ubuntu 18.04 Kernel: 4.15.0-generic Compiler: gcc 7.4 NIC: Mellanox ConnectX-4 Lx 25000 Mbps Target: x86_64-native-linuxapp-gcc Fail/Total: 0/6 Detail performance results: +------------+---------+-------------------------------------+ | frame_size | txd/rxd | throughput difference from expected | +============+=========+=====================================+ | 64 | 256 | -1.48946% | +------------+---------+-------------------------------------+ | 128 | 256 | 0.17287% | +------------+---------+-------------------------------------+ | 256 | 256 | -0.243% | +------------+---------+-------------------------------------+ | 512 | 256 | 0.01713% | +------------+---------+-------------------------------------+ | 1024 | 256 | -0.18379% | +------------+---------+-------------------------------------+ | 1518 | 256 | 0.07391% | +------------+---------+-------------------------------------+ Ubuntu 18.04 Kernel: 4.15.0-generic Compiler: gcc 7.4 NIC: Mellanox ConnectX-4 Lx 40000 Mbps Target: x86_64-native-linuxapp-gcc Fail/Total: 0/6 Detail performance results: +------------+---------+-------------------------------------+ | frame_size | txd/rxd | throughput difference from expected | +============+=========+=====================================+ | 64 | 256 | 0.72551% | +------------+---------+-------------------------------------+ | 128 | 256 | 0.29059% | +------------+---------+-------------------------------------+ | 256 | 256 | 0.21915% | +------------+---------+-------------------------------------+ | 512 | 256 | 0.07999% | +------------+---------+-------------------------------------+ | 1024 | 256 | -0.1358% | +------------+---------+-------------------------------------+ | 1518 | 256 | -0.26106% | +------------+---------+-------------------------------------+ To view detailed results, visit: https://lab.dpdk.org/results/dashboard/patchsets/15699/ UNH-IOL DPDK Community Lab To manage your email subscriptions, visit: https://lab.dpdk.org/results/dashboard/preferences/subscriptions/
[-- Attachment #1: Type: text/plain, Size: 3964 bytes --] Test-Label: iol-mellanox-Performance Test-Status: SUCCESS http://dpdk.org/patch/88110 _Performance Testing PASS_ Submitter: Jie Zhou <jizh@linux.microsoft.com> Date: Tuesday, February 23 2021 23:01:12 DPDK git baseline: Repo:dpdk Branch: master CommitID:51fe32138c860992f228dbf19416ffd3b8e8baf4 88110 --> performance testing pass Test environment and result as below: Ubuntu 18.04 Kernel: 4.15.0-generic Compiler: gcc 7.4 NIC: Mellanox ConnectX-5 100000 Mbps Target: x86_64-native-linuxapp-gcc Fail/Total: 0/6 Detail performance results: +------------+---------+-------------------------------------+ | frame_size | txd/rxd | throughput difference from expected | +============+=========+=====================================+ | 64 | 256 | -0.0631% | +------------+---------+-------------------------------------+ | 128 | 256 | -0.05535% | +------------+---------+-------------------------------------+ | 256 | 256 | -0.06728% | +------------+---------+-------------------------------------+ | 512 | 256 | -0.46741% | +------------+---------+-------------------------------------+ | 1024 | 256 | 1.03733% | +------------+---------+-------------------------------------+ | 1518 | 256 | -0.03531% | +------------+---------+-------------------------------------+ Ubuntu 18.04 Kernel: 4.15.0-generic Compiler: gcc 7.4 NIC: Mellanox ConnectX-4 Lx 25000 Mbps Target: x86_64-native-linuxapp-gcc Fail/Total: 0/6 Detail performance results: +------------+---------+-------------------------------------+ | frame_size | txd/rxd | throughput difference from expected | +============+=========+=====================================+ | 64 | 256 | -1.48946% | +------------+---------+-------------------------------------+ | 128 | 256 | 0.17287% | +------------+---------+-------------------------------------+ | 256 | 256 | -0.243% | +------------+---------+-------------------------------------+ | 512 | 256 | 0.01713% | +------------+---------+-------------------------------------+ | 1024 | 256 | -0.18379% | +------------+---------+-------------------------------------+ | 1518 | 256 | 0.07391% | +------------+---------+-------------------------------------+ Ubuntu 18.04 Kernel: 4.15.0-generic Compiler: gcc 7.4 NIC: Mellanox ConnectX-4 Lx 40000 Mbps Target: x86_64-native-linuxapp-gcc Fail/Total: 0/6 Detail performance results: +------------+---------+-------------------------------------+ | frame_size | txd/rxd | throughput difference from expected | +============+=========+=====================================+ | 64 | 256 | 0.72551% | +------------+---------+-------------------------------------+ | 128 | 256 | 0.29059% | +------------+---------+-------------------------------------+ | 256 | 256 | 0.21915% | +------------+---------+-------------------------------------+ | 512 | 256 | 0.07999% | +------------+---------+-------------------------------------+ | 1024 | 256 | -0.1358% | +------------+---------+-------------------------------------+ | 1518 | 256 | -0.26106% | +------------+---------+-------------------------------------+ To view detailed results, visit: https://lab.dpdk.org/results/dashboard/patchsets/15699/ UNH-IOL DPDK Community Lab To manage your email subscriptions, visit: https://lab.dpdk.org/results/dashboard/preferences/subscriptions/
[-- Attachment #1: Type: text/plain, Size: 895 bytes --] Test-Label: iol-mellanox-Functional Test-Status: SUCCESS http://dpdk.org/patch/88110 _Functional Testing PASS_ Submitter: Jie Zhou <jizh@linux.microsoft.com> Date: Tuesday, February 23 2021 23:01:12 DPDK git baseline: Repo:dpdk Branch: master CommitID:51fe32138c860992f228dbf19416ffd3b8e8baf4 88110 --> functional testing pass Test environment and result as below: Ubuntu 18.04 Kernel: 4.15.0-generic Compiler: gcc 7.4 NIC: Mellanox ConnectX-4 Lx 25000 Mbps Target: x86_64-native-linuxapp-gcc Fail/Total: 0/5 Ubuntu 18.04 Kernel: 4.15.0-generic Compiler: gcc 7.4 NIC: Mellanox ConnectX-4 Lx 40000 Mbps Target: x86_64-native-linuxapp-gcc Fail/Total: 0/5 To view detailed results, visit: https://lab.dpdk.org/results/dashboard/patchsets/15699/ UNH-IOL DPDK Community Lab To manage your email subscriptions, visit: https://lab.dpdk.org/results/dashboard/preferences/subscriptions/
[-- Attachment #1: Type: text/plain, Size: 3018 bytes --] Test-Label: iol-testing Test-Status: SUCCESS http://dpdk.org/patch/88110 _Testing PASS_ Submitter: Jie Zhou <jizh@linux.microsoft.com> Date: Tuesday, February 23 2021 23:01:12 DPDK git baseline: Repo:dpdk Branch: master CommitID:51fe32138c860992f228dbf19416ffd3b8e8baf4 88110 --> testing pass Test environment and result as below: +---------------------+----------------------+--------------------+-------------------+----------------+ | Environment | dpdk_mingw64_compile | dpdk_meson_compile | dpdk_compile_spdk | dpdk_unit_test | +=====================+======================+====================+===================+================+ | Windows Server 2019 | PASS | PASS | SKIPPED | SKIPPED | +---------------------+----------------------+--------------------+-------------------+----------------+ | Ubuntu 18.04 | SKIPPED | PASS | PASS | PASS | +---------------------+----------------------+--------------------+-------------------+----------------+ | FreeBSD 11.2 | SKIPPED | PASS | SKIPPED | SKIPPED | +---------------------+----------------------+--------------------+-------------------+----------------+ | CentOS 8 | SKIPPED | PASS | SKIPPED | SKIPPED | +---------------------+----------------------+--------------------+-------------------+----------------+ | openSUSE Leap 15 | SKIPPED | PASS | SKIPPED | SKIPPED | +---------------------+----------------------+--------------------+-------------------+----------------+ | Arch Linux | SKIPPED | PASS | SKIPPED | SKIPPED | +---------------------+----------------------+--------------------+-------------------+----------------+ | Fedora 31 | SKIPPED | PASS | PASS | SKIPPED | +---------------------+----------------------+--------------------+-------------------+----------------+ | Ubuntu 18.04 ARM | SKIPPED | PASS | SKIPPED | PASS | +---------------------+----------------------+--------------------+-------------------+----------------+ Windows Server 2019 Kernel: 10.0 Compiler: clang 9.0 and gcc 8.1.0 (MinGW) Ubuntu 18.04 Kernel: 4.15.0-generic Compiler: gcc 7.5 FreeBSD 11.2 Kernel: 11.2 Compiler: gcc 8.3 CentOS 8 Kernel: 4.18.0.el8_0 Compiler: gcc 8.3.1 openSUSE Leap 15 Kernel: 4.12.14 Compiler: gcc 7.4.1 Arch Linux Kernel: latest Compiler: gcc latest Fedora 31 Kernel: 5.3.16 Compiler: gcc 9.2.1 Ubuntu 18.04 ARM Kernel: 5.4.0-53-generic Compiler: gcc 9.3 To view detailed results, visit: https://lab.dpdk.org/results/dashboard/patchsets/15699/ UNH-IOL DPDK Community Lab To manage your email subscriptions, visit: https://lab.dpdk.org/results/dashboard/preferences/subscriptions/