Test-Label: checkpatch Test-Status: SUCCESS http://dpdk.org/patch/88105 _coding style OK_
[-- Attachment #1: Type: text/plain, Size: 967 bytes --] Test-Label: iol-intel-Functional Test-Status: SUCCESS http://dpdk.org/patch/88105 _Functional Testing PASS_ Submitter: Elad Nachman <eladv6@gmail.com> Date: Tuesday, February 23 2021 13:44:26 DPDK git baseline: Repo:dpdk Branch: master CommitID:442155f70c6bbdf59aa1f7b4d8039b5140f62927 88105 --> functional testing pass Test environment and result as below: Ubuntu 18.04 Kernel: 4.15.0-generic Compiler: gcc 7.4 NIC: Intel Corporation Ethernet Converged Network Adapter XL710-QDA2 40000 Mbps Target: x86_64-native-linuxapp-gcc Fail/Total: 0/3 Ubuntu 18.04 Kernel: 4.15.0-generic Compiler: gcc 7.4 NIC: Intel Corporation Ethernet Converged Network Adapter 82599ES 10000 Mbps Target: x86_64-native-linuxapp-gcc Fail/Total: 0/5 To view detailed results, visit: https://lab.dpdk.org/results/dashboard/patchsets/15695/ UNH-IOL DPDK Community Lab To manage your email subscriptions, visit: https://lab.dpdk.org/results/dashboard/preferences/subscriptions/
[-- Attachment #1: Type: text/plain, Size: 4837 bytes --] Test-Label: iol-mellanox-Performance Test-Status: SUCCESS http://dpdk.org/patch/88105 _Performance Testing PASS_ Submitter: Elad Nachman <eladv6@gmail.com> Date: Tuesday, February 23 2021 13:44:26 DPDK git baseline: Repo:dpdk Branch: master CommitID:442155f70c6bbdf59aa1f7b4d8039b5140f62927 88105 --> performance testing pass Test environment and result as below: Ubuntu 18.04 Kernel: 4.15.0-generic Compiler: gcc 7.4 NIC: Mellanox ConnectX-5 100000 Mbps Target: x86_64-native-linuxapp-gcc Fail/Total: 0/6 Detail performance results: +------------+---------+-------------------------------------+ | frame_size | txd/rxd | throughput difference from expected | +============+=========+=====================================+ | 64 | 256 | 0.39881% | +------------+---------+-------------------------------------+ | 128 | 256 | 0.01296% | +------------+---------+-------------------------------------+ | 256 | 256 | 0.44966% | +------------+---------+-------------------------------------+ | 512 | 256 | -0.62777% | +------------+---------+-------------------------------------+ | 1024 | 256 | -2.65426% | +------------+---------+-------------------------------------+ | 1518 | 256 | 0.08226% | +------------+---------+-------------------------------------+ Ubuntu 18.04 ARM Kernel: 4.15.0-132-generic Compiler: gcc 7.5 NIC: Arm Mellanox ConnectX-5 10000 Mbps Target: x86_64-native-linuxapp-gcc Fail/Total: 0/4 Detail performance results: +------------+---------+-------------------------------------+ | frame_size | txd/rxd | throughput difference from expected | +============+=========+=====================================+ | 64 | 128 | -0.47101% | +------------+---------+-------------------------------------+ | 64 | 256 | -3.58337% | +------------+---------+-------------------------------------+ | 64 | 512 | 0.37827% | +------------+---------+-------------------------------------+ | 64 | 2048 | -2.63816% | +------------+---------+-------------------------------------+ Ubuntu 18.04 Kernel: 4.15.0-generic Compiler: gcc 7.4 NIC: Mellanox ConnectX-4 Lx 25000 Mbps Target: x86_64-native-linuxapp-gcc Fail/Total: 0/6 Detail performance results: +------------+---------+-------------------------------------+ | frame_size | txd/rxd | throughput difference from expected | +============+=========+=====================================+ | 64 | 256 | -0.0654% | +------------+---------+-------------------------------------+ | 128 | 256 | 0.08645% | +------------+---------+-------------------------------------+ | 256 | 256 | -0.92797% | +------------+---------+-------------------------------------+ | 512 | 256 | -0.88934% | +------------+---------+-------------------------------------+ | 1024 | 256 | 0.13385% | +------------+---------+-------------------------------------+ | 1518 | 256 | -0.19656% | +------------+---------+-------------------------------------+ Ubuntu 18.04 Kernel: 4.15.0-generic Compiler: gcc 7.4 NIC: Mellanox ConnectX-4 Lx 40000 Mbps Target: x86_64-native-linuxapp-gcc Fail/Total: 0/6 Detail performance results: +------------+---------+-------------------------------------+ | frame_size | txd/rxd | throughput difference from expected | +============+=========+=====================================+ | 64 | 256 | -0.20267% | +------------+---------+-------------------------------------+ | 128 | 256 | 1.11583% | +------------+---------+-------------------------------------+ | 256 | 256 | 0.06211% | +------------+---------+-------------------------------------+ | 512 | 256 | -0.15406% | +------------+---------+-------------------------------------+ | 1024 | 256 | -0.11495% | +------------+---------+-------------------------------------+ | 1518 | 256 | 0.18462% | +------------+---------+-------------------------------------+ To view detailed results, visit: https://lab.dpdk.org/results/dashboard/patchsets/15695/ UNH-IOL DPDK Community Lab To manage your email subscriptions, visit: https://lab.dpdk.org/results/dashboard/preferences/subscriptions/
[-- Attachment #1: Type: text/plain, Size: 2579 bytes --] Test-Label: iol-intel-Performance Test-Status: SUCCESS http://dpdk.org/patch/88105 _Performance Testing PASS_ Submitter: Elad Nachman <eladv6@gmail.com> Date: Tuesday, February 23 2021 13:44:26 DPDK git baseline: Repo:dpdk Branch: master CommitID:442155f70c6bbdf59aa1f7b4d8039b5140f62927 88105 --> performance testing pass Test environment and result as below: Ubuntu 18.04 Kernel: 4.15.0-generic Compiler: gcc 7.4 NIC: Intel Corporation Ethernet Converged Network Adapter 82599ES 10000 Mbps Target: x86_64-native-linuxapp-gcc Fail/Total: 0/2 Detail performance results: +------------+---------+-------------------------------------+ | frame_size | txd/rxd | throughput difference from expected | +============+=========+=====================================+ | 64 | 512 | 1.59676% | +------------+---------+-------------------------------------+ | 64 | 2048 | 1.72082% | +------------+---------+-------------------------------------+ Ubuntu 18.04 Kernel: 4.15.0-generic Compiler: gcc 7.4 NIC: Intel Corporation Ethernet Converged Network Adapter XL710-QDA2 40000 Mbps Target: x86_64-native-linuxapp-gcc Fail/Total: 0/2 Detail performance results: +------------+---------+-------------------------------------+ | frame_size | txd/rxd | throughput difference from expected | +============+=========+=====================================+ | 64 | 512 | 5.72787% | +------------+---------+-------------------------------------+ | 64 | 2048 | 4.78637% | +------------+---------+-------------------------------------+ Ubuntu 18.04 ARM Kernel: 4.15.0-132-generic Compiler: gcc 7.5 NIC: Arm Intel Corporation Ethernet Converged Network Adapter XL710-QDA2 40000 Mbps Target: x86_64-native-linuxapp-gcc Fail/Total: 0/2 Detail performance results: +------------+---------+-------------------------------------+ | frame_size | txd/rxd | throughput difference from expected | +============+=========+=====================================+ | 64 | 512 | 0.30713% | +------------+---------+-------------------------------------+ | 64 | 2048 | 0.29268% | +------------+---------+-------------------------------------+ To view detailed results, visit: https://lab.dpdk.org/results/dashboard/patchsets/15695/ UNH-IOL DPDK Community Lab To manage your email subscriptions, visit: https://lab.dpdk.org/results/dashboard/preferences/subscriptions/
[-- Attachment #1: Type: text/plain, Size: 1748 bytes --] Test-Label: iol-abi-testing Test-Status: SUCCESS http://dpdk.org/patch/88105 _Testing PASS_ Submitter: Elad Nachman <eladv6@gmail.com> Date: Tuesday, February 23 2021 13:44:26 DPDK git baseline: Repo:dpdk Branch: master CommitID:442155f70c6bbdf59aa1f7b4d8039b5140f62927 88105 --> testing pass Test environment and result as below: +--------------+----------+ | Environment | abi_test | +==============+==========+ | Ubuntu 18.04 | PASS | +--------------+----------+ ==== 20 line log output for Ubuntu 18.04 (abi_test): ==== File "/usr/local/lib/python3.6/dist-packages/mesonbuild/minstall.py", line 349, in do_install print('Nothing to install.') File "/usr/local/lib/python3.6/dist-packages/mesonbuild/minstall.py", line 71, in __exit__ append_to_log(self.lf, d) File "/usr/local/lib/python3.6/dist-packages/mesonbuild/minstall.py", line 81, in append_to_log lf.flush() OSError: [Errno 28] No space left on device During handling of the above exception, another exception occurred: OSError: [Errno 28] No space left on device During handling of the above exception, another exception occurred: Traceback (most recent call last): File "/usr/local/lib/python3.6/dist-packages/mesonbuild/mesonmain.py", line 129, in run return options.run_func(options) File "/usr/local/lib/python3.6/dist-packages/mesonbuild/minstall.py", line 514, in run installer.do_install(datafilename) OSError: [Errno 28] No space left on device ==== End log output ==== Ubuntu 18.04 Kernel: 4.15.0-generic Compiler: gcc 7.5 To view detailed results, visit: https://lab.dpdk.org/results/dashboard/patchsets/15695/ UNH-IOL DPDK Community Lab To manage your email subscriptions, visit: https://lab.dpdk.org/results/dashboard/preferences/subscriptions/
[-- Attachment #1: Type: text/plain, Size: 891 bytes --] Test-Label: iol-mellanox-Functional Test-Status: SUCCESS http://dpdk.org/patch/88105 _Functional Testing PASS_ Submitter: Elad Nachman <eladv6@gmail.com> Date: Tuesday, February 23 2021 13:44:26 DPDK git baseline: Repo:dpdk Branch: master CommitID:442155f70c6bbdf59aa1f7b4d8039b5140f62927 88105 --> functional testing pass Test environment and result as below: Ubuntu 18.04 Kernel: 4.15.0-generic Compiler: gcc 7.4 NIC: Mellanox ConnectX-4 Lx 25000 Mbps Target: x86_64-native-linuxapp-gcc Fail/Total: 0/5 Ubuntu 18.04 Kernel: 4.15.0-generic Compiler: gcc 7.4 NIC: Mellanox ConnectX-4 Lx 40000 Mbps Target: x86_64-native-linuxapp-gcc Fail/Total: 0/5 To view detailed results, visit: https://lab.dpdk.org/results/dashboard/patchsets/15695/ UNH-IOL DPDK Community Lab To manage your email subscriptions, visit: https://lab.dpdk.org/results/dashboard/preferences/subscriptions/
[-- Attachment #1: Type: text/plain, Size: 1895 bytes --] Test-Label: iol-abi-testing Test-Status: SUCCESS http://dpdk.org/patch/88105 _Testing PASS_ Submitter: Elad Nachman <eladv6@gmail.com> Date: Tuesday, February 23 2021 13:44:26 DPDK git baseline: Repo:dpdk Branch: master CommitID:442155f70c6bbdf59aa1f7b4d8039b5140f62927 88105 --> testing pass Test environment and result as below: +------------------+----------+ | Environment | abi_test | +==================+==========+ | Ubuntu 18.04 | PASS | +------------------+----------+ | Ubuntu 18.04 ARM | PASS | +------------------+----------+ ==== 20 line log output for Ubuntu 18.04 (abi_test): ==== File "/usr/local/lib/python3.6/dist-packages/mesonbuild/minstall.py", line 349, in do_install print('Nothing to install.') File "/usr/local/lib/python3.6/dist-packages/mesonbuild/minstall.py", line 71, in __exit__ append_to_log(self.lf, d) File "/usr/local/lib/python3.6/dist-packages/mesonbuild/minstall.py", line 81, in append_to_log lf.flush() OSError: [Errno 28] No space left on device During handling of the above exception, another exception occurred: OSError: [Errno 28] No space left on device During handling of the above exception, another exception occurred: Traceback (most recent call last): File "/usr/local/lib/python3.6/dist-packages/mesonbuild/mesonmain.py", line 129, in run return options.run_func(options) File "/usr/local/lib/python3.6/dist-packages/mesonbuild/minstall.py", line 514, in run installer.do_install(datafilename) OSError: [Errno 28] No space left on device ==== End log output ==== Ubuntu 18.04 Kernel: 4.15.0-generic Compiler: gcc 7.5 Ubuntu 18.04 ARM Kernel: 5.4.0-53-generic Compiler: gcc 9.3 To view detailed results, visit: https://lab.dpdk.org/results/dashboard/patchsets/15695/ UNH-IOL DPDK Community Lab To manage your email subscriptions, visit: https://lab.dpdk.org/results/dashboard/preferences/subscriptions/
[-- Attachment #1: Type: text/plain, Size: 3014 bytes --] Test-Label: iol-testing Test-Status: SUCCESS http://dpdk.org/patch/88105 _Testing PASS_ Submitter: Elad Nachman <eladv6@gmail.com> Date: Tuesday, February 23 2021 13:44:26 DPDK git baseline: Repo:dpdk Branch: master CommitID:442155f70c6bbdf59aa1f7b4d8039b5140f62927 88105 --> testing pass Test environment and result as below: +---------------------+--------------------+----------------------+-------------------+----------------+ | Environment | dpdk_meson_compile | dpdk_mingw64_compile | dpdk_compile_spdk | dpdk_unit_test | +=====================+====================+======================+===================+================+ | Windows Server 2019 | PASS | PASS | SKIPPED | SKIPPED | +---------------------+--------------------+----------------------+-------------------+----------------+ | FreeBSD 11.2 | PASS | SKIPPED | SKIPPED | SKIPPED | +---------------------+--------------------+----------------------+-------------------+----------------+ | Ubuntu 18.04 | PASS | SKIPPED | PASS | PASS | +---------------------+--------------------+----------------------+-------------------+----------------+ | CentOS 8 | PASS | SKIPPED | SKIPPED | SKIPPED | +---------------------+--------------------+----------------------+-------------------+----------------+ | openSUSE Leap 15 | PASS | SKIPPED | SKIPPED | SKIPPED | +---------------------+--------------------+----------------------+-------------------+----------------+ | Arch Linux | PASS | SKIPPED | SKIPPED | SKIPPED | +---------------------+--------------------+----------------------+-------------------+----------------+ | Fedora 31 | PASS | SKIPPED | PASS | SKIPPED | +---------------------+--------------------+----------------------+-------------------+----------------+ | Ubuntu 18.04 ARM | PASS | SKIPPED | SKIPPED | PASS | +---------------------+--------------------+----------------------+-------------------+----------------+ Windows Server 2019 Kernel: 10.0 Compiler: clang 9.0 and gcc 8.1.0 (MinGW) FreeBSD 11.2 Kernel: 11.2 Compiler: gcc 8.3 Ubuntu 18.04 Kernel: 4.15.0-generic Compiler: gcc 7.5 CentOS 8 Kernel: 4.18.0.el8_0 Compiler: gcc 8.3.1 openSUSE Leap 15 Kernel: 4.12.14 Compiler: gcc 7.4.1 Arch Linux Kernel: latest Compiler: gcc latest Fedora 31 Kernel: 5.3.16 Compiler: gcc 9.2.1 Ubuntu 18.04 ARM Kernel: 5.4.0-53-generic Compiler: gcc 9.3 To view detailed results, visit: https://lab.dpdk.org/results/dashboard/patchsets/15695/ UNH-IOL DPDK Community Lab To manage your email subscriptions, visit: https://lab.dpdk.org/results/dashboard/preferences/subscriptions/