* [dpdk-test-report] |SUCCESS| pw88129 [PATCH] [v2] net/mlx5: fix UAR allocation diagnostics messages
@ 2021-02-24 9:27 dpdklab
0 siblings, 0 replies; 13+ messages in thread
From: dpdklab @ 2021-02-24 9:27 UTC (permalink / raw)
To: Test Report; +Cc: dpdk-test-reports
[-- Attachment #1: Type: text/plain, Size: 1272 bytes --]
Test-Label: iol-intel-Performance
Test-Status: SUCCESS
http://dpdk.org/patch/88129
_Performance Testing PASS_
Submitter: Viacheslav Ovsiienko <viacheslavo@nvidia.com>
Date: Wednesday, February 24 2021 08:17:35
DPDK git baseline: Repo:dpdk
Branch: master
CommitID:51fe32138c860992f228dbf19416ffd3b8e8baf4
88129 --> performance testing pass
Test environment and result as below:
Ubuntu 18.04
Kernel: 4.15.0-generic
Compiler: gcc 7.4
NIC: Intel Corporation Ethernet Converged Network Adapter XL710-QDA2 40000 Mbps
Target: x86_64-native-linuxapp-gcc
Fail/Total: 0/2
Detail performance results:
+------------+---------+-------------------------------------+
| frame_size | txd/rxd | throughput difference from expected |
+============+=========+=====================================+
| 64 | 512 | 0.2465% |
+------------+---------+-------------------------------------+
| 64 | 2048 | -0.11175% |
+------------+---------+-------------------------------------+
To view detailed results, visit:
https://lab.dpdk.org/results/dashboard/patchsets/15703/
UNH-IOL DPDK Community Lab
To manage your email subscriptions, visit:
https://lab.dpdk.org/results/dashboard/preferences/subscriptions/
^ permalink raw reply [flat|nested] 13+ messages in thread
* [dpdk-test-report] |SUCCESS| pw88129 [PATCH] [v2] net/mlx5: fix UAR allocation diagnostics messages
@ 2021-02-24 14:19 dpdklab
0 siblings, 0 replies; 13+ messages in thread
From: dpdklab @ 2021-02-24 14:19 UTC (permalink / raw)
To: Ali Alnubani, Test Report; +Cc: dpdk-test-reports
[-- Attachment #1: Type: text/plain, Size: 902 bytes --]
Test-Label: iol-mellanox-Functional
Test-Status: SUCCESS
http://dpdk.org/patch/88129
_Functional Testing PASS_
Submitter: Slava Ovsiienko <viacheslavo@nvidia.com>
Date: Wednesday, February 24 2021 08:17:35
DPDK git baseline: Repo:dpdk
Branch: master
CommitID:51fe32138c860992f228dbf19416ffd3b8e8baf4
88129 --> functional testing pass
Test environment and result as below:
Ubuntu 18.04
Kernel: 4.15.0-generic
Compiler: gcc 7.4
NIC: Mellanox ConnectX-4 Lx 25000 Mbps
Target: x86_64-native-linuxapp-gcc
Fail/Total: 0/5
Ubuntu 18.04
Kernel: 4.15.0-generic
Compiler: gcc 7.4
NIC: Mellanox ConnectX-4 Lx 40000 Mbps
Target: x86_64-native-linuxapp-gcc
Fail/Total: 0/5
To view detailed results, visit:
https://lab.dpdk.org/results/dashboard/patchsets/15703/
UNH-IOL DPDK Community Lab
To manage your email subscriptions, visit:
https://lab.dpdk.org/results/dashboard/preferences/subscriptions/
^ permalink raw reply [flat|nested] 13+ messages in thread
* [dpdk-test-report] |SUCCESS| pw88129 [PATCH] [v2] net/mlx5: fix UAR allocation diagnostics messages
@ 2021-02-24 12:32 dpdklab
0 siblings, 0 replies; 13+ messages in thread
From: dpdklab @ 2021-02-24 12:32 UTC (permalink / raw)
To: Ali Alnubani, Test Report; +Cc: dpdk-test-reports
[-- Attachment #1: Type: text/plain, Size: 3976 bytes --]
Test-Label: iol-mellanox-Performance
Test-Status: SUCCESS
http://dpdk.org/patch/88129
_Performance Testing PASS_
Submitter: Viacheslav Ovsiienko <viacheslavo@nvidia.com>
Date: Wednesday, February 24 2021 08:17:35
DPDK git baseline: Repo:dpdk
Branch: master
CommitID:51fe32138c860992f228dbf19416ffd3b8e8baf4
88129 --> performance testing pass
Test environment and result as below:
Ubuntu 18.04
Kernel: 4.15.0-generic
Compiler: gcc 7.4
NIC: Mellanox ConnectX-4 Lx 25000 Mbps
Target: x86_64-native-linuxapp-gcc
Fail/Total: 0/6
Detail performance results:
+------------+---------+-------------------------------------+
| frame_size | txd/rxd | throughput difference from expected |
+============+=========+=====================================+
| 64 | 256 | -0.77294% |
+------------+---------+-------------------------------------+
| 128 | 256 | 0.08643% |
+------------+---------+-------------------------------------+
| 256 | 256 | -0.22812% |
+------------+---------+-------------------------------------+
| 512 | 256 | -0.26546% |
+------------+---------+-------------------------------------+
| 1024 | 256 | -0.15038% |
+------------+---------+-------------------------------------+
| 1518 | 256 | -0.12318% |
+------------+---------+-------------------------------------+
Ubuntu 18.04
Kernel: 4.15.0-generic
Compiler: gcc 7.4
NIC: Mellanox ConnectX-4 Lx 40000 Mbps
Target: x86_64-native-linuxapp-gcc
Fail/Total: 0/6
Detail performance results:
+------------+---------+-------------------------------------+
| frame_size | txd/rxd | throughput difference from expected |
+============+=========+=====================================+
| 64 | 256 | -0.24564% |
+------------+---------+-------------------------------------+
| 128 | 256 | 1.40979% |
+------------+---------+-------------------------------------+
| 256 | 256 | -0.05844% |
+------------+---------+-------------------------------------+
| 512 | 256 | 0.13864% |
+------------+---------+-------------------------------------+
| 1024 | 256 | 0.17758% |
+------------+---------+-------------------------------------+
| 1518 | 256 | 0.0% |
+------------+---------+-------------------------------------+
Ubuntu 18.04
Kernel: 4.15.0-generic
Compiler: gcc 7.4
NIC: Mellanox ConnectX-5 100000 Mbps
Target: x86_64-native-linuxapp-gcc
Fail/Total: 0/6
Detail performance results:
+------------+---------+-------------------------------------+
| frame_size | txd/rxd | throughput difference from expected |
+============+=========+=====================================+
| 64 | 256 | -0.13429% |
+------------+---------+-------------------------------------+
| 128 | 256 | -0.15867% |
+------------+---------+-------------------------------------+
| 256 | 256 | -0.16447% |
+------------+---------+-------------------------------------+
| 512 | 256 | 0.24253% |
+------------+---------+-------------------------------------+
| 1024 | 256 | -0.9523% |
+------------+---------+-------------------------------------+
| 1518 | 256 | 0.05884% |
+------------+---------+-------------------------------------+
To view detailed results, visit:
https://lab.dpdk.org/results/dashboard/patchsets/15703/
UNH-IOL DPDK Community Lab
To manage your email subscriptions, visit:
https://lab.dpdk.org/results/dashboard/preferences/subscriptions/
^ permalink raw reply [flat|nested] 13+ messages in thread
* [dpdk-test-report] |SUCCESS| pw88129 [PATCH] [v2] net/mlx5: fix UAR allocation diagnostics messages
@ 2021-02-24 11:24 dpdklab
0 siblings, 0 replies; 13+ messages in thread
From: dpdklab @ 2021-02-24 11:24 UTC (permalink / raw)
To: Ali Alnubani, Test Report; +Cc: dpdk-test-reports
[-- Attachment #1: Type: text/plain, Size: 3976 bytes --]
Test-Label: iol-mellanox-Performance
Test-Status: SUCCESS
http://dpdk.org/patch/88129
_Performance Testing PASS_
Submitter: Viacheslav Ovsiienko <viacheslavo@nvidia.com>
Date: Wednesday, February 24 2021 08:17:35
DPDK git baseline: Repo:dpdk
Branch: master
CommitID:51fe32138c860992f228dbf19416ffd3b8e8baf4
88129 --> performance testing pass
Test environment and result as below:
Ubuntu 18.04
Kernel: 4.15.0-generic
Compiler: gcc 7.4
NIC: Mellanox ConnectX-4 Lx 25000 Mbps
Target: x86_64-native-linuxapp-gcc
Fail/Total: 0/6
Detail performance results:
+------------+---------+-------------------------------------+
| frame_size | txd/rxd | throughput difference from expected |
+============+=========+=====================================+
| 64 | 256 | -0.98169% |
+------------+---------+-------------------------------------+
| 128 | 256 | 0.09681% |
+------------+---------+-------------------------------------+
| 256 | 256 | 1.08108% |
+------------+---------+-------------------------------------+
| 512 | 256 | 0.17126% |
+------------+---------+-------------------------------------+
| 1024 | 256 | -0.21721% |
+------------+---------+-------------------------------------+
| 1518 | 256 | -0.02464% |
+------------+---------+-------------------------------------+
Ubuntu 18.04
Kernel: 4.15.0-generic
Compiler: gcc 7.4
NIC: Mellanox ConnectX-4 Lx 40000 Mbps
Target: x86_64-native-linuxapp-gcc
Fail/Total: 0/6
Detail performance results:
+------------+---------+-------------------------------------+
| frame_size | txd/rxd | throughput difference from expected |
+============+=========+=====================================+
| 64 | 256 | -0.09997% |
+------------+---------+-------------------------------------+
| 128 | 256 | 1.66873% |
+------------+---------+-------------------------------------+
| 256 | 256 | 0.05844% |
+------------+---------+-------------------------------------+
| 512 | 256 | 0.1973% |
+------------+---------+-------------------------------------+
| 1024 | 256 | 0.05223% |
+------------+---------+-------------------------------------+
| 1518 | 256 | -0.35319% |
+------------+---------+-------------------------------------+
Ubuntu 18.04
Kernel: 4.15.0-generic
Compiler: gcc 7.4
NIC: Mellanox ConnectX-5 100000 Mbps
Target: x86_64-native-linuxapp-gcc
Fail/Total: 0/6
Detail performance results:
+------------+---------+-------------------------------------+
| frame_size | txd/rxd | throughput difference from expected |
+============+=========+=====================================+
| 64 | 256 | -0.02103% |
+------------+---------+-------------------------------------+
| 128 | 256 | -0.00922% |
+------------+---------+-------------------------------------+
| 256 | 256 | -0.00249% |
+------------+---------+-------------------------------------+
| 512 | 256 | 0.77167% |
+------------+---------+-------------------------------------+
| 1024 | 256 | -0.29759% |
+------------+---------+-------------------------------------+
| 1518 | 256 | -0.02354% |
+------------+---------+-------------------------------------+
To view detailed results, visit:
https://lab.dpdk.org/results/dashboard/patchsets/15703/
UNH-IOL DPDK Community Lab
To manage your email subscriptions, visit:
https://lab.dpdk.org/results/dashboard/preferences/subscriptions/
^ permalink raw reply [flat|nested] 13+ messages in thread
* [dpdk-test-report] |SUCCESS| pw88129 [PATCH] [v2] net/mlx5: fix UAR allocation diagnostics messages
@ 2021-02-24 11:11 dpdklab
0 siblings, 0 replies; 13+ messages in thread
From: dpdklab @ 2021-02-24 11:11 UTC (permalink / raw)
To: Ali Alnubani, Test Report; +Cc: dpdk-test-reports
[-- Attachment #1: Type: text/plain, Size: 2858 bytes --]
Test-Label: iol-mellanox-Performance
Test-Status: SUCCESS
http://dpdk.org/patch/88129
_Performance Testing PASS_
Submitter: Viacheslav Ovsiienko <viacheslavo@nvidia.com>
Date: Wednesday, February 24 2021 08:17:35
DPDK git baseline: Repo:dpdk
Branch: master
CommitID:51fe32138c860992f228dbf19416ffd3b8e8baf4
88129 --> performance testing pass
Test environment and result as below:
Ubuntu 18.04
Kernel: 4.15.0-generic
Compiler: gcc 7.4
NIC: Mellanox ConnectX-4 Lx 25000 Mbps
Target: x86_64-native-linuxapp-gcc
Fail/Total: 0/6
Detail performance results:
+------------+---------+-------------------------------------+
| frame_size | txd/rxd | throughput difference from expected |
+============+=========+=====================================+
| 64 | 256 | -0.98169% |
+------------+---------+-------------------------------------+
| 128 | 256 | 0.09681% |
+------------+---------+-------------------------------------+
| 256 | 256 | 1.08108% |
+------------+---------+-------------------------------------+
| 512 | 256 | 0.17126% |
+------------+---------+-------------------------------------+
| 1024 | 256 | -0.21721% |
+------------+---------+-------------------------------------+
| 1518 | 256 | -0.02464% |
+------------+---------+-------------------------------------+
Ubuntu 18.04
Kernel: 4.15.0-generic
Compiler: gcc 7.4
NIC: Mellanox ConnectX-4 Lx 40000 Mbps
Target: x86_64-native-linuxapp-gcc
Fail/Total: 0/6
Detail performance results:
+------------+---------+-------------------------------------+
| frame_size | txd/rxd | throughput difference from expected |
+============+=========+=====================================+
| 64 | 256 | -0.09997% |
+------------+---------+-------------------------------------+
| 128 | 256 | 1.66873% |
+------------+---------+-------------------------------------+
| 256 | 256 | 0.05844% |
+------------+---------+-------------------------------------+
| 512 | 256 | 0.1973% |
+------------+---------+-------------------------------------+
| 1024 | 256 | 0.05223% |
+------------+---------+-------------------------------------+
| 1518 | 256 | -0.35319% |
+------------+---------+-------------------------------------+
To view detailed results, visit:
https://lab.dpdk.org/results/dashboard/patchsets/15703/
UNH-IOL DPDK Community Lab
To manage your email subscriptions, visit:
https://lab.dpdk.org/results/dashboard/preferences/subscriptions/
^ permalink raw reply [flat|nested] 13+ messages in thread
* [dpdk-test-report] |SUCCESS| pw88129 [PATCH] [v2] net/mlx5: fix UAR allocation diagnostics messages
@ 2021-02-24 10:58 dpdklab
0 siblings, 0 replies; 13+ messages in thread
From: dpdklab @ 2021-02-24 10:58 UTC (permalink / raw)
To: Ali Alnubani, Test Report; +Cc: dpdk-test-reports
[-- Attachment #1: Type: text/plain, Size: 1738 bytes --]
Test-Label: iol-mellanox-Performance
Test-Status: SUCCESS
http://dpdk.org/patch/88129
_Performance Testing PASS_
Submitter: Viacheslav Ovsiienko <viacheslavo@nvidia.com>
Date: Wednesday, February 24 2021 08:17:35
DPDK git baseline: Repo:dpdk
Branch: master
CommitID:51fe32138c860992f228dbf19416ffd3b8e8baf4
88129 --> performance testing pass
Test environment and result as below:
Ubuntu 18.04
Kernel: 4.15.0-generic
Compiler: gcc 7.4
NIC: Mellanox ConnectX-4 Lx 25000 Mbps
Target: x86_64-native-linuxapp-gcc
Fail/Total: 0/6
Detail performance results:
+------------+---------+-------------------------------------+
| frame_size | txd/rxd | throughput difference from expected |
+============+=========+=====================================+
| 64 | 256 | -0.98169% |
+------------+---------+-------------------------------------+
| 128 | 256 | 0.09681% |
+------------+---------+-------------------------------------+
| 256 | 256 | 1.08108% |
+------------+---------+-------------------------------------+
| 512 | 256 | 0.17126% |
+------------+---------+-------------------------------------+
| 1024 | 256 | -0.21721% |
+------------+---------+-------------------------------------+
| 1518 | 256 | -0.02464% |
+------------+---------+-------------------------------------+
To view detailed results, visit:
https://lab.dpdk.org/results/dashboard/patchsets/15703/
UNH-IOL DPDK Community Lab
To manage your email subscriptions, visit:
https://lab.dpdk.org/results/dashboard/preferences/subscriptions/
^ permalink raw reply [flat|nested] 13+ messages in thread
* [dpdk-test-report] |SUCCESS| pw88129 [PATCH] [v2] net/mlx5: fix UAR allocation diagnostics messages
@ 2021-02-24 10:26 dpdklab
0 siblings, 0 replies; 13+ messages in thread
From: dpdklab @ 2021-02-24 10:26 UTC (permalink / raw)
To: Test Report; +Cc: dpdk-test-reports
[-- Attachment #1: Type: text/plain, Size: 3030 bytes --]
Test-Label: iol-testing
Test-Status: SUCCESS
http://dpdk.org/patch/88129
_Testing PASS_
Submitter: Viacheslav Ovsiienko <viacheslavo@nvidia.com>
Date: Wednesday, February 24 2021 08:17:35
DPDK git baseline: Repo:dpdk
Branch: master
CommitID:51fe32138c860992f228dbf19416ffd3b8e8baf4
88129 --> testing pass
Test environment and result as below:
+---------------------+----------------------+--------------------+-------------------+----------------+
| Environment | dpdk_mingw64_compile | dpdk_meson_compile | dpdk_compile_spdk | dpdk_unit_test |
+=====================+======================+====================+===================+================+
| Windows Server 2019 | PASS | PASS | SKIPPED | SKIPPED |
+---------------------+----------------------+--------------------+-------------------+----------------+
| FreeBSD 11.2 | SKIPPED | PASS | SKIPPED | SKIPPED |
+---------------------+----------------------+--------------------+-------------------+----------------+
| CentOS 8 | SKIPPED | PASS | SKIPPED | SKIPPED |
+---------------------+----------------------+--------------------+-------------------+----------------+
| Ubuntu 18.04 | SKIPPED | PASS | PASS | PASS |
+---------------------+----------------------+--------------------+-------------------+----------------+
| openSUSE Leap 15 | SKIPPED | PASS | SKIPPED | SKIPPED |
+---------------------+----------------------+--------------------+-------------------+----------------+
| Arch Linux | SKIPPED | PASS | SKIPPED | SKIPPED |
+---------------------+----------------------+--------------------+-------------------+----------------+
| Ubuntu 18.04 ARM | SKIPPED | PASS | SKIPPED | PASS |
+---------------------+----------------------+--------------------+-------------------+----------------+
| Fedora 31 | SKIPPED | PASS | PASS | SKIPPED |
+---------------------+----------------------+--------------------+-------------------+----------------+
Windows Server 2019
Kernel: 10.0
Compiler: clang 9.0 and gcc 8.1.0 (MinGW)
FreeBSD 11.2
Kernel: 11.2
Compiler: gcc 8.3
CentOS 8
Kernel: 4.18.0.el8_0
Compiler: gcc 8.3.1
Ubuntu 18.04
Kernel: 4.15.0-generic
Compiler: gcc 7.5
openSUSE Leap 15
Kernel: 4.12.14
Compiler: gcc 7.4.1
Arch Linux
Kernel: latest
Compiler: gcc latest
Ubuntu 18.04 ARM
Kernel: 5.4.0-53-generic
Compiler: gcc 9.3
Fedora 31
Kernel: 5.3.16
Compiler: gcc 9.2.1
To view detailed results, visit:
https://lab.dpdk.org/results/dashboard/patchsets/15703/
UNH-IOL DPDK Community Lab
To manage your email subscriptions, visit:
https://lab.dpdk.org/results/dashboard/preferences/subscriptions/
^ permalink raw reply [flat|nested] 13+ messages in thread
* [dpdk-test-report] |SUCCESS| pw88129 [PATCH] [v2] net/mlx5: fix UAR allocation diagnostics messages
@ 2021-02-24 10:21 dpdklab
0 siblings, 0 replies; 13+ messages in thread
From: dpdklab @ 2021-02-24 10:21 UTC (permalink / raw)
To: Test Report; +Cc: dpdk-test-reports
[-- Attachment #1: Type: text/plain, Size: 931 bytes --]
Test-Label: iol-abi-testing
Test-Status: SUCCESS
http://dpdk.org/patch/88129
_Testing PASS_
Submitter: Viacheslav Ovsiienko <viacheslavo@nvidia.com>
Date: Wednesday, February 24 2021 08:17:35
DPDK git baseline: Repo:dpdk
Branch: master
CommitID:51fe32138c860992f228dbf19416ffd3b8e8baf4
88129 --> testing pass
Test environment and result as below:
+------------------+----------+
| Environment | abi_test |
+==================+==========+
| Ubuntu 18.04 | PASS |
+------------------+----------+
| Ubuntu 18.04 ARM | PASS |
+------------------+----------+
Ubuntu 18.04
Kernel: 4.15.0-generic
Compiler: gcc 7.5
Ubuntu 18.04 ARM
Kernel: 5.4.0-53-generic
Compiler: gcc 9.3
To view detailed results, visit:
https://lab.dpdk.org/results/dashboard/patchsets/15703/
UNH-IOL DPDK Community Lab
To manage your email subscriptions, visit:
https://lab.dpdk.org/results/dashboard/preferences/subscriptions/
^ permalink raw reply [flat|nested] 13+ messages in thread
* [dpdk-test-report] |SUCCESS| pw88129 [PATCH] [v2] net/mlx5: fix UAR allocation diagnostics messages
@ 2021-02-24 10:02 dpdklab
0 siblings, 0 replies; 13+ messages in thread
From: dpdklab @ 2021-02-24 10:02 UTC (permalink / raw)
To: Test Report; +Cc: dpdk-test-reports
[-- Attachment #1: Type: text/plain, Size: 1926 bytes --]
Test-Label: iol-intel-Performance
Test-Status: SUCCESS
http://dpdk.org/patch/88129
_Performance Testing PASS_
Submitter: Viacheslav Ovsiienko <viacheslavo@nvidia.com>
Date: Wednesday, February 24 2021 08:17:35
DPDK git baseline: Repo:dpdk
Branch: master
CommitID:51fe32138c860992f228dbf19416ffd3b8e8baf4
88129 --> performance testing pass
Test environment and result as below:
Ubuntu 18.04
Kernel: 4.15.0-generic
Compiler: gcc 7.4
NIC: Intel Corporation Ethernet Converged Network Adapter XL710-QDA2 40000 Mbps
Target: x86_64-native-linuxapp-gcc
Fail/Total: 0/2
Detail performance results:
+------------+---------+-------------------------------------+
| frame_size | txd/rxd | throughput difference from expected |
+============+=========+=====================================+
| 64 | 512 | 5.90362% |
+------------+---------+-------------------------------------+
| 64 | 2048 | 5.28771% |
+------------+---------+-------------------------------------+
Ubuntu 18.04
Kernel: 4.15.0-generic
Compiler: gcc 7.4
NIC: Intel Corporation Ethernet Converged Network Adapter 82599ES 10000 Mbps
Target: x86_64-native-linuxapp-gcc
Fail/Total: 0/2
Detail performance results:
+------------+---------+-------------------------------------+
| frame_size | txd/rxd | throughput difference from expected |
+============+=========+=====================================+
| 64 | 512 | 1.39745% |
+------------+---------+-------------------------------------+
| 64 | 2048 | 1.9449% |
+------------+---------+-------------------------------------+
To view detailed results, visit:
https://lab.dpdk.org/results/dashboard/patchsets/15703/
UNH-IOL DPDK Community Lab
To manage your email subscriptions, visit:
https://lab.dpdk.org/results/dashboard/preferences/subscriptions/
^ permalink raw reply [flat|nested] 13+ messages in thread
* [dpdk-test-report] |SUCCESS| pw88129 [PATCH] [v2] net/mlx5: fix UAR allocation diagnostics messages
@ 2021-02-24 9:48 dpdklab
0 siblings, 0 replies; 13+ messages in thread
From: dpdklab @ 2021-02-24 9:48 UTC (permalink / raw)
To: Test Report; +Cc: dpdk-test-reports
[-- Attachment #1: Type: text/plain, Size: 983 bytes --]
Test-Label: iol-intel-Functional
Test-Status: SUCCESS
http://dpdk.org/patch/88129
_Functional Testing PASS_
Submitter: Viacheslav Ovsiienko <viacheslavo@nvidia.com>
Date: Wednesday, February 24 2021 08:17:35
DPDK git baseline: Repo:dpdk
Branch: master
CommitID:51fe32138c860992f228dbf19416ffd3b8e8baf4
88129 --> functional testing pass
Test environment and result as below:
Ubuntu 18.04
Kernel: 4.15.0-generic
Compiler: gcc 7.4
NIC: Intel Corporation Ethernet Converged Network Adapter 82599ES 10000 Mbps
Target: x86_64-native-linuxapp-gcc
Fail/Total: 0/5
Ubuntu 18.04
Kernel: 4.15.0-generic
Compiler: gcc 7.4
NIC: Intel Corporation Ethernet Converged Network Adapter XL710-QDA2 40000 Mbps
Target: x86_64-native-linuxapp-gcc
Fail/Total: 0/3
To view detailed results, visit:
https://lab.dpdk.org/results/dashboard/patchsets/15703/
UNH-IOL DPDK Community Lab
To manage your email subscriptions, visit:
https://lab.dpdk.org/results/dashboard/preferences/subscriptions/
^ permalink raw reply [flat|nested] 13+ messages in thread
* [dpdk-test-report] |SUCCESS| pw88129 [PATCH] [v2] net/mlx5: fix UAR allocation diagnostics messages
@ 2021-02-24 9:48 dpdklab
0 siblings, 0 replies; 13+ messages in thread
From: dpdklab @ 2021-02-24 9:48 UTC (permalink / raw)
To: Test Report; +Cc: dpdk-test-reports
[-- Attachment #1: Type: text/plain, Size: 1926 bytes --]
Test-Label: iol-intel-Performance
Test-Status: SUCCESS
http://dpdk.org/patch/88129
_Performance Testing PASS_
Submitter: Viacheslav Ovsiienko <viacheslavo@nvidia.com>
Date: Wednesday, February 24 2021 08:17:35
DPDK git baseline: Repo:dpdk
Branch: master
CommitID:51fe32138c860992f228dbf19416ffd3b8e8baf4
88129 --> performance testing pass
Test environment and result as below:
Ubuntu 18.04
Kernel: 4.15.0-generic
Compiler: gcc 7.4
NIC: Intel Corporation Ethernet Converged Network Adapter XL710-QDA2 40000 Mbps
Target: x86_64-native-linuxapp-gcc
Fail/Total: 0/2
Detail performance results:
+------------+---------+-------------------------------------+
| frame_size | txd/rxd | throughput difference from expected |
+============+=========+=====================================+
| 64 | 512 | 0.2465% |
+------------+---------+-------------------------------------+
| 64 | 2048 | -0.11175% |
+------------+---------+-------------------------------------+
Ubuntu 18.04
Kernel: 4.15.0-generic
Compiler: gcc 7.4
NIC: Intel Corporation Ethernet Converged Network Adapter 82599ES 10000 Mbps
Target: x86_64-native-linuxapp-gcc
Fail/Total: 0/2
Detail performance results:
+------------+---------+-------------------------------------+
| frame_size | txd/rxd | throughput difference from expected |
+============+=========+=====================================+
| 64 | 512 | -0.08033% |
+------------+---------+-------------------------------------+
| 64 | 2048 | 0.54639% |
+------------+---------+-------------------------------------+
To view detailed results, visit:
https://lab.dpdk.org/results/dashboard/patchsets/15703/
UNH-IOL DPDK Community Lab
To manage your email subscriptions, visit:
https://lab.dpdk.org/results/dashboard/preferences/subscriptions/
^ permalink raw reply [flat|nested] 13+ messages in thread
* [dpdk-test-report] |SUCCESS| pw88129 [PATCH] [v2] net/mlx5: fix UAR allocation diagnostics messages
@ 2021-02-24 9:28 dpdklab
0 siblings, 0 replies; 13+ messages in thread
From: dpdklab @ 2021-02-24 9:28 UTC (permalink / raw)
To: Test Report; +Cc: dpdk-test-reports
[-- Attachment #1: Type: text/plain, Size: 1272 bytes --]
Test-Label: iol-intel-Performance
Test-Status: SUCCESS
http://dpdk.org/patch/88129
_Performance Testing PASS_
Submitter: Viacheslav Ovsiienko <viacheslavo@nvidia.com>
Date: Wednesday, February 24 2021 08:17:35
DPDK git baseline: Repo:dpdk
Branch: master
CommitID:51fe32138c860992f228dbf19416ffd3b8e8baf4
88129 --> performance testing pass
Test environment and result as below:
Ubuntu 18.04
Kernel: 4.15.0-generic
Compiler: gcc 7.4
NIC: Intel Corporation Ethernet Converged Network Adapter XL710-QDA2 40000 Mbps
Target: x86_64-native-linuxapp-gcc
Fail/Total: 0/2
Detail performance results:
+------------+---------+-------------------------------------+
| frame_size | txd/rxd | throughput difference from expected |
+============+=========+=====================================+
| 64 | 512 | 0.2465% |
+------------+---------+-------------------------------------+
| 64 | 2048 | -0.11175% |
+------------+---------+-------------------------------------+
To view detailed results, visit:
https://lab.dpdk.org/results/dashboard/patchsets/15703/
UNH-IOL DPDK Community Lab
To manage your email subscriptions, visit:
https://lab.dpdk.org/results/dashboard/preferences/subscriptions/
^ permalink raw reply [flat|nested] 13+ messages in thread
* [dpdk-test-report] |SUCCESS| pw88129 [PATCH v2] net/mlx5: fix UAR allocation diagnostics messages
[not found] <20210224081735.415-1-viacheslavo@nvidia.com>
@ 2021-02-24 8:19 ` checkpatch
0 siblings, 0 replies; 13+ messages in thread
From: checkpatch @ 2021-02-24 8:19 UTC (permalink / raw)
To: test-report
Test-Label: checkpatch
Test-Status: SUCCESS
http://dpdk.org/patch/88129
_coding style OK_
^ permalink raw reply [flat|nested] 13+ messages in thread
end of thread, other threads:[~2021-02-24 14:19 UTC | newest]
Thread overview: 13+ messages (download: mbox.gz / follow: Atom feed)
-- links below jump to the message on this page --
2021-02-24 9:27 [dpdk-test-report] |SUCCESS| pw88129 [PATCH] [v2] net/mlx5: fix UAR allocation diagnostics messages dpdklab
-- strict thread matches above, loose matches on Subject: below --
2021-02-24 14:19 dpdklab
2021-02-24 12:32 dpdklab
2021-02-24 11:24 dpdklab
2021-02-24 11:11 dpdklab
2021-02-24 10:58 dpdklab
2021-02-24 10:26 dpdklab
2021-02-24 10:21 dpdklab
2021-02-24 10:02 dpdklab
2021-02-24 9:48 dpdklab
2021-02-24 9:48 dpdklab
2021-02-24 9:28 dpdklab
[not found] <20210224081735.415-1-viacheslavo@nvidia.com>
2021-02-24 8:19 ` [dpdk-test-report] |SUCCESS| pw88129 [PATCH v2] " checkpatch
This is a public inbox, see mirroring instructions
for how to clone and mirror all data and code used for this inbox;
as well as URLs for NNTP newsgroup(s).