* [dpdk-test-report] |SUCCESS| pw88161 [PATCH] power: remove duplicated symbols from map file
@ 2021-02-24 16:52 dpdklab
0 siblings, 0 replies; 12+ messages in thread
From: dpdklab @ 2021-02-24 16:52 UTC (permalink / raw)
To: Ali Alnubani, Test Report; +Cc: dpdk-test-reports
[-- Attachment #1: Type: text/plain, Size: 1730 bytes --]
Test-Label: iol-mellanox-Performance
Test-Status: SUCCESS
http://dpdk.org/patch/88161
_Performance Testing PASS_
Submitter: Ferruh Yigit <ferruh.yigit@intel.com>
Date: Wednesday, February 24 2021 14:54:34
DPDK git baseline: Repo:dpdk
Branch: master
CommitID:51fe32138c860992f228dbf19416ffd3b8e8baf4
88161 --> performance testing pass
Test environment and result as below:
Ubuntu 18.04
Kernel: 4.15.0-generic
Compiler: gcc 7.4
NIC: Mellanox ConnectX-4 Lx 25000 Mbps
Target: x86_64-native-linuxapp-gcc
Fail/Total: 0/6
Detail performance results:
+------------+---------+-------------------------------------+
| frame_size | txd/rxd | throughput difference from expected |
+============+=========+=====================================+
| 64 | 256 | -1.19326% |
+------------+---------+-------------------------------------+
| 128 | 256 | 0.04495% |
+------------+---------+-------------------------------------+
| 256 | 256 | -0.56534% |
+------------+---------+-------------------------------------+
| 512 | 256 | -0.12845% |
+------------+---------+-------------------------------------+
| 1024 | 256 | 0.08354% |
+------------+---------+-------------------------------------+
| 1518 | 256 | -0.09855% |
+------------+---------+-------------------------------------+
To view detailed results, visit:
https://lab.dpdk.org/results/dashboard/patchsets/15707/
UNH-IOL DPDK Community Lab
To manage your email subscriptions, visit:
https://lab.dpdk.org/results/dashboard/preferences/subscriptions/
^ permalink raw reply [flat|nested] 12+ messages in thread
* [dpdk-test-report] |SUCCESS| pw88161 [PATCH] power: remove duplicated symbols from map file
@ 2021-02-24 22:45 dpdklab
0 siblings, 0 replies; 12+ messages in thread
From: dpdklab @ 2021-02-24 22:45 UTC (permalink / raw)
To: Ali Alnubani, Test Report; +Cc: dpdk-test-reports
[-- Attachment #1: Type: text/plain, Size: 899 bytes --]
Test-Label: iol-mellanox-Functional
Test-Status: SUCCESS
http://dpdk.org/patch/88161
_Functional Testing PASS_
Submitter: Ferruh Yigit <ferruh.yigit@intel.com>
Date: Wednesday, February 24 2021 14:54:34
DPDK git baseline: Repo:dpdk
Branch: master
CommitID:51fe32138c860992f228dbf19416ffd3b8e8baf4
88161 --> functional testing pass
Test environment and result as below:
Ubuntu 18.04
Kernel: 4.15.0-generic
Compiler: gcc 7.4
NIC: Mellanox ConnectX-4 Lx 25000 Mbps
Target: x86_64-native-linuxapp-gcc
Fail/Total: 0/5
Ubuntu 18.04
Kernel: 4.15.0-generic
Compiler: gcc 7.4
NIC: Mellanox ConnectX-4 Lx 40000 Mbps
Target: x86_64-native-linuxapp-gcc
Fail/Total: 0/5
To view detailed results, visit:
https://lab.dpdk.org/results/dashboard/patchsets/15707/
UNH-IOL DPDK Community Lab
To manage your email subscriptions, visit:
https://lab.dpdk.org/results/dashboard/preferences/subscriptions/
^ permalink raw reply [flat|nested] 12+ messages in thread
* [dpdk-test-report] |SUCCESS| pw88161 [PATCH] power: remove duplicated symbols from map file
@ 2021-02-24 19:54 dpdklab
0 siblings, 0 replies; 12+ messages in thread
From: dpdklab @ 2021-02-24 19:54 UTC (permalink / raw)
To: Ali Alnubani, Test Report; +Cc: dpdk-test-reports
[-- Attachment #1: Type: text/plain, Size: 3968 bytes --]
Test-Label: iol-mellanox-Performance
Test-Status: SUCCESS
http://dpdk.org/patch/88161
_Performance Testing PASS_
Submitter: Ferruh Yigit <ferruh.yigit@intel.com>
Date: Wednesday, February 24 2021 14:54:34
DPDK git baseline: Repo:dpdk
Branch: master
CommitID:51fe32138c860992f228dbf19416ffd3b8e8baf4
88161 --> performance testing pass
Test environment and result as below:
Ubuntu 18.04
Kernel: 4.15.0-generic
Compiler: gcc 7.4
NIC: Mellanox ConnectX-4 Lx 25000 Mbps
Target: x86_64-native-linuxapp-gcc
Fail/Total: 0/6
Detail performance results:
+------------+---------+-------------------------------------+
| frame_size | txd/rxd | throughput difference from expected |
+============+=========+=====================================+
| 64 | 256 | -0.77576% |
+------------+---------+-------------------------------------+
| 128 | 256 | -0.03112% |
+------------+---------+-------------------------------------+
| 256 | 256 | 0.36201% |
+------------+---------+-------------------------------------+
| 512 | 256 | 0.11988% |
+------------+---------+-------------------------------------+
| 1024 | 256 | 0.03342% |
+------------+---------+-------------------------------------+
| 1518 | 256 | -0.09855% |
+------------+---------+-------------------------------------+
Ubuntu 18.04
Kernel: 4.15.0-generic
Compiler: gcc 7.4
NIC: Mellanox ConnectX-4 Lx 40000 Mbps
Target: x86_64-native-linuxapp-gcc
Fail/Total: 0/6
Detail performance results:
+------------+---------+-------------------------------------+
| frame_size | txd/rxd | throughput difference from expected |
+============+=========+=====================================+
| 64 | 256 | -0.07426% |
+------------+---------+-------------------------------------+
| 128 | 256 | -0.24168% |
+------------+---------+-------------------------------------+
| 256 | 256 | -0.12419% |
+------------+---------+-------------------------------------+
| 512 | 256 | 0.15997% |
+------------+---------+-------------------------------------+
| 1024 | 256 | -0.15669% |
+------------+---------+-------------------------------------+
| 1518 | 256 | -0.16892% |
+------------+---------+-------------------------------------+
Ubuntu 18.04
Kernel: 4.15.0-generic
Compiler: gcc 7.4
NIC: Mellanox ConnectX-5 100000 Mbps
Target: x86_64-native-linuxapp-gcc
Fail/Total: 0/6
Detail performance results:
+------------+---------+-------------------------------------+
| frame_size | txd/rxd | throughput difference from expected |
+============+=========+=====================================+
| 64 | 256 | -0.0178% |
+------------+---------+-------------------------------------+
| 128 | 256 | 0.2177% |
+------------+---------+-------------------------------------+
| 256 | 256 | -0.09718% |
+------------+---------+-------------------------------------+
| 512 | 256 | 0.16315% |
+------------+---------+-------------------------------------+
| 1024 | 256 | -1.17337% |
+------------+---------+-------------------------------------+
| 1518 | 256 | 0.20007% |
+------------+---------+-------------------------------------+
To view detailed results, visit:
https://lab.dpdk.org/results/dashboard/patchsets/15707/
UNH-IOL DPDK Community Lab
To manage your email subscriptions, visit:
https://lab.dpdk.org/results/dashboard/preferences/subscriptions/
^ permalink raw reply [flat|nested] 12+ messages in thread
* [dpdk-test-report] |SUCCESS| pw88161 [PATCH] power: remove duplicated symbols from map file
@ 2021-02-24 17:29 dpdklab
0 siblings, 0 replies; 12+ messages in thread
From: dpdklab @ 2021-02-24 17:29 UTC (permalink / raw)
To: Ali Alnubani, Test Report; +Cc: dpdk-test-reports
[-- Attachment #1: Type: text/plain, Size: 3968 bytes --]
Test-Label: iol-mellanox-Performance
Test-Status: SUCCESS
http://dpdk.org/patch/88161
_Performance Testing PASS_
Submitter: Ferruh Yigit <ferruh.yigit@intel.com>
Date: Wednesday, February 24 2021 14:54:34
DPDK git baseline: Repo:dpdk
Branch: master
CommitID:51fe32138c860992f228dbf19416ffd3b8e8baf4
88161 --> performance testing pass
Test environment and result as below:
Ubuntu 18.04
Kernel: 4.15.0-generic
Compiler: gcc 7.4
NIC: Mellanox ConnectX-4 Lx 25000 Mbps
Target: x86_64-native-linuxapp-gcc
Fail/Total: 0/6
Detail performance results:
+------------+---------+-------------------------------------+
| frame_size | txd/rxd | throughput difference from expected |
+============+=========+=====================================+
| 64 | 256 | -1.19326% |
+------------+---------+-------------------------------------+
| 128 | 256 | 0.04495% |
+------------+---------+-------------------------------------+
| 256 | 256 | -0.56534% |
+------------+---------+-------------------------------------+
| 512 | 256 | -0.12845% |
+------------+---------+-------------------------------------+
| 1024 | 256 | 0.08354% |
+------------+---------+-------------------------------------+
| 1518 | 256 | -0.09855% |
+------------+---------+-------------------------------------+
Ubuntu 18.04
Kernel: 4.15.0-generic
Compiler: gcc 7.4
NIC: Mellanox ConnectX-4 Lx 40000 Mbps
Target: x86_64-native-linuxapp-gcc
Fail/Total: 0/6
Detail performance results:
+------------+---------+-------------------------------------+
| frame_size | txd/rxd | throughput difference from expected |
+============+=========+=====================================+
| 64 | 256 | 0.12568% |
+------------+---------+-------------------------------------+
| 128 | 256 | 0.05467% |
+------------+---------+-------------------------------------+
| 256 | 256 | -0.02922% |
+------------+---------+-------------------------------------+
| 512 | 256 | 0.20797% |
+------------+---------+-------------------------------------+
| 1024 | 256 | -0.21937% |
+------------+---------+-------------------------------------+
| 1518 | 256 | -0.36855% |
+------------+---------+-------------------------------------+
Ubuntu 18.04
Kernel: 4.15.0-generic
Compiler: gcc 7.4
NIC: Mellanox ConnectX-5 100000 Mbps
Target: x86_64-native-linuxapp-gcc
Fail/Total: 0/6
Detail performance results:
+------------+---------+-------------------------------------+
| frame_size | txd/rxd | throughput difference from expected |
+============+=========+=====================================+
| 64 | 256 | -0.09869% |
+------------+---------+-------------------------------------+
| 128 | 256 | -0.07749% |
+------------+---------+-------------------------------------+
| 256 | 256 | 0.18191% |
+------------+---------+-------------------------------------+
| 512 | 256 | -0.45859% |
+------------+---------+-------------------------------------+
| 1024 | 256 | 0.22107% |
+------------+---------+-------------------------------------+
| 1518 | 256 | 0.1883% |
+------------+---------+-------------------------------------+
To view detailed results, visit:
https://lab.dpdk.org/results/dashboard/patchsets/15707/
UNH-IOL DPDK Community Lab
To manage your email subscriptions, visit:
https://lab.dpdk.org/results/dashboard/preferences/subscriptions/
^ permalink raw reply [flat|nested] 12+ messages in thread
* [dpdk-test-report] |SUCCESS| pw88161 [PATCH] power: remove duplicated symbols from map file
@ 2021-02-24 17:16 dpdklab
0 siblings, 0 replies; 12+ messages in thread
From: dpdklab @ 2021-02-24 17:16 UTC (permalink / raw)
To: Ali Alnubani, Test Report; +Cc: dpdk-test-reports
[-- Attachment #1: Type: text/plain, Size: 2850 bytes --]
Test-Label: iol-mellanox-Performance
Test-Status: SUCCESS
http://dpdk.org/patch/88161
_Performance Testing PASS_
Submitter: Ferruh Yigit <ferruh.yigit@intel.com>
Date: Wednesday, February 24 2021 14:54:34
DPDK git baseline: Repo:dpdk
Branch: master
CommitID:51fe32138c860992f228dbf19416ffd3b8e8baf4
88161 --> performance testing pass
Test environment and result as below:
Ubuntu 18.04
Kernel: 4.15.0-generic
Compiler: gcc 7.4
NIC: Mellanox ConnectX-4 Lx 25000 Mbps
Target: x86_64-native-linuxapp-gcc
Fail/Total: 0/6
Detail performance results:
+------------+---------+-------------------------------------+
| frame_size | txd/rxd | throughput difference from expected |
+============+=========+=====================================+
| 64 | 256 | -1.19326% |
+------------+---------+-------------------------------------+
| 128 | 256 | 0.04495% |
+------------+---------+-------------------------------------+
| 256 | 256 | -0.56534% |
+------------+---------+-------------------------------------+
| 512 | 256 | -0.12845% |
+------------+---------+-------------------------------------+
| 1024 | 256 | 0.08354% |
+------------+---------+-------------------------------------+
| 1518 | 256 | -0.09855% |
+------------+---------+-------------------------------------+
Ubuntu 18.04
Kernel: 4.15.0-generic
Compiler: gcc 7.4
NIC: Mellanox ConnectX-4 Lx 40000 Mbps
Target: x86_64-native-linuxapp-gcc
Fail/Total: 0/6
Detail performance results:
+------------+---------+-------------------------------------+
| frame_size | txd/rxd | throughput difference from expected |
+============+=========+=====================================+
| 64 | 256 | 0.12568% |
+------------+---------+-------------------------------------+
| 128 | 256 | 0.05467% |
+------------+---------+-------------------------------------+
| 256 | 256 | -0.02922% |
+------------+---------+-------------------------------------+
| 512 | 256 | 0.20797% |
+------------+---------+-------------------------------------+
| 1024 | 256 | -0.21937% |
+------------+---------+-------------------------------------+
| 1518 | 256 | -0.36855% |
+------------+---------+-------------------------------------+
To view detailed results, visit:
https://lab.dpdk.org/results/dashboard/patchsets/15707/
UNH-IOL DPDK Community Lab
To manage your email subscriptions, visit:
https://lab.dpdk.org/results/dashboard/preferences/subscriptions/
^ permalink raw reply [flat|nested] 12+ messages in thread
* [dpdk-test-report] |SUCCESS| pw88161 [PATCH] power: remove duplicated symbols from map file
@ 2021-02-24 16:38 dpdklab
0 siblings, 0 replies; 12+ messages in thread
From: dpdklab @ 2021-02-24 16:38 UTC (permalink / raw)
To: Test Report; +Cc: dpdk-test-reports
[-- Attachment #1: Type: text/plain, Size: 3022 bytes --]
Test-Label: iol-testing
Test-Status: SUCCESS
http://dpdk.org/patch/88161
_Testing PASS_
Submitter: Ferruh Yigit <ferruh.yigit@intel.com>
Date: Wednesday, February 24 2021 14:54:34
DPDK git baseline: Repo:dpdk
Branch: master
CommitID:51fe32138c860992f228dbf19416ffd3b8e8baf4
88161 --> testing pass
Test environment and result as below:
+---------------------+----------------------+--------------------+----------------+-------------------+
| Environment | dpdk_mingw64_compile | dpdk_meson_compile | dpdk_unit_test | dpdk_compile_spdk |
+=====================+======================+====================+================+===================+
| Windows Server 2019 | PASS | PASS | SKIPPED | SKIPPED |
+---------------------+----------------------+--------------------+----------------+-------------------+
| FreeBSD 11.2 | SKIPPED | PASS | SKIPPED | SKIPPED |
+---------------------+----------------------+--------------------+----------------+-------------------+
| CentOS 8 | SKIPPED | PASS | SKIPPED | SKIPPED |
+---------------------+----------------------+--------------------+----------------+-------------------+
| openSUSE Leap 15 | SKIPPED | PASS | SKIPPED | SKIPPED |
+---------------------+----------------------+--------------------+----------------+-------------------+
| Arch Linux | SKIPPED | PASS | SKIPPED | SKIPPED |
+---------------------+----------------------+--------------------+----------------+-------------------+
| Fedora 31 | SKIPPED | PASS | SKIPPED | PASS |
+---------------------+----------------------+--------------------+----------------+-------------------+
| Ubuntu 18.04 ARM | SKIPPED | PASS | PASS | SKIPPED |
+---------------------+----------------------+--------------------+----------------+-------------------+
| Ubuntu 18.04 | SKIPPED | PASS | PASS | PASS |
+---------------------+----------------------+--------------------+----------------+-------------------+
Windows Server 2019
Kernel: 10.0
Compiler: clang 9.0 and gcc 8.1.0 (MinGW)
FreeBSD 11.2
Kernel: 11.2
Compiler: gcc 8.3
CentOS 8
Kernel: 4.18.0.el8_0
Compiler: gcc 8.3.1
openSUSE Leap 15
Kernel: 4.12.14
Compiler: gcc 7.4.1
Arch Linux
Kernel: latest
Compiler: gcc latest
Fedora 31
Kernel: 5.3.16
Compiler: gcc 9.2.1
Ubuntu 18.04 ARM
Kernel: 5.4.0-53-generic
Compiler: gcc 9.3
Ubuntu 18.04
Kernel: 4.15.0-generic
Compiler: gcc 7.5
To view detailed results, visit:
https://lab.dpdk.org/results/dashboard/patchsets/15707/
UNH-IOL DPDK Community Lab
To manage your email subscriptions, visit:
https://lab.dpdk.org/results/dashboard/preferences/subscriptions/
^ permalink raw reply [flat|nested] 12+ messages in thread
* [dpdk-test-report] |SUCCESS| pw88161 [PATCH] power: remove duplicated symbols from map file
@ 2021-02-24 16:03 dpdklab
0 siblings, 0 replies; 12+ messages in thread
From: dpdklab @ 2021-02-24 16:03 UTC (permalink / raw)
To: Test Report; +Cc: dpdk-test-reports
[-- Attachment #1: Type: text/plain, Size: 923 bytes --]
Test-Label: iol-abi-testing
Test-Status: SUCCESS
http://dpdk.org/patch/88161
_Testing PASS_
Submitter: Ferruh Yigit <ferruh.yigit@intel.com>
Date: Wednesday, February 24 2021 14:54:34
DPDK git baseline: Repo:dpdk
Branch: master
CommitID:51fe32138c860992f228dbf19416ffd3b8e8baf4
88161 --> testing pass
Test environment and result as below:
+------------------+----------+
| Environment | abi_test |
+==================+==========+
| Ubuntu 18.04 | PASS |
+------------------+----------+
| Ubuntu 18.04 ARM | PASS |
+------------------+----------+
Ubuntu 18.04
Kernel: 4.15.0-generic
Compiler: gcc 7.5
Ubuntu 18.04 ARM
Kernel: 5.4.0-53-generic
Compiler: gcc 9.3
To view detailed results, visit:
https://lab.dpdk.org/results/dashboard/patchsets/15707/
UNH-IOL DPDK Community Lab
To manage your email subscriptions, visit:
https://lab.dpdk.org/results/dashboard/preferences/subscriptions/
^ permalink raw reply [flat|nested] 12+ messages in thread
* [dpdk-test-report] |SUCCESS| pw88161 [PATCH] power: remove duplicated symbols from map file
@ 2021-02-24 15:57 dpdklab
0 siblings, 0 replies; 12+ messages in thread
From: dpdklab @ 2021-02-24 15:57 UTC (permalink / raw)
To: Test Report; +Cc: dpdk-test-reports
[-- Attachment #1: Type: text/plain, Size: 1918 bytes --]
Test-Label: iol-intel-Performance
Test-Status: SUCCESS
http://dpdk.org/patch/88161
_Performance Testing PASS_
Submitter: Ferruh Yigit <ferruh.yigit@intel.com>
Date: Wednesday, February 24 2021 14:54:34
DPDK git baseline: Repo:dpdk
Branch: master
CommitID:51fe32138c860992f228dbf19416ffd3b8e8baf4
88161 --> performance testing pass
Test environment and result as below:
Ubuntu 18.04
Kernel: 4.15.0-generic
Compiler: gcc 7.4
NIC: Intel Corporation Ethernet Converged Network Adapter XL710-QDA2 40000 Mbps
Target: x86_64-native-linuxapp-gcc
Fail/Total: 0/2
Detail performance results:
+------------+---------+-------------------------------------+
| frame_size | txd/rxd | throughput difference from expected |
+============+=========+=====================================+
| 64 | 512 | 5.45226% |
+------------+---------+-------------------------------------+
| 64 | 2048 | 5.01584% |
+------------+---------+-------------------------------------+
Ubuntu 18.04
Kernel: 4.15.0-generic
Compiler: gcc 7.4
NIC: Intel Corporation Ethernet Converged Network Adapter 82599ES 10000 Mbps
Target: x86_64-native-linuxapp-gcc
Fail/Total: 0/2
Detail performance results:
+------------+---------+-------------------------------------+
| frame_size | txd/rxd | throughput difference from expected |
+============+=========+=====================================+
| 64 | 512 | 1.94555% |
+------------+---------+-------------------------------------+
| 64 | 2048 | 1.54845% |
+------------+---------+-------------------------------------+
To view detailed results, visit:
https://lab.dpdk.org/results/dashboard/patchsets/15707/
UNH-IOL DPDK Community Lab
To manage your email subscriptions, visit:
https://lab.dpdk.org/results/dashboard/preferences/subscriptions/
^ permalink raw reply [flat|nested] 12+ messages in thread
* [dpdk-test-report] |SUCCESS| pw88161 [PATCH] power: remove duplicated symbols from map file
@ 2021-02-24 15:45 dpdklab
0 siblings, 0 replies; 12+ messages in thread
From: dpdklab @ 2021-02-24 15:45 UTC (permalink / raw)
To: Test Report; +Cc: dpdk-test-reports
[-- Attachment #1: Type: text/plain, Size: 975 bytes --]
Test-Label: iol-intel-Functional
Test-Status: SUCCESS
http://dpdk.org/patch/88161
_Functional Testing PASS_
Submitter: Ferruh Yigit <ferruh.yigit@intel.com>
Date: Wednesday, February 24 2021 14:54:34
DPDK git baseline: Repo:dpdk
Branch: master
CommitID:51fe32138c860992f228dbf19416ffd3b8e8baf4
88161 --> functional testing pass
Test environment and result as below:
Ubuntu 18.04
Kernel: 4.15.0-generic
Compiler: gcc 7.4
NIC: Intel Corporation Ethernet Converged Network Adapter XL710-QDA2 40000 Mbps
Target: x86_64-native-linuxapp-gcc
Fail/Total: 0/3
Ubuntu 18.04
Kernel: 4.15.0-generic
Compiler: gcc 7.4
NIC: Intel Corporation Ethernet Converged Network Adapter 82599ES 10000 Mbps
Target: x86_64-native-linuxapp-gcc
Fail/Total: 0/5
To view detailed results, visit:
https://lab.dpdk.org/results/dashboard/patchsets/15707/
UNH-IOL DPDK Community Lab
To manage your email subscriptions, visit:
https://lab.dpdk.org/results/dashboard/preferences/subscriptions/
^ permalink raw reply [flat|nested] 12+ messages in thread
* [dpdk-test-report] |SUCCESS| pw88161 [PATCH] power: remove duplicated symbols from map file
@ 2021-02-24 15:30 dpdklab
0 siblings, 0 replies; 12+ messages in thread
From: dpdklab @ 2021-02-24 15:30 UTC (permalink / raw)
To: Test Report; +Cc: dpdk-test-reports
[-- Attachment #1: Type: text/plain, Size: 1918 bytes --]
Test-Label: iol-intel-Performance
Test-Status: SUCCESS
http://dpdk.org/patch/88161
_Performance Testing PASS_
Submitter: Ferruh Yigit <ferruh.yigit@intel.com>
Date: Wednesday, February 24 2021 14:54:34
DPDK git baseline: Repo:dpdk
Branch: master
CommitID:51fe32138c860992f228dbf19416ffd3b8e8baf4
88161 --> performance testing pass
Test environment and result as below:
Ubuntu 18.04
Kernel: 4.15.0-generic
Compiler: gcc 7.4
NIC: Intel Corporation Ethernet Converged Network Adapter XL710-QDA2 40000 Mbps
Target: x86_64-native-linuxapp-gcc
Fail/Total: 0/2
Detail performance results:
+------------+---------+-------------------------------------+
| frame_size | txd/rxd | throughput difference from expected |
+============+=========+=====================================+
| 64 | 512 | 0.35079% |
+------------+---------+-------------------------------------+
| 64 | 2048 | -0.3614% |
+------------+---------+-------------------------------------+
Ubuntu 18.04
Kernel: 4.15.0-generic
Compiler: gcc 7.4
NIC: Intel Corporation Ethernet Converged Network Adapter 82599ES 10000 Mbps
Target: x86_64-native-linuxapp-gcc
Fail/Total: 0/2
Detail performance results:
+------------+---------+-------------------------------------+
| frame_size | txd/rxd | throughput difference from expected |
+============+=========+=====================================+
| 64 | 512 | 0.20083% |
+------------+---------+-------------------------------------+
| 64 | 2048 | 0.0821% |
+------------+---------+-------------------------------------+
To view detailed results, visit:
https://lab.dpdk.org/results/dashboard/patchsets/15707/
UNH-IOL DPDK Community Lab
To manage your email subscriptions, visit:
https://lab.dpdk.org/results/dashboard/preferences/subscriptions/
^ permalink raw reply [flat|nested] 12+ messages in thread
* [dpdk-test-report] |SUCCESS| pw88161 [PATCH] power: remove duplicated symbols from map file
@ 2021-02-24 15:23 dpdklab
0 siblings, 0 replies; 12+ messages in thread
From: dpdklab @ 2021-02-24 15:23 UTC (permalink / raw)
To: Test Report; +Cc: dpdk-test-reports
[-- Attachment #1: Type: text/plain, Size: 1264 bytes --]
Test-Label: iol-intel-Performance
Test-Status: SUCCESS
http://dpdk.org/patch/88161
_Performance Testing PASS_
Submitter: Ferruh Yigit <ferruh.yigit@intel.com>
Date: Wednesday, February 24 2021 14:54:34
DPDK git baseline: Repo:dpdk
Branch: master
CommitID:51fe32138c860992f228dbf19416ffd3b8e8baf4
88161 --> performance testing pass
Test environment and result as below:
Ubuntu 18.04
Kernel: 4.15.0-generic
Compiler: gcc 7.4
NIC: Intel Corporation Ethernet Converged Network Adapter XL710-QDA2 40000 Mbps
Target: x86_64-native-linuxapp-gcc
Fail/Total: 0/2
Detail performance results:
+------------+---------+-------------------------------------+
| frame_size | txd/rxd | throughput difference from expected |
+============+=========+=====================================+
| 64 | 512 | 0.35079% |
+------------+---------+-------------------------------------+
| 64 | 2048 | -0.3614% |
+------------+---------+-------------------------------------+
To view detailed results, visit:
https://lab.dpdk.org/results/dashboard/patchsets/15707/
UNH-IOL DPDK Community Lab
To manage your email subscriptions, visit:
https://lab.dpdk.org/results/dashboard/preferences/subscriptions/
^ permalink raw reply [flat|nested] 12+ messages in thread
[parent not found: <20210224145434.3108928-1-ferruh.yigit@intel.com>]
end of thread, other threads:[~2021-02-24 22:45 UTC | newest]
Thread overview: 12+ messages (download: mbox.gz / follow: Atom feed)
-- links below jump to the message on this page --
2021-02-24 16:52 [dpdk-test-report] |SUCCESS| pw88161 [PATCH] power: remove duplicated symbols from map file dpdklab
-- strict thread matches above, loose matches on Subject: below --
2021-02-24 22:45 dpdklab
2021-02-24 19:54 dpdklab
2021-02-24 17:29 dpdklab
2021-02-24 17:16 dpdklab
2021-02-24 16:38 dpdklab
2021-02-24 16:03 dpdklab
2021-02-24 15:57 dpdklab
2021-02-24 15:45 dpdklab
2021-02-24 15:30 dpdklab
2021-02-24 15:23 dpdklab
[not found] <20210224145434.3108928-1-ferruh.yigit@intel.com>
2021-02-24 14:55 ` checkpatch
This is a public inbox, see mirroring instructions
for how to clone and mirror all data and code used for this inbox;
as well as URLs for NNTP newsgroup(s).