* [dpdk-test-report] |SUCCESS| pw88266 [PATCH] driver/net/pcap fix: pcap fd leak
@ 2021-02-26 18:54 dpdklab
0 siblings, 0 replies; 4+ messages in thread
From: dpdklab @ 2021-02-26 18:54 UTC (permalink / raw)
To: Ali Alnubani, Test Report; +Cc: dpdk-test-reports
[-- Attachment #1: Type: text/plain, Size: 752 bytes --]
Test-Label: iol-mellanox-Functional
Test-Status: SUCCESS
http://dpdk.org/patch/88266
_Functional Testing PASS_
Submitter: 张 杨 <zypscode@outlook.com>
Date: Friday, February 26 2021 16:20:29
DPDK git baseline: Repo:dpdk
Branch: master
CommitID:51fe32138c860992f228dbf19416ffd3b8e8baf4
88266 --> functional testing pass
Test environment and result as below:
Ubuntu 18.04 ARM
Kernel: 4.15.0-132-generic
Compiler: gcc 7.5
NIC: Arm Mellanox ConnectX-5 10000 Mbps
Target: x86_64-native-linuxapp-gcc
Fail/Total: 0/2
To view detailed results, visit:
https://lab.dpdk.org/results/dashboard/patchsets/15737/
UNH-IOL DPDK Community Lab
To manage your email subscriptions, visit:
https://lab.dpdk.org/results/dashboard/preferences/subscriptions/
^ permalink raw reply [flat|nested] 4+ messages in thread
* [dpdk-test-report] |SUCCESS| pw88266 [PATCH] driver/net/pcap fix: pcap fd leak
@ 2021-02-26 18:33 dpdklab
0 siblings, 0 replies; 4+ messages in thread
From: dpdklab @ 2021-02-26 18:33 UTC (permalink / raw)
To: Ali Alnubani, Test Report; +Cc: dpdk-test-reports
[-- Attachment #1: Type: text/plain, Size: 4835 bytes --]
Test-Label: iol-mellanox-Performance
Test-Status: SUCCESS
http://dpdk.org/patch/88266
_Performance Testing PASS_
Submitter: 张 杨 <zypscode@outlook.com>
Date: Friday, February 26 2021 16:20:29
DPDK git baseline: Repo:dpdk
Branch: master
CommitID:51fe32138c860992f228dbf19416ffd3b8e8baf4
88266 --> performance testing pass
Test environment and result as below:
Ubuntu 18.04
Kernel: 4.15.0-generic
Compiler: gcc 7.4
NIC: Mellanox ConnectX-5 100000 Mbps
Target: x86_64-native-linuxapp-gcc
Fail/Total: 0/6
Detail performance results:
+------------+---------+-------------------------------------+
| frame_size | txd/rxd | throughput difference from expected |
+============+=========+=====================================+
| 64 | 256 | -0.09222% |
+------------+---------+-------------------------------------+
| 128 | 256 | -0.0369% |
+------------+---------+-------------------------------------+
| 256 | 256 | 0.18191% |
+------------+---------+-------------------------------------+
| 512 | 256 | -1.78146% |
+------------+---------+-------------------------------------+
| 1024 | 256 | 0.70572% |
+------------+---------+-------------------------------------+
| 1518 | 256 | -0.01177% |
+------------+---------+-------------------------------------+
Ubuntu 18.04 ARM
Kernel: 4.15.0-132-generic
Compiler: gcc 7.5
NIC: Arm Mellanox ConnectX-5 10000 Mbps
Target: x86_64-native-linuxapp-gcc
Fail/Total: 0/4
Detail performance results:
+------------+---------+-------------------------------------+
| frame_size | txd/rxd | throughput difference from expected |
+============+=========+=====================================+
| 64 | 128 | -1.75843% |
+------------+---------+-------------------------------------+
| 64 | 256 | -1.59841% |
+------------+---------+-------------------------------------+
| 64 | 512 | -1.49207% |
+------------+---------+-------------------------------------+
| 64 | 2048 | -5.90198% |
+------------+---------+-------------------------------------+
Ubuntu 18.04
Kernel: 4.15.0-generic
Compiler: gcc 7.4
NIC: Mellanox ConnectX-4 Lx 25000 Mbps
Target: x86_64-native-linuxapp-gcc
Fail/Total: 0/6
Detail performance results:
+------------+---------+-------------------------------------+
| frame_size | txd/rxd | throughput difference from expected |
+============+=========+=====================================+
| 64 | 256 | -1.04939% |
+------------+---------+-------------------------------------+
| 128 | 256 | -0.05186% |
+------------+---------+-------------------------------------+
| 256 | 256 | -0.6298% |
+------------+---------+-------------------------------------+
| 512 | 256 | 0.1627% |
+------------+---------+-------------------------------------+
| 1024 | 256 | 0.23392% |
+------------+---------+-------------------------------------+
| 1518 | 256 | 0.12318% |
+------------+---------+-------------------------------------+
Ubuntu 18.04
Kernel: 4.15.0-generic
Compiler: gcc 7.4
NIC: Mellanox ConnectX-4 Lx 40000 Mbps
Target: x86_64-native-linuxapp-gcc
Fail/Total: 0/6
Detail performance results:
+------------+---------+-------------------------------------+
| frame_size | txd/rxd | throughput difference from expected |
+============+=========+=====================================+
| 64 | 256 | 0.03713% |
+------------+---------+-------------------------------------+
| 128 | 256 | -0.843% |
+------------+---------+-------------------------------------+
| 256 | 256 | -0.05114% |
+------------+---------+-------------------------------------+
| 512 | 256 | 0.20797% |
+------------+---------+-------------------------------------+
| 1024 | 256 | 0.05223% |
+------------+---------+-------------------------------------+
| 1518 | 256 | -0.33784% |
+------------+---------+-------------------------------------+
To view detailed results, visit:
https://lab.dpdk.org/results/dashboard/patchsets/15737/
UNH-IOL DPDK Community Lab
To manage your email subscriptions, visit:
https://lab.dpdk.org/results/dashboard/preferences/subscriptions/
^ permalink raw reply [flat|nested] 4+ messages in thread
* [dpdk-test-report] |SUCCESS| pw88266 [PATCH] driver/net/pcap fix: pcap fd leak
@ 2021-02-26 18:02 dpdklab
0 siblings, 0 replies; 4+ messages in thread
From: dpdklab @ 2021-02-26 18:02 UTC (permalink / raw)
To: Test Report; +Cc: dpdk-test-reports
[-- Attachment #1: Type: text/plain, Size: 3293 bytes --]
Test-Label: iol-testing
Test-Status: SUCCESS
http://dpdk.org/patch/88266
_Testing PASS_
Submitter: 张 杨 <zypscode@outlook.com>
Date: Friday, February 26 2021 16:20:29
DPDK git baseline: Repo:dpdk
Branch: master
CommitID:51fe32138c860992f228dbf19416ffd3b8e8baf4
88266 --> testing pass
Test environment and result as below:
+---------------------+----------------------+--------------------+----------------+-------------------+
| Environment | dpdk_mingw64_compile | dpdk_meson_compile | dpdk_unit_test | dpdk_compile_spdk |
+=====================+======================+====================+================+===================+
| Windows Server 2019 | PASS | PASS | SKIPPED | SKIPPED |
+---------------------+----------------------+--------------------+----------------+-------------------+
| FreeBSD 11.2 | SKIPPED | PASS | SKIPPED | SKIPPED |
+---------------------+----------------------+--------------------+----------------+-------------------+
| CentOS 8 | SKIPPED | PASS | SKIPPED | SKIPPED |
+---------------------+----------------------+--------------------+----------------+-------------------+
| Arch Linux | SKIPPED | PASS | SKIPPED | SKIPPED |
+---------------------+----------------------+--------------------+----------------+-------------------+
| openSUSE Leap 15 | SKIPPED | PASS | SKIPPED | SKIPPED |
+---------------------+----------------------+--------------------+----------------+-------------------+
| Fedora 31 | SKIPPED | PASS | SKIPPED | PASS |
+---------------------+----------------------+--------------------+----------------+-------------------+
| Ubuntu 18.04 | SKIPPED | PASS | PASS | PASS |
+---------------------+----------------------+--------------------+----------------+-------------------+
| Fedora 32 | SKIPPED | PASS | SKIPPED | SKIPPED |
+---------------------+----------------------+--------------------+----------------+-------------------+
| Ubuntu 18.04 ARM | SKIPPED | PASS | PASS | SKIPPED |
+---------------------+----------------------+--------------------+----------------+-------------------+
Windows Server 2019
Kernel: 10.0
Compiler: clang 9.0 and gcc 8.1.0 (MinGW)
FreeBSD 11.2
Kernel: 11.2
Compiler: gcc 8.3
CentOS 8
Kernel: 4.18.0.el8_0
Compiler: gcc 8.3.1
Arch Linux
Kernel: latest
Compiler: gcc latest
openSUSE Leap 15
Kernel: 4.12.14
Compiler: gcc 7.4.1
Fedora 31
Kernel: 5.3.16
Compiler: gcc 9.2.1
Ubuntu 18.04
Kernel: 4.15.0-generic
Compiler: gcc 7.5
Fedora 32
Kernel: 4.18.0-240.10.1.el8_3.x86_64
Compiler: gcc 10.2.1
Ubuntu 18.04 ARM
Kernel: 5.4.0-53-generic
Compiler: gcc 9.3
To view detailed results, visit:
https://lab.dpdk.org/results/dashboard/patchsets/15737/
UNH-IOL DPDK Community Lab
To manage your email subscriptions, visit:
https://lab.dpdk.org/results/dashboard/preferences/subscriptions/
^ permalink raw reply [flat|nested] 4+ messages in thread
* [dpdk-test-report] |SUCCESS| pw88266 [PATCH] driver/net/pcap fix: pcap fd leak
[not found] <ME3P282MB166871BA48AF990B7FACBD22D19D9@ME3P282MB1668.AUSP282.PROD.OUTLOOK.COM>
@ 2021-02-26 16:24 ` checkpatch
0 siblings, 0 replies; 4+ messages in thread
From: checkpatch @ 2021-02-26 16:24 UTC (permalink / raw)
To: test-report
Test-Label: checkpatch
Test-Status: SUCCESS
http://dpdk.org/patch/88266
_coding style OK_
^ permalink raw reply [flat|nested] 4+ messages in thread
end of thread, other threads:[~2021-02-26 18:54 UTC | newest]
Thread overview: 4+ messages (download: mbox.gz / follow: Atom feed)
-- links below jump to the message on this page --
2021-02-26 18:54 [dpdk-test-report] |SUCCESS| pw88266 [PATCH] driver/net/pcap fix: pcap fd leak dpdklab
-- strict thread matches above, loose matches on Subject: below --
2021-02-26 18:33 dpdklab
2021-02-26 18:02 dpdklab
[not found] <ME3P282MB166871BA48AF990B7FACBD22D19D9@ME3P282MB1668.AUSP282.PROD.OUTLOOK.COM>
2021-02-26 16:24 ` checkpatch
This is a public inbox, see mirroring instructions
for how to clone and mirror all data and code used for this inbox;
as well as URLs for NNTP newsgroup(s).