* [dpdk-test-report] |SUCCESS| pw88271-88287 [PATCH] [v6, 17/17] examples/bbdev: fix header include for musl
@ 2021-02-28 14:17 dpdklab
0 siblings, 0 replies; 5+ messages in thread
From: dpdklab @ 2021-02-28 14:17 UTC (permalink / raw)
To: Test Report; +Cc: dpdk-test-reports
[-- Attachment #1: Type: text/plain, Size: 2590 bytes --]
Test-Label: iol-intel-Performance
Test-Status: SUCCESS
http://dpdk.org/patch/88287
_Performance Testing PASS_
Submitter: Thomas Monjalon <thomas@monjalon.net>
Date: Sunday, February 28 2021 12:53:52
DPDK git baseline: Repo:dpdk
Branch: master
CommitID:51fe32138c860992f228dbf19416ffd3b8e8baf4
88271-88287 --> performance testing pass
Test environment and result as below:
Ubuntu 18.04
Kernel: 4.15.0-generic
Compiler: gcc 7.4
NIC: Intel Corporation Ethernet Converged Network Adapter 82599ES 10000 Mbps
Target: x86_64-native-linuxapp-gcc
Fail/Total: 0/2
Detail performance results:
+------------+---------+-------------------------------------+
| frame_size | txd/rxd | throughput difference from expected |
+============+=========+=====================================+
| 64 | 512 | 3.64196% |
+------------+---------+-------------------------------------+
| 64 | 2048 | 2.28102% |
+------------+---------+-------------------------------------+
Ubuntu 18.04
Kernel: 4.15.0-generic
Compiler: gcc 7.4
NIC: Intel Corporation Ethernet Converged Network Adapter XL710-QDA2 40000 Mbps
Target: x86_64-native-linuxapp-gcc
Fail/Total: 0/2
Detail performance results:
+------------+---------+-------------------------------------+
| frame_size | txd/rxd | throughput difference from expected |
+============+=========+=====================================+
| 64 | 512 | 5.79976% |
+------------+---------+-------------------------------------+
| 64 | 2048 | 5.14304% |
+------------+---------+-------------------------------------+
Ubuntu 18.04 ARM
Kernel: 4.15.0-132-generic
Compiler: gcc 7.5
NIC: Arm Intel Corporation Ethernet Converged Network Adapter XL710-QDA2 40000 Mbps
Target: x86_64-native-linuxapp-gcc
Fail/Total: 0/2
Detail performance results:
+------------+---------+-------------------------------------+
| frame_size | txd/rxd | throughput difference from expected |
+============+=========+=====================================+
| 64 | 512 | -2.44311% |
+------------+---------+-------------------------------------+
| 64 | 2048 | -2.22997% |
+------------+---------+-------------------------------------+
To view detailed results, visit:
https://lab.dpdk.org/results/dashboard/patchsets/15741/
UNH-IOL DPDK Community Lab
To manage your email subscriptions, visit:
https://lab.dpdk.org/results/dashboard/preferences/subscriptions/
^ permalink raw reply [flat|nested] 5+ messages in thread
* [dpdk-test-report] |SUCCESS| pw88271-88287 [PATCH] [v6, 17/17] examples/bbdev: fix header include for musl
@ 2021-02-28 16:18 dpdklab
0 siblings, 0 replies; 5+ messages in thread
From: dpdklab @ 2021-02-28 16:18 UTC (permalink / raw)
To: Test Report; +Cc: dpdk-test-reports
[-- Attachment #1: Type: text/plain, Size: 3306 bytes --]
Test-Label: iol-testing
Test-Status: SUCCESS
http://dpdk.org/patch/88287
_Testing PASS_
Submitter: Thomas Monjalon <thomas@monjalon.net>
Date: Sunday, February 28 2021 12:53:52
DPDK git baseline: Repo:dpdk
Branch: master
CommitID:51fe32138c860992f228dbf19416ffd3b8e8baf4
88271-88287 --> testing pass
Test environment and result as below:
+---------------------+----------------------+--------------------+-------------------+----------------+
| Environment | dpdk_mingw64_compile | dpdk_meson_compile | dpdk_compile_spdk | dpdk_unit_test |
+=====================+======================+====================+===================+================+
| Windows Server 2019 | PASS | PASS | SKIPPED | SKIPPED |
+---------------------+----------------------+--------------------+-------------------+----------------+
| FreeBSD 11.2 | SKIPPED | PASS | SKIPPED | SKIPPED |
+---------------------+----------------------+--------------------+-------------------+----------------+
| CentOS 8 | SKIPPED | PASS | SKIPPED | SKIPPED |
+---------------------+----------------------+--------------------+-------------------+----------------+
| Ubuntu 18.04 | SKIPPED | PASS | PASS | PASS |
+---------------------+----------------------+--------------------+-------------------+----------------+
| openSUSE Leap 15 | SKIPPED | PASS | SKIPPED | SKIPPED |
+---------------------+----------------------+--------------------+-------------------+----------------+
| Arch Linux | SKIPPED | PASS | SKIPPED | SKIPPED |
+---------------------+----------------------+--------------------+-------------------+----------------+
| Fedora 31 | SKIPPED | PASS | PASS | SKIPPED |
+---------------------+----------------------+--------------------+-------------------+----------------+
| Fedora 32 | SKIPPED | PASS | SKIPPED | SKIPPED |
+---------------------+----------------------+--------------------+-------------------+----------------+
| Ubuntu 18.04 ARM | SKIPPED | PASS | SKIPPED | SKIPPED |
+---------------------+----------------------+--------------------+-------------------+----------------+
Windows Server 2019
Kernel: 10.0
Compiler: clang 9.0 and gcc 8.1.0 (MinGW)
FreeBSD 11.2
Kernel: 11.2
Compiler: gcc 8.3
CentOS 8
Kernel: 4.18.0.el8_0
Compiler: gcc 8.3.1
Ubuntu 18.04
Kernel: 4.15.0-generic
Compiler: gcc 7.5
openSUSE Leap 15
Kernel: 4.12.14
Compiler: gcc 7.4.1
Arch Linux
Kernel: latest
Compiler: gcc latest
Fedora 31
Kernel: 5.3.16
Compiler: gcc 9.2.1
Fedora 32
Kernel: 4.18.0-240.10.1.el8_3.x86_64
Compiler: gcc 10.2.1
Ubuntu 18.04 ARM
Kernel: 5.4.0-53-generic
Compiler: gcc 9.3
To view detailed results, visit:
https://lab.dpdk.org/results/dashboard/patchsets/15741/
UNH-IOL DPDK Community Lab
To manage your email subscriptions, visit:
https://lab.dpdk.org/results/dashboard/preferences/subscriptions/
^ permalink raw reply [flat|nested] 5+ messages in thread
* [dpdk-test-report] |SUCCESS| pw88271-88287 [PATCH] [v6, 17/17] examples/bbdev: fix header include for musl
@ 2021-02-28 16:18 dpdklab
0 siblings, 0 replies; 5+ messages in thread
From: dpdklab @ 2021-02-28 16:18 UTC (permalink / raw)
To: Test Report; +Cc: dpdk-test-reports
[-- Attachment #1: Type: text/plain, Size: 926 bytes --]
Test-Label: iol-abi-testing
Test-Status: SUCCESS
http://dpdk.org/patch/88287
_Testing PASS_
Submitter: Thomas Monjalon <thomas@monjalon.net>
Date: Sunday, February 28 2021 12:53:52
DPDK git baseline: Repo:dpdk
Branch: master
CommitID:51fe32138c860992f228dbf19416ffd3b8e8baf4
88271-88287 --> testing pass
Test environment and result as below:
+------------------+----------+
| Environment | abi_test |
+==================+==========+
| Ubuntu 18.04 | PASS |
+------------------+----------+
| Ubuntu 18.04 ARM | PASS |
+------------------+----------+
Ubuntu 18.04
Kernel: 4.15.0-generic
Compiler: gcc 7.5
Ubuntu 18.04 ARM
Kernel: 5.4.0-53-generic
Compiler: gcc 9.3
To view detailed results, visit:
https://lab.dpdk.org/results/dashboard/patchsets/15741/
UNH-IOL DPDK Community Lab
To manage your email subscriptions, visit:
https://lab.dpdk.org/results/dashboard/preferences/subscriptions/
^ permalink raw reply [flat|nested] 5+ messages in thread
* [dpdk-test-report] |SUCCESS| pw88271-88287 [PATCH] [v6, 17/17] examples/bbdev: fix header include for musl
@ 2021-02-28 14:11 dpdklab
0 siblings, 0 replies; 5+ messages in thread
From: dpdklab @ 2021-02-28 14:11 UTC (permalink / raw)
To: Ali Alnubani, Test Report; +Cc: dpdk-test-reports
[-- Attachment #1: Type: text/plain, Size: 765 bytes --]
Test-Label: iol-mellanox-Functional
Test-Status: SUCCESS
http://dpdk.org/patch/88287
_Functional Testing PASS_
Submitter: Thomas Monjalon <thomas@monjalon.net>
Date: Sunday, February 28 2021 12:53:52
DPDK git baseline: Repo:dpdk
Branch: master
CommitID:51fe32138c860992f228dbf19416ffd3b8e8baf4
88271-88287 --> functional testing pass
Test environment and result as below:
Ubuntu 18.04 ARM
Kernel: 4.15.0-132-generic
Compiler: gcc 7.5
NIC: Arm Mellanox ConnectX-5 10000 Mbps
Target: x86_64-native-linuxapp-gcc
Fail/Total: 0/4
To view detailed results, visit:
https://lab.dpdk.org/results/dashboard/patchsets/15741/
UNH-IOL DPDK Community Lab
To manage your email subscriptions, visit:
https://lab.dpdk.org/results/dashboard/preferences/subscriptions/
^ permalink raw reply [flat|nested] 5+ messages in thread
* [dpdk-test-report] |SUCCESS| pw88271-88287 [PATCH] [v6, 17/17] examples/bbdev: fix header include for musl
@ 2021-02-28 14:08 dpdklab
0 siblings, 0 replies; 5+ messages in thread
From: dpdklab @ 2021-02-28 14:08 UTC (permalink / raw)
To: Ali Alnubani, Test Report; +Cc: dpdk-test-reports
[-- Attachment #1: Type: text/plain, Size: 4848 bytes --]
Test-Label: iol-mellanox-Performance
Test-Status: SUCCESS
http://dpdk.org/patch/88287
_Performance Testing PASS_
Submitter: Thomas Monjalon <thomas@monjalon.net>
Date: Sunday, February 28 2021 12:53:52
DPDK git baseline: Repo:dpdk
Branch: master
CommitID:51fe32138c860992f228dbf19416ffd3b8e8baf4
88271-88287 --> performance testing pass
Test environment and result as below:
Ubuntu 18.04
Kernel: 4.15.0-generic
Compiler: gcc 7.4
NIC: Mellanox ConnectX-4 Lx 25000 Mbps
Target: x86_64-native-linuxapp-gcc
Fail/Total: 0/6
Detail performance results:
+------------+---------+-------------------------------------+
| frame_size | txd/rxd | throughput difference from expected |
+============+=========+=====================================+
| 64 | 256 | -0.93938% |
+------------+---------+-------------------------------------+
| 128 | 256 | 0.14867% |
+------------+---------+-------------------------------------+
| 256 | 256 | -0.44632% |
+------------+---------+-------------------------------------+
| 512 | 256 | -0.20551% |
+------------+---------+-------------------------------------+
| 1024 | 256 | 0.0% |
+------------+---------+-------------------------------------+
| 1518 | 256 | -0.19709% |
+------------+---------+-------------------------------------+
Ubuntu 18.04
Kernel: 4.15.0-generic
Compiler: gcc 7.4
NIC: Mellanox ConnectX-5 100000 Mbps
Target: x86_64-native-linuxapp-gcc
Fail/Total: 0/6
Detail performance results:
+------------+---------+-------------------------------------+
| frame_size | txd/rxd | throughput difference from expected |
+============+=========+=====================================+
| 64 | 256 | -0.07604% |
+------------+---------+-------------------------------------+
| 128 | 256 | 0.02583% |
+------------+---------+-------------------------------------+
| 256 | 256 | 0.11214% |
+------------+---------+-------------------------------------+
| 512 | 256 | 0.26457% |
+------------+---------+-------------------------------------+
| 1024 | 256 | -0.70572% |
+------------+---------+-------------------------------------+
| 1518 | 256 | 0.1883% |
+------------+---------+-------------------------------------+
Ubuntu 18.04
Kernel: 4.15.0-generic
Compiler: gcc 7.4
NIC: Mellanox ConnectX-4 Lx 40000 Mbps
Target: x86_64-native-linuxapp-gcc
Fail/Total: 0/6
Detail performance results:
+------------+---------+-------------------------------------+
| frame_size | txd/rxd | throughput difference from expected |
+============+=========+=====================================+
| 64 | 256 | 0.28849% |
+------------+---------+-------------------------------------+
| 128 | 256 | -0.05179% |
+------------+---------+-------------------------------------+
| 256 | 256 | -0.08036% |
+------------+---------+-------------------------------------+
| 512 | 256 | 0.2293% |
+------------+---------+-------------------------------------+
| 1024 | 256 | 0.0% |
+------------+---------+-------------------------------------+
| 1518 | 256 | -0.19963% |
+------------+---------+-------------------------------------+
Ubuntu 18.04 ARM
Kernel: 4.15.0-132-generic
Compiler: gcc 7.5
NIC: Arm Mellanox ConnectX-5 10000 Mbps
Target: x86_64-native-linuxapp-gcc
Fail/Total: 0/4
Detail performance results:
+------------+---------+-------------------------------------+
| frame_size | txd/rxd | throughput difference from expected |
+============+=========+=====================================+
| 64 | 128 | -2.5539% |
+------------+---------+-------------------------------------+
| 64 | 256 | -2.50731% |
+------------+---------+-------------------------------------+
| 64 | 512 | -2.59536% |
+------------+---------+-------------------------------------+
| 64 | 2048 | -2.61731% |
+------------+---------+-------------------------------------+
To view detailed results, visit:
https://lab.dpdk.org/results/dashboard/patchsets/15741/
UNH-IOL DPDK Community Lab
To manage your email subscriptions, visit:
https://lab.dpdk.org/results/dashboard/preferences/subscriptions/
^ permalink raw reply [flat|nested] 5+ messages in thread
end of thread, other threads:[~2021-02-28 16:18 UTC | newest]
Thread overview: 5+ messages (download: mbox.gz / follow: Atom feed)
-- links below jump to the message on this page --
2021-02-28 14:17 [dpdk-test-report] |SUCCESS| pw88271-88287 [PATCH] [v6, 17/17] examples/bbdev: fix header include for musl dpdklab
-- strict thread matches above, loose matches on Subject: below --
2021-02-28 16:18 dpdklab
2021-02-28 16:18 dpdklab
2021-02-28 14:11 dpdklab
2021-02-28 14:08 dpdklab
This is a public inbox, see mirroring instructions
for how to clone and mirror all data and code used for this inbox;
as well as URLs for NNTP newsgroup(s).