* [dpdk-test-report] |SUCCESS| pw88349-88362 [PATCH] [14/14] net/ice/base: cleanup fltr list in case of allocation issues
@ 2021-03-02 10:01 dpdklab
0 siblings, 0 replies; 4+ messages in thread
From: dpdklab @ 2021-03-02 10:01 UTC (permalink / raw)
To: Ali Alnubani, Test Report; +Cc: dpdk-test-reports
[-- Attachment #1: Type: text/plain, Size: 4840 bytes --]
Test-Label: iol-mellanox-Performance
Test-Status: SUCCESS
http://dpdk.org/patch/88362
_Performance Testing PASS_
Submitter: Qi Zhang <qi.z.zhang@intel.com>
Date: Tuesday, March 02 2021 07:23:57
DPDK git baseline: Repo:dpdk
Branch: master
CommitID:52db57db0536bf20cbb50464ca4c18b0c9fde4e4
88349-88362 --> performance testing pass
Test environment and result as below:
Ubuntu 18.04
Kernel: 4.15.0-generic
Compiler: gcc 7.4
NIC: Mellanox ConnectX-4 Lx 25000 Mbps
Target: x86_64-native-linuxapp-gcc
Fail/Total: 0/6
Detail performance results:
+------------+---------+-------------------------------------+
| frame_size | txd/rxd | throughput difference from expected |
+============+=========+=====================================+
| 64 | 256 | -0.67793% |
+------------+---------+-------------------------------------+
| 128 | 256 | 0.34626% |
+------------+---------+-------------------------------------+
| 256 | 256 | 0.96178% |
+------------+---------+-------------------------------------+
| 512 | 256 | 1.17015% |
+------------+---------+-------------------------------------+
| 1024 | 256 | -0.10028% |
+------------+---------+-------------------------------------+
| 1518 | 256 | 0.07407% |
+------------+---------+-------------------------------------+
Ubuntu 18.04
Kernel: 4.15.0-generic
Compiler: gcc 7.4
NIC: Mellanox ConnectX-5 100000 Mbps
Target: x86_64-native-linuxapp-gcc
Fail/Total: 0/6
Detail performance results:
+------------+---------+-------------------------------------+
| frame_size | txd/rxd | throughput difference from expected |
+============+=========+=====================================+
| 64 | 256 | 0.28064% |
+------------+---------+-------------------------------------+
| 128 | 256 | -0.34051% |
+------------+---------+-------------------------------------+
| 256 | 256 | -0.15243% |
+------------+---------+-------------------------------------+
| 512 | 256 | -0.75492% |
+------------+---------+-------------------------------------+
| 1024 | 256 | 1.80624% |
+------------+---------+-------------------------------------+
| 1518 | 256 | 0.15285% |
+------------+---------+-------------------------------------+
Ubuntu 18.04
Kernel: 4.15.0-generic
Compiler: gcc 7.4
NIC: Mellanox ConnectX-4 Lx 40000 Mbps
Target: x86_64-native-linuxapp-gcc
Fail/Total: 0/6
Detail performance results:
+------------+---------+-------------------------------------+
| frame_size | txd/rxd | throughput difference from expected |
+============+=========+=====================================+
| 64 | 256 | -0.44829% |
+------------+---------+-------------------------------------+
| 128 | 256 | -0.84496% |
+------------+---------+-------------------------------------+
| 256 | 256 | -0.26274% |
+------------+---------+-------------------------------------+
| 512 | 256 | 0.0586% |
+------------+---------+-------------------------------------+
| 1024 | 256 | 0.1151% |
+------------+---------+-------------------------------------+
| 1518 | 256 | 0.10799% |
+------------+---------+-------------------------------------+
Ubuntu 18.04 ARM
Kernel: 4.15.0-132-generic
Compiler: gcc 7.5
NIC: Arm Mellanox ConnectX-5 10000 Mbps
Target: x86_64-native-linuxapp-gcc
Fail/Total: 0/4
Detail performance results:
+------------+---------+-------------------------------------+
| frame_size | txd/rxd | throughput difference from expected |
+============+=========+=====================================+
| 64 | 128 | -2.63764% |
+------------+---------+-------------------------------------+
| 64 | 256 | -3.2804% |
+------------+---------+-------------------------------------+
| 64 | 512 | -2.77398% |
+------------+---------+-------------------------------------+
| 64 | 2048 | -3.02398% |
+------------+---------+-------------------------------------+
To view detailed results, visit:
https://lab.dpdk.org/results/dashboard/patchsets/15768/
UNH-IOL DPDK Community Lab
To manage your email subscriptions, visit:
https://lab.dpdk.org/results/dashboard/preferences/subscriptions/
^ permalink raw reply [flat|nested] 4+ messages in thread
* [dpdk-test-report] |SUCCESS| pw88349-88362 [PATCH] [14/14] net/ice/base: cleanup fltr list in case of allocation issues
@ 2021-03-02 10:10 dpdklab
0 siblings, 0 replies; 4+ messages in thread
From: dpdklab @ 2021-03-02 10:10 UTC (permalink / raw)
To: Test Report; +Cc: dpdk-test-reports
[-- Attachment #1: Type: text/plain, Size: 2582 bytes --]
Test-Label: iol-intel-Performance
Test-Status: SUCCESS
http://dpdk.org/patch/88362
_Performance Testing PASS_
Submitter: Qi Zhang <qi.z.zhang@intel.com>
Date: Tuesday, March 02 2021 07:23:57
DPDK git baseline: Repo:dpdk
Branch: master
CommitID:52db57db0536bf20cbb50464ca4c18b0c9fde4e4
88349-88362 --> performance testing pass
Test environment and result as below:
Ubuntu 18.04
Kernel: 4.15.0-generic
Compiler: gcc 7.4
NIC: Intel Corporation Ethernet Converged Network Adapter 82599ES 10000 Mbps
Target: x86_64-native-linuxapp-gcc
Fail/Total: 0/2
Detail performance results:
+------------+---------+-------------------------------------+
| frame_size | txd/rxd | throughput difference from expected |
+============+=========+=====================================+
| 64 | 512 | 3.18898% |
+------------+---------+-------------------------------------+
| 64 | 2048 | 2.3787% |
+------------+---------+-------------------------------------+
Ubuntu 18.04
Kernel: 4.15.0-generic
Compiler: gcc 7.4
NIC: Intel Corporation Ethernet Converged Network Adapter XL710-QDA2 40000 Mbps
Target: x86_64-native-linuxapp-gcc
Fail/Total: 0/2
Detail performance results:
+------------+---------+-------------------------------------+
| frame_size | txd/rxd | throughput difference from expected |
+============+=========+=====================================+
| 64 | 512 | 5.38835% |
+------------+---------+-------------------------------------+
| 64 | 2048 | 4.83875% |
+------------+---------+-------------------------------------+
Ubuntu 18.04 ARM
Kernel: 4.15.0-132-generic
Compiler: gcc 7.5
NIC: Arm Intel Corporation Ethernet Converged Network Adapter XL710-QDA2 40000 Mbps
Target: x86_64-native-linuxapp-gcc
Fail/Total: 0/2
Detail performance results:
+------------+---------+-------------------------------------+
| frame_size | txd/rxd | throughput difference from expected |
+============+=========+=====================================+
| 64 | 512 | -2.28954% |
+------------+---------+-------------------------------------+
| 64 | 2048 | -2.2439% |
+------------+---------+-------------------------------------+
To view detailed results, visit:
https://lab.dpdk.org/results/dashboard/patchsets/15768/
UNH-IOL DPDK Community Lab
To manage your email subscriptions, visit:
https://lab.dpdk.org/results/dashboard/preferences/subscriptions/
^ permalink raw reply [flat|nested] 4+ messages in thread
* [dpdk-test-report] |SUCCESS| pw88349-88362 [PATCH] [14/14] net/ice/base: cleanup fltr list in case of allocation issues
@ 2021-03-02 10:24 dpdklab
0 siblings, 0 replies; 4+ messages in thread
From: dpdklab @ 2021-03-02 10:24 UTC (permalink / raw)
To: Ali Alnubani, Test Report; +Cc: dpdk-test-reports
[-- Attachment #1: Type: text/plain, Size: 757 bytes --]
Test-Label: iol-mellanox-Functional
Test-Status: SUCCESS
http://dpdk.org/patch/88362
_Functional Testing PASS_
Submitter: Qi Zhang <qi.z.zhang@intel.com>
Date: Tuesday, March 02 2021 07:23:57
DPDK git baseline: Repo:dpdk
Branch: master
CommitID:52db57db0536bf20cbb50464ca4c18b0c9fde4e4
88349-88362 --> functional testing pass
Test environment and result as below:
Ubuntu 18.04 ARM
Kernel: 4.15.0-132-generic
Compiler: gcc 7.5
NIC: Arm Mellanox ConnectX-5 10000 Mbps
Target: x86_64-native-linuxapp-gcc
Fail/Total: 0/4
To view detailed results, visit:
https://lab.dpdk.org/results/dashboard/patchsets/15768/
UNH-IOL DPDK Community Lab
To manage your email subscriptions, visit:
https://lab.dpdk.org/results/dashboard/preferences/subscriptions/
^ permalink raw reply [flat|nested] 4+ messages in thread
* [dpdk-test-report] |SUCCESS| pw88349-88362 [PATCH] [14/14] net/ice/base: cleanup fltr list in case of allocation issues
@ 2021-03-02 13:52 dpdklab
0 siblings, 0 replies; 4+ messages in thread
From: dpdklab @ 2021-03-02 13:52 UTC (permalink / raw)
To: Test Report; +Cc: dpdk-test-reports
[-- Attachment #1: Type: text/plain, Size: 3298 bytes --]
Test-Label: iol-testing
Test-Status: SUCCESS
http://dpdk.org/patch/88362
_Testing PASS_
Submitter: Qi Zhang <qi.z.zhang@intel.com>
Date: Tuesday, March 02 2021 07:23:57
DPDK git baseline: Repo:dpdk
Branch: master
CommitID:52db57db0536bf20cbb50464ca4c18b0c9fde4e4
88349-88362 --> testing pass
Test environment and result as below:
+---------------------+----------------------+--------------------+-------------------+----------------+
| Environment | dpdk_mingw64_compile | dpdk_meson_compile | dpdk_compile_spdk | dpdk_unit_test |
+=====================+======================+====================+===================+================+
| Windows Server 2019 | PASS | PASS | SKIPPED | SKIPPED |
+---------------------+----------------------+--------------------+-------------------+----------------+
| Ubuntu 18.04 | SKIPPED | PASS | PASS | PASS |
+---------------------+----------------------+--------------------+-------------------+----------------+
| FreeBSD 11.2 | SKIPPED | PASS | SKIPPED | SKIPPED |
+---------------------+----------------------+--------------------+-------------------+----------------+
| CentOS 8 | SKIPPED | PASS | SKIPPED | SKIPPED |
+---------------------+----------------------+--------------------+-------------------+----------------+
| Fedora 32 | SKIPPED | PASS | SKIPPED | SKIPPED |
+---------------------+----------------------+--------------------+-------------------+----------------+
| Fedora 31 | SKIPPED | PASS | PASS | SKIPPED |
+---------------------+----------------------+--------------------+-------------------+----------------+
| openSUSE Leap 15 | SKIPPED | PASS | SKIPPED | SKIPPED |
+---------------------+----------------------+--------------------+-------------------+----------------+
| Arch Linux | SKIPPED | PASS | SKIPPED | SKIPPED |
+---------------------+----------------------+--------------------+-------------------+----------------+
| Ubuntu 18.04 ARM | SKIPPED | PASS | SKIPPED | PASS |
+---------------------+----------------------+--------------------+-------------------+----------------+
Windows Server 2019
Kernel: 10.0
Compiler: clang 9.0 and gcc 8.1.0 (MinGW)
Ubuntu 18.04
Kernel: 4.15.0-generic
Compiler: gcc 7.5
FreeBSD 11.2
Kernel: 11.2
Compiler: gcc 8.3
CentOS 8
Kernel: 4.18.0.el8_0
Compiler: gcc 8.3.1
Fedora 32
Kernel: 4.18.0-240.10.1.el8_3.x86_64
Compiler: gcc 10.2.1
Fedora 31
Kernel: 5.3.16
Compiler: gcc 9.2.1
openSUSE Leap 15
Kernel: 4.12.14
Compiler: gcc 7.4.1
Arch Linux
Kernel: latest
Compiler: gcc latest
Ubuntu 18.04 ARM
Kernel: 5.4.0-53-generic
Compiler: gcc 9.3
To view detailed results, visit:
https://lab.dpdk.org/results/dashboard/patchsets/15768/
UNH-IOL DPDK Community Lab
To manage your email subscriptions, visit:
https://lab.dpdk.org/results/dashboard/preferences/subscriptions/
^ permalink raw reply [flat|nested] 4+ messages in thread
end of thread, other threads:[~2021-03-02 13:52 UTC | newest]
Thread overview: 4+ messages (download: mbox.gz / follow: Atom feed)
-- links below jump to the message on this page --
2021-03-02 10:01 [dpdk-test-report] |SUCCESS| pw88349-88362 [PATCH] [14/14] net/ice/base: cleanup fltr list in case of allocation issues dpdklab
2021-03-02 10:10 dpdklab
2021-03-02 10:24 dpdklab
2021-03-02 13:52 dpdklab
This is a public inbox, see mirroring instructions
for how to clone and mirror all data and code used for this inbox;
as well as URLs for NNTP newsgroup(s).