* [dpdk-test-report] |SUCCESS| pw88394 [PATCH] net/bnxt: don't set mbuf pointers to null in vector PMD
@ 2021-03-02 17:20 dpdklab
0 siblings, 0 replies; 4+ messages in thread
From: dpdklab @ 2021-03-02 17:20 UTC (permalink / raw)
To: Test Report; +Cc: dpdk-test-reports
[-- Attachment #1: Type: text/plain, Size: 1924 bytes --]
Test-Label: iol-intel-Performance
Test-Status: SUCCESS
http://dpdk.org/patch/88394
_Performance Testing PASS_
Submitter: Lance Richardson <lance.richardson@broadcom.com>
Date: Tuesday, March 02 2021 15:16:08
DPDK git baseline: Repo:dpdk
Branch: master
CommitID:52db57db0536bf20cbb50464ca4c18b0c9fde4e4
88394 --> performance testing pass
Test environment and result as below:
Ubuntu 18.04
Kernel: 4.15.0-generic
Compiler: gcc 7.4
NIC: Intel Corporation Ethernet Converged Network Adapter 82599ES 10000 Mbps
Target: x86_64-native-linuxapp-gcc
Fail/Total: 0/2
Detail performance results:
+------------+---------+-------------------------------------+
| frame_size | txd/rxd | throughput difference from expected |
+============+=========+=====================================+
| 64 | 512 | 3.22749% |
+------------+---------+-------------------------------------+
| 64 | 2048 | 2.12014% |
+------------+---------+-------------------------------------+
Ubuntu 18.04
Kernel: 4.15.0-generic
Compiler: gcc 7.4
NIC: Intel Corporation Ethernet Converged Network Adapter XL710-QDA2 40000 Mbps
Target: x86_64-native-linuxapp-gcc
Fail/Total: 0/2
Detail performance results:
+------------+---------+-------------------------------------+
| frame_size | txd/rxd | throughput difference from expected |
+============+=========+=====================================+
| 64 | 512 | 5.44427% |
+------------+---------+-------------------------------------+
| 64 | 2048 | 4.84873% |
+------------+---------+-------------------------------------+
To view detailed results, visit:
https://lab.dpdk.org/results/dashboard/patchsets/15780/
UNH-IOL DPDK Community Lab
To manage your email subscriptions, visit:
https://lab.dpdk.org/results/dashboard/preferences/subscriptions/
^ permalink raw reply [flat|nested] 4+ messages in thread
* [dpdk-test-report] |SUCCESS| pw88394 [PATCH] net/bnxt: don't set mbuf pointers to null in vector PMD
@ 2021-03-02 19:23 dpdklab
0 siblings, 0 replies; 4+ messages in thread
From: dpdklab @ 2021-03-02 19:23 UTC (permalink / raw)
To: Test Report; +Cc: dpdk-test-reports
[-- Attachment #1: Type: text/plain, Size: 3917 bytes --]
Test-Label: iol-testing
Test-Status: SUCCESS
http://dpdk.org/patch/88394
_Testing PASS_
Submitter: Lance Richardson <lance.richardson@broadcom.com>
Date: Tuesday, March 02 2021 15:16:08
DPDK git baseline: Repo:dpdk
Branch: master
CommitID:52db57db0536bf20cbb50464ca4c18b0c9fde4e4
88394 --> testing pass
Test environment and result as below:
+---------------------+----------------------+--------------------+-------------------+----------------+
| Environment | dpdk_mingw64_compile | dpdk_meson_compile | dpdk_compile_spdk | dpdk_unit_test |
+=====================+======================+====================+===================+================+
| Windows Server 2019 | PASS | PASS | SKIPPED | SKIPPED |
+---------------------+----------------------+--------------------+-------------------+----------------+
| Ubuntu 18.04 | SKIPPED | PASS | PASS | PASS |
+---------------------+----------------------+--------------------+-------------------+----------------+
| FreeBSD 11.2 | SKIPPED | PASS | SKIPPED | SKIPPED |
+---------------------+----------------------+--------------------+-------------------+----------------+
| CentOS 8 | SKIPPED | PASS | SKIPPED | SKIPPED |
+---------------------+----------------------+--------------------+-------------------+----------------+
| Fedora 32 | SKIPPED | PASS | SKIPPED | SKIPPED |
+---------------------+----------------------+--------------------+-------------------+----------------+
| Arch Linux | SKIPPED | PASS | SKIPPED | SKIPPED |
+---------------------+----------------------+--------------------+-------------------+----------------+
| openSUSE Leap 15 | SKIPPED | PASS | SKIPPED | SKIPPED |
+---------------------+----------------------+--------------------+-------------------+----------------+
| Ubuntu 18.04 ARM | SKIPPED | PASS | SKIPPED | PASS |
+---------------------+----------------------+--------------------+-------------------+----------------+
| Fedora 31 | SKIPPED | PASS | PASS | SKIPPED |
+---------------------+----------------------+--------------------+-------------------+----------------+
| RHEL 7 | SKIPPED | PASS | SKIPPED | SKIPPED |
+---------------------+----------------------+--------------------+-------------------+----------------+
| RHEL8 | SKIPPED | PASS | SKIPPED | SKIPPED |
+---------------------+----------------------+--------------------+-------------------+----------------+
Windows Server 2019
Kernel: 10.0
Compiler: clang 9.0 and gcc 8.1.0 (MinGW)
Ubuntu 18.04
Kernel: 4.15.0-generic
Compiler: gcc 7.5
FreeBSD 11.2
Kernel: 11.2
Compiler: gcc 8.3
CentOS 8
Kernel: 4.18.0.el8_0
Compiler: gcc 8.3.1
Fedora 32
Kernel: 4.18.0-240.10.1.el8_3.x86_64
Compiler: gcc 10.2.1
Arch Linux
Kernel: latest
Compiler: gcc latest
openSUSE Leap 15
Kernel: 4.12.14
Compiler: gcc 7.4.1
Ubuntu 18.04 ARM
Kernel: 5.4.0-53-generic
Compiler: gcc 9.3
Fedora 31
Kernel: 5.3.16
Compiler: gcc 9.2.1
RHEL 7
Kernel: 4.18.0-240.10.1.el8_3.x86_64
Compiler: gcc 4.8.5 20150623 (Red Hat 4.8.5-44)
RHEL8
Kernel: 4.18.0-240.10.1.el8_3.x86_64
Compiler: gcc 8.3.1 20191121 (Red Hat 8.3.1-5)
To view detailed results, visit:
https://lab.dpdk.org/results/dashboard/patchsets/15780/
UNH-IOL DPDK Community Lab
To manage your email subscriptions, visit:
https://lab.dpdk.org/results/dashboard/preferences/subscriptions/
^ permalink raw reply [flat|nested] 4+ messages in thread
* [dpdk-test-report] |SUCCESS| pw88394 [PATCH] net/bnxt: don't set mbuf pointers to null in vector PMD
@ 2021-03-02 18:00 dpdklab
0 siblings, 0 replies; 4+ messages in thread
From: dpdklab @ 2021-03-02 18:00 UTC (permalink / raw)
To: Ali Alnubani, Test Report; +Cc: dpdk-test-reports
[-- Attachment #1: Type: text/plain, Size: 3974 bytes --]
Test-Label: iol-mellanox-Performance
Test-Status: SUCCESS
http://dpdk.org/patch/88394
_Performance Testing PASS_
Submitter: Lance Richardson <lance.richardson@broadcom.com>
Date: Tuesday, March 02 2021 15:16:08
DPDK git baseline: Repo:dpdk
Branch: master
CommitID:52db57db0536bf20cbb50464ca4c18b0c9fde4e4
88394 --> performance testing pass
Test environment and result as below:
Ubuntu 18.04
Kernel: 4.15.0-generic
Compiler: gcc 7.4
NIC: Mellanox ConnectX-5 100000 Mbps
Target: x86_64-native-linuxapp-gcc
Fail/Total: 0/6
Detail performance results:
+------------+---------+-------------------------------------+
| frame_size | txd/rxd | throughput difference from expected |
+============+=========+=====================================+
| 64 | 256 | 0.24658% |
+------------+---------+-------------------------------------+
| 128 | 256 | -0.28897% |
+------------+---------+-------------------------------------+
| 256 | 256 | -0.36983% |
+------------+---------+-------------------------------------+
| 512 | 256 | -0.20629% |
+------------+---------+-------------------------------------+
| 1024 | 256 | 2.25564% |
+------------+---------+-------------------------------------+
| 1518 | 256 | -0.03527% |
+------------+---------+-------------------------------------+
Ubuntu 18.04
Kernel: 4.15.0-generic
Compiler: gcc 7.4
NIC: Mellanox ConnectX-4 Lx 25000 Mbps
Target: x86_64-native-linuxapp-gcc
Fail/Total: 0/6
Detail performance results:
+------------+---------+-------------------------------------+
| frame_size | txd/rxd | throughput difference from expected |
+============+=========+=====================================+
| 64 | 256 | -1.44342% |
+------------+---------+-------------------------------------+
| 128 | 256 | 0.34972% |
+------------+---------+-------------------------------------+
| 256 | 256 | 1.32746% |
+------------+---------+-------------------------------------+
| 512 | 256 | 1.50819% |
+------------+---------+-------------------------------------+
| 1024 | 256 | -0.18385% |
+------------+---------+-------------------------------------+
| 1518 | 256 | 0.22222% |
+------------+---------+-------------------------------------+
Ubuntu 18.04
Kernel: 4.15.0-generic
Compiler: gcc 7.4
NIC: Mellanox ConnectX-4 Lx 40000 Mbps
Target: x86_64-native-linuxapp-gcc
Fail/Total: 0/6
Detail performance results:
+------------+---------+-------------------------------------+
| frame_size | txd/rxd | throughput difference from expected |
+============+=========+=====================================+
| 64 | 256 | -1.18031% |
+------------+---------+-------------------------------------+
| 128 | 256 | 0.67883% |
+------------+---------+-------------------------------------+
| 256 | 256 | 0.03649% |
+------------+---------+-------------------------------------+
| 512 | 256 | -0.06926% |
+------------+---------+-------------------------------------+
| 1024 | 256 | 0.14649% |
+------------+---------+-------------------------------------+
| 1518 | 256 | 0.18513% |
+------------+---------+-------------------------------------+
To view detailed results, visit:
https://lab.dpdk.org/results/dashboard/patchsets/15780/
UNH-IOL DPDK Community Lab
To manage your email subscriptions, visit:
https://lab.dpdk.org/results/dashboard/preferences/subscriptions/
^ permalink raw reply [flat|nested] 4+ messages in thread
[parent not found: <20210302151608.537865-1-lance.richardson@broadcom.com>]
end of thread, other threads:[~2021-03-02 19:23 UTC | newest]
Thread overview: 4+ messages (download: mbox.gz / follow: Atom feed)
-- links below jump to the message on this page --
2021-03-02 17:20 [dpdk-test-report] |SUCCESS| pw88394 [PATCH] net/bnxt: don't set mbuf pointers to null in vector PMD dpdklab
-- strict thread matches above, loose matches on Subject: below --
2021-03-02 19:23 dpdklab
2021-03-02 18:00 dpdklab
[not found] <20210302151608.537865-1-lance.richardson@broadcom.com>
2021-03-02 15:23 ` checkpatch
This is a public inbox, see mirroring instructions
for how to clone and mirror all data and code used for this inbox;
as well as URLs for NNTP newsgroup(s).