* [dpdk-test-report] |SUCCESS| pw88413 [PATCH] [v2] net/ice: fix wrong RSS hash update
@ 2021-03-03 9:40 dpdklab
0 siblings, 0 replies; 6+ messages in thread
From: dpdklab @ 2021-03-03 9:40 UTC (permalink / raw)
To: Ali Alnubani, Test Report; +Cc: dpdk-test-reports
[-- Attachment #1: Type: text/plain, Size: 754 bytes --]
Test-Label: iol-mellanox-Functional
Test-Status: SUCCESS
http://dpdk.org/patch/88413
_Functional Testing PASS_
Submitter: Wenjun Wu <wenjun1.wu@intel.com>
Date: Wednesday, March 03 2021 07:56:48
DPDK git baseline: Repo:dpdk
Branch: master
CommitID:e79b0efd989a077d0193e7dbf47f966f65d0c9dc
88413 --> functional testing pass
Test environment and result as below:
Ubuntu 18.04 ARM
Kernel: 4.15.0-132-generic
Compiler: gcc 7.5
NIC: Arm Mellanox ConnectX-5 10000 Mbps
Target: x86_64-native-linuxapp-gcc
Fail/Total: 0/2
To view detailed results, visit:
https://lab.dpdk.org/results/dashboard/patchsets/15786/
UNH-IOL DPDK Community Lab
To manage your email subscriptions, visit:
https://lab.dpdk.org/results/dashboard/preferences/subscriptions/
^ permalink raw reply [flat|nested] 6+ messages in thread
* [dpdk-test-report] |SUCCESS| pw88413 [PATCH] [v2] net/ice: fix wrong RSS hash update
@ 2021-03-03 12:54 dpdklab
0 siblings, 0 replies; 6+ messages in thread
From: dpdklab @ 2021-03-03 12:54 UTC (permalink / raw)
To: Test Report; +Cc: dpdk-test-reports
[-- Attachment #1: Type: text/plain, Size: 915 bytes --]
Test-Label: iol-abi-testing
Test-Status: SUCCESS
http://dpdk.org/patch/88413
_Testing PASS_
Submitter: Wenjun Wu <wenjun1.wu@intel.com>
Date: Wednesday, March 03 2021 07:56:48
DPDK git baseline: Repo:dpdk
Branch: master
CommitID:e79b0efd989a077d0193e7dbf47f966f65d0c9dc
88413 --> testing pass
Test environment and result as below:
+------------------+----------+
| Environment | abi_test |
+==================+==========+
| Ubuntu 18.04 | PASS |
+------------------+----------+
| Ubuntu 18.04 ARM | PASS |
+------------------+----------+
Ubuntu 18.04
Kernel: 4.15.0-generic
Compiler: gcc 7.5
Ubuntu 18.04 ARM
Kernel: 5.4.0-53-generic
Compiler: gcc 9.3
To view detailed results, visit:
https://lab.dpdk.org/results/dashboard/patchsets/15786/
UNH-IOL DPDK Community Lab
To manage your email subscriptions, visit:
https://lab.dpdk.org/results/dashboard/preferences/subscriptions/
^ permalink raw reply [flat|nested] 6+ messages in thread
* [dpdk-test-report] |SUCCESS| pw88413 [PATCH] [v2] net/ice: fix wrong RSS hash update
@ 2021-03-03 12:54 dpdklab
0 siblings, 0 replies; 6+ messages in thread
From: dpdklab @ 2021-03-03 12:54 UTC (permalink / raw)
To: Test Report; +Cc: dpdk-test-reports
[-- Attachment #1: Type: text/plain, Size: 3903 bytes --]
Test-Label: iol-testing
Test-Status: SUCCESS
http://dpdk.org/patch/88413
_Testing PASS_
Submitter: Wenjun Wu <wenjun1.wu@intel.com>
Date: Wednesday, March 03 2021 07:56:48
DPDK git baseline: Repo:dpdk
Branch: master
CommitID:e79b0efd989a077d0193e7dbf47f966f65d0c9dc
88413 --> testing pass
Test environment and result as below:
+---------------------+----------------------+--------------------+-------------------+----------------+
| Environment | dpdk_mingw64_compile | dpdk_meson_compile | dpdk_compile_spdk | dpdk_unit_test |
+=====================+======================+====================+===================+================+
| Windows Server 2019 | PASS | PASS | SKIPPED | SKIPPED |
+---------------------+----------------------+--------------------+-------------------+----------------+
| FreeBSD 11.2 | SKIPPED | PASS | SKIPPED | SKIPPED |
+---------------------+----------------------+--------------------+-------------------+----------------+
| CentOS 8 | SKIPPED | PASS | SKIPPED | SKIPPED |
+---------------------+----------------------+--------------------+-------------------+----------------+
| openSUSE Leap 15 | SKIPPED | PASS | SKIPPED | SKIPPED |
+---------------------+----------------------+--------------------+-------------------+----------------+
| Ubuntu 18.04 | SKIPPED | PASS | PASS | PASS |
+---------------------+----------------------+--------------------+-------------------+----------------+
| RHEL 7 | SKIPPED | PASS | SKIPPED | SKIPPED |
+---------------------+----------------------+--------------------+-------------------+----------------+
| Arch Linux | SKIPPED | PASS | SKIPPED | SKIPPED |
+---------------------+----------------------+--------------------+-------------------+----------------+
| Fedora 31 | SKIPPED | PASS | PASS | SKIPPED |
+---------------------+----------------------+--------------------+-------------------+----------------+
| Fedora 32 | SKIPPED | PASS | SKIPPED | SKIPPED |
+---------------------+----------------------+--------------------+-------------------+----------------+
| RHEL8 | SKIPPED | PASS | SKIPPED | SKIPPED |
+---------------------+----------------------+--------------------+-------------------+----------------+
| Ubuntu 18.04 ARM | SKIPPED | PASS | SKIPPED | PASS |
+---------------------+----------------------+--------------------+-------------------+----------------+
Windows Server 2019
Kernel: 10.0
Compiler: clang 9.0 and gcc 8.1.0 (MinGW)
FreeBSD 11.2
Kernel: 11.2
Compiler: gcc 8.3
CentOS 8
Kernel: 4.18.0.el8_0
Compiler: gcc 8.3.1
openSUSE Leap 15
Kernel: 4.12.14
Compiler: gcc 7.4.1
Ubuntu 18.04
Kernel: 4.15.0-generic
Compiler: gcc 7.5
RHEL 7
Kernel: 4.18.0-240.10.1.el8_3.x86_64
Compiler: gcc 4.8.5 20150623 (Red Hat 4.8.5-44)
Arch Linux
Kernel: latest
Compiler: gcc latest
Fedora 31
Kernel: 5.3.16
Compiler: gcc 9.2.1
Fedora 32
Kernel: 4.18.0-240.10.1.el8_3.x86_64
Compiler: gcc 10.2.1
RHEL8
Kernel: 4.18.0-240.10.1.el8_3.x86_64
Compiler: gcc 8.3.1 20191121 (Red Hat 8.3.1-5)
Ubuntu 18.04 ARM
Kernel: 5.4.0-53-generic
Compiler: gcc 9.3
To view detailed results, visit:
https://lab.dpdk.org/results/dashboard/patchsets/15786/
UNH-IOL DPDK Community Lab
To manage your email subscriptions, visit:
https://lab.dpdk.org/results/dashboard/preferences/subscriptions/
^ permalink raw reply [flat|nested] 6+ messages in thread
* [dpdk-test-report] |SUCCESS| pw88413 [PATCH] [v2] net/ice: fix wrong RSS hash update
@ 2021-03-03 9:29 dpdklab
0 siblings, 0 replies; 6+ messages in thread
From: dpdklab @ 2021-03-03 9:29 UTC (permalink / raw)
To: Ali Alnubani, Test Report; +Cc: dpdk-test-reports
[-- Attachment #1: Type: text/plain, Size: 4837 bytes --]
Test-Label: iol-mellanox-Performance
Test-Status: SUCCESS
http://dpdk.org/patch/88413
_Performance Testing PASS_
Submitter: Wenjun Wu <wenjun1.wu@intel.com>
Date: Wednesday, March 03 2021 07:56:48
DPDK git baseline: Repo:dpdk
Branch: master
CommitID:e79b0efd989a077d0193e7dbf47f966f65d0c9dc
88413 --> performance testing pass
Test environment and result as below:
Ubuntu 18.04
Kernel: 4.15.0-generic
Compiler: gcc 7.4
NIC: Mellanox ConnectX-5 100000 Mbps
Target: x86_64-native-linuxapp-gcc
Fail/Total: 0/6
Detail performance results:
+------------+---------+-------------------------------------+
| frame_size | txd/rxd | throughput difference from expected |
+============+=========+=====================================+
| 64 | 256 | -0.20513% |
+------------+---------+-------------------------------------+
| 128 | 256 | 0.23996% |
+------------+---------+-------------------------------------+
| 256 | 256 | 0.07744% |
+------------+---------+-------------------------------------+
| 512 | 256 | 1.24851% |
+------------+---------+-------------------------------------+
| 1024 | 256 | -0.23852% |
+------------+---------+-------------------------------------+
| 1518 | 256 | 0.28239% |
+------------+---------+-------------------------------------+
Ubuntu 18.04 ARM
Kernel: 4.15.0-132-generic
Compiler: gcc 7.5
NIC: Arm Mellanox ConnectX-5 10000 Mbps
Target: x86_64-native-linuxapp-gcc
Fail/Total: 0/4
Detail performance results:
+------------+---------+-------------------------------------+
| frame_size | txd/rxd | throughput difference from expected |
+============+=========+=====================================+
| 64 | 128 | -2.59577% |
+------------+---------+-------------------------------------+
| 64 | 256 | -3.2804% |
+------------+---------+-------------------------------------+
| 64 | 512 | -2.73195% |
+------------+---------+-------------------------------------+
| 64 | 2048 | -3.35766% |
+------------+---------+-------------------------------------+
Ubuntu 18.04
Kernel: 4.15.0-generic
Compiler: gcc 7.4
NIC: Mellanox ConnectX-4 Lx 25000 Mbps
Target: x86_64-native-linuxapp-gcc
Fail/Total: 0/6
Detail performance results:
+------------+---------+-------------------------------------+
| frame_size | txd/rxd | throughput difference from expected |
+============+=========+=====================================+
| 64 | 256 | 1.04331% |
+------------+---------+-------------------------------------+
| 128 | 256 | 0.11413% |
+------------+---------+-------------------------------------+
| 256 | 256 | 1.17009% |
+------------+---------+-------------------------------------+
| 512 | 256 | -0.23026% |
+------------+---------+-------------------------------------+
| 1024 | 256 | -0.01674% |
+------------+---------+-------------------------------------+
| 1518 | 256 | 0.3701% |
+------------+---------+-------------------------------------+
Ubuntu 18.04
Kernel: 4.15.0-generic
Compiler: gcc 7.4
NIC: Mellanox ConnectX-4 Lx 40000 Mbps
Target: x86_64-native-linuxapp-gcc
Fail/Total: 0/6
Detail performance results:
+------------+---------+-------------------------------------+
| frame_size | txd/rxd | throughput difference from expected |
+============+=========+=====================================+
| 64 | 256 | -0.60224% |
+------------+---------+-------------------------------------+
| 128 | 256 | 1.26469% |
+------------+---------+-------------------------------------+
| 256 | 256 | 0.23406% |
+------------+---------+-------------------------------------+
| 512 | 256 | 0.08526% |
+------------+---------+-------------------------------------+
| 1024 | 256 | 0.02088% |
+------------+---------+-------------------------------------+
| 1518 | 256 | -0.27684% |
+------------+---------+-------------------------------------+
To view detailed results, visit:
https://lab.dpdk.org/results/dashboard/patchsets/15786/
UNH-IOL DPDK Community Lab
To manage your email subscriptions, visit:
https://lab.dpdk.org/results/dashboard/preferences/subscriptions/
^ permalink raw reply [flat|nested] 6+ messages in thread
* [dpdk-test-report] |SUCCESS| pw88413 [PATCH] [v2] net/ice: fix wrong RSS hash update
@ 2021-03-03 9:25 dpdklab
0 siblings, 0 replies; 6+ messages in thread
From: dpdklab @ 2021-03-03 9:25 UTC (permalink / raw)
To: Test Report; +Cc: dpdk-test-reports
[-- Attachment #1: Type: text/plain, Size: 2579 bytes --]
Test-Label: iol-intel-Performance
Test-Status: SUCCESS
http://dpdk.org/patch/88413
_Performance Testing PASS_
Submitter: Wenjun Wu <wenjun1.wu@intel.com>
Date: Wednesday, March 03 2021 07:56:48
DPDK git baseline: Repo:dpdk
Branch: master
CommitID:e79b0efd989a077d0193e7dbf47f966f65d0c9dc
88413 --> performance testing pass
Test environment and result as below:
Ubuntu 18.04
Kernel: 4.15.0-generic
Compiler: gcc 7.4
NIC: Intel Corporation Ethernet Converged Network Adapter 82599ES 10000 Mbps
Target: x86_64-native-linuxapp-gcc
Fail/Total: 0/2
Detail performance results:
+------------+---------+-------------------------------------+
| frame_size | txd/rxd | throughput difference from expected |
+============+=========+=====================================+
| 64 | 512 | 3.57175% |
+------------+---------+-------------------------------------+
| 64 | 2048 | 1.92766% |
+------------+---------+-------------------------------------+
Ubuntu 18.04
Kernel: 4.15.0-generic
Compiler: gcc 7.4
NIC: Intel Corporation Ethernet Converged Network Adapter XL710-QDA2 40000 Mbps
Target: x86_64-native-linuxapp-gcc
Fail/Total: 0/2
Detail performance results:
+------------+---------+-------------------------------------+
| frame_size | txd/rxd | throughput difference from expected |
+============+=========+=====================================+
| 64 | 512 | 5.80576% |
+------------+---------+-------------------------------------+
| 64 | 2048 | 4.52947% |
+------------+---------+-------------------------------------+
Ubuntu 18.04 ARM
Kernel: 4.15.0-132-generic
Compiler: gcc 7.5
NIC: Arm Intel Corporation Ethernet Converged Network Adapter XL710-QDA2 40000 Mbps
Target: x86_64-native-linuxapp-gcc
Fail/Total: 0/2
Detail performance results:
+------------+---------+-------------------------------------+
| frame_size | txd/rxd | throughput difference from expected |
+============+=========+=====================================+
| 64 | 512 | -2.3035% |
+------------+---------+-------------------------------------+
| 64 | 2048 | -1.79791% |
+------------+---------+-------------------------------------+
To view detailed results, visit:
https://lab.dpdk.org/results/dashboard/patchsets/15786/
UNH-IOL DPDK Community Lab
To manage your email subscriptions, visit:
https://lab.dpdk.org/results/dashboard/preferences/subscriptions/
^ permalink raw reply [flat|nested] 6+ messages in thread
[parent not found: <20210303075648.12399-1-wenjun1.wu@intel.com>]
end of thread, other threads:[~2021-03-03 12:54 UTC | newest]
Thread overview: 6+ messages (download: mbox.gz / follow: Atom feed)
-- links below jump to the message on this page --
2021-03-03 9:40 [dpdk-test-report] |SUCCESS| pw88413 [PATCH] [v2] net/ice: fix wrong RSS hash update dpdklab
-- strict thread matches above, loose matches on Subject: below --
2021-03-03 12:54 dpdklab
2021-03-03 12:54 dpdklab
2021-03-03 9:29 dpdklab
2021-03-03 9:25 dpdklab
[not found] <20210303075648.12399-1-wenjun1.wu@intel.com>
2021-03-03 8:12 ` [dpdk-test-report] |SUCCESS| pw88413 [PATCH v2] " checkpatch
This is a public inbox, see mirroring instructions
for how to clone and mirror all data and code used for this inbox;
as well as URLs for NNTP newsgroup(s).