* [dpdk-test-report] |SUCCESS| pw88496-88498 [PATCH] [v2, 4/4] net/txgbe: fix the process of adding crypto SA
@ 2021-03-05 3:48 dpdklab
0 siblings, 0 replies; 4+ messages in thread
From: dpdklab @ 2021-03-05 3:48 UTC (permalink / raw)
To: Test Report; +Cc: dpdk-test-reports
[-- Attachment #1: Type: text/plain, Size: 2585 bytes --]
Test-Label: iol-intel-Performance
Test-Status: SUCCESS
http://dpdk.org/patch/88498
_Performance Testing PASS_
Submitter: Jiawen Wu <jiawenwu@trustnetic.com>
Date: Friday, March 05 2021 02:14:38
DPDK git baseline: Repo:dpdk
Branch: master
CommitID:2a2ebeab9e3309ab332baefdbcc1caa7e62ecc82
88496-88498 --> performance testing pass
Test environment and result as below:
Ubuntu 18.04
Kernel: 4.15.0-generic
Compiler: gcc 7.4
NIC: Intel Corporation Ethernet Converged Network Adapter 82599ES 10000 Mbps
Target: x86_64-native-linuxapp-gcc
Fail/Total: 0/2
Detail performance results:
+------------+---------+-------------------------------------+
| frame_size | txd/rxd | throughput difference from expected |
+============+=========+=====================================+
| 64 | 512 | 3.37018% |
+------------+---------+-------------------------------------+
| 64 | 2048 | 2.37295% |
+------------+---------+-------------------------------------+
Ubuntu 18.04
Kernel: 4.15.0-generic
Compiler: gcc 7.4
NIC: Intel Corporation Ethernet Converged Network Adapter XL710-QDA2 40000 Mbps
Target: x86_64-native-linuxapp-gcc
Fail/Total: 0/2
Detail performance results:
+------------+---------+-------------------------------------+
| frame_size | txd/rxd | throughput difference from expected |
+============+=========+=====================================+
| 64 | 512 | 5.78778% |
+------------+---------+-------------------------------------+
| 64 | 2048 | 4.50702% |
+------------+---------+-------------------------------------+
Ubuntu 18.04 ARM
Kernel: 4.15.0-132-generic
Compiler: gcc 7.5
NIC: Arm Intel Corporation Ethernet Converged Network Adapter XL710-QDA2 40000 Mbps
Target: x86_64-native-linuxapp-gcc
Fail/Total: 0/2
Detail performance results:
+------------+---------+-------------------------------------+
| frame_size | txd/rxd | throughput difference from expected |
+============+=========+=====================================+
| 64 | 512 | -2.77817% |
+------------+---------+-------------------------------------+
| 64 | 2048 | -2.31359% |
+------------+---------+-------------------------------------+
To view detailed results, visit:
https://lab.dpdk.org/results/dashboard/patchsets/15805/
UNH-IOL DPDK Community Lab
To manage your email subscriptions, visit:
https://lab.dpdk.org/results/dashboard/preferences/subscriptions/
^ permalink raw reply [flat|nested] 4+ messages in thread
* [dpdk-test-report] |SUCCESS| pw88496-88498 [PATCH] [v2, 4/4] net/txgbe: fix the process of adding crypto SA
@ 2021-03-05 4:47 dpdklab
0 siblings, 0 replies; 4+ messages in thread
From: dpdklab @ 2021-03-05 4:47 UTC (permalink / raw)
To: Test Report; +Cc: dpdk-test-reports
[-- Attachment #1: Type: text/plain, Size: 3909 bytes --]
Test-Label: iol-testing
Test-Status: SUCCESS
http://dpdk.org/patch/88498
_Testing PASS_
Submitter: Jiawen Wu <jiawenwu@trustnetic.com>
Date: Friday, March 05 2021 02:14:38
DPDK git baseline: Repo:dpdk
Branch: master
CommitID:2a2ebeab9e3309ab332baefdbcc1caa7e62ecc82
88496-88498 --> testing pass
Test environment and result as below:
+---------------------+----------------------+--------------------+----------------+-------------------+
| Environment | dpdk_mingw64_compile | dpdk_meson_compile | dpdk_unit_test | dpdk_compile_spdk |
+=====================+======================+====================+================+===================+
| Windows Server 2019 | PASS | PASS | SKIPPED | SKIPPED |
+---------------------+----------------------+--------------------+----------------+-------------------+
| FreeBSD 11.2 | SKIPPED | PASS | SKIPPED | SKIPPED |
+---------------------+----------------------+--------------------+----------------+-------------------+
| Ubuntu 18.04 | SKIPPED | PASS | PASS | PASS |
+---------------------+----------------------+--------------------+----------------+-------------------+
| CentOS 8 | SKIPPED | PASS | SKIPPED | SKIPPED |
+---------------------+----------------------+--------------------+----------------+-------------------+
| RHEL 7 | SKIPPED | PASS | SKIPPED | SKIPPED |
+---------------------+----------------------+--------------------+----------------+-------------------+
| openSUSE Leap 15 | SKIPPED | PASS | SKIPPED | SKIPPED |
+---------------------+----------------------+--------------------+----------------+-------------------+
| Fedora 32 | SKIPPED | PASS | SKIPPED | SKIPPED |
+---------------------+----------------------+--------------------+----------------+-------------------+
| RHEL8 | SKIPPED | PASS | SKIPPED | SKIPPED |
+---------------------+----------------------+--------------------+----------------+-------------------+
| Arch Linux | SKIPPED | PASS | SKIPPED | SKIPPED |
+---------------------+----------------------+--------------------+----------------+-------------------+
| Fedora 31 | SKIPPED | PASS | SKIPPED | PASS |
+---------------------+----------------------+--------------------+----------------+-------------------+
| Ubuntu 18.04 ARM | SKIPPED | PASS | PASS | SKIPPED |
+---------------------+----------------------+--------------------+----------------+-------------------+
Windows Server 2019
Kernel: 10.0
Compiler: clang 9.0 and gcc 8.1.0 (MinGW)
FreeBSD 11.2
Kernel: 11.2
Compiler: gcc 8.3
Ubuntu 18.04
Kernel: 4.15.0-generic
Compiler: gcc 7.5
CentOS 8
Kernel: 4.18.0.el8_0
Compiler: gcc 8.3.1
RHEL 7
Kernel: 4.18.0-240.10.1.el8_3.x86_64
Compiler: gcc 4.8.5 20150623 (Red Hat 4.8.5-44)
openSUSE Leap 15
Kernel: 4.12.14
Compiler: gcc 7.4.1
Fedora 32
Kernel: 4.18.0-240.10.1.el8_3.x86_64
Compiler: gcc 10.2.1
RHEL8
Kernel: 4.18.0-240.10.1.el8_3.x86_64
Compiler: gcc 8.3.1 20191121 (Red Hat 8.3.1-5)
Arch Linux
Kernel: latest
Compiler: gcc latest
Fedora 31
Kernel: 5.3.16
Compiler: gcc 9.2.1
Ubuntu 18.04 ARM
Kernel: 5.4.0-53-generic
Compiler: gcc 9.3
To view detailed results, visit:
https://lab.dpdk.org/results/dashboard/patchsets/15805/
UNH-IOL DPDK Community Lab
To manage your email subscriptions, visit:
https://lab.dpdk.org/results/dashboard/preferences/subscriptions/
^ permalink raw reply [flat|nested] 4+ messages in thread
* [dpdk-test-report] |SUCCESS| pw88496-88498 [PATCH] [v2, 4/4] net/txgbe: fix the process of adding crypto SA
@ 2021-03-05 3:38 dpdklab
0 siblings, 0 replies; 4+ messages in thread
From: dpdklab @ 2021-03-05 3:38 UTC (permalink / raw)
To: Ali Alnubani, Test Report; +Cc: dpdk-test-reports
[-- Attachment #1: Type: text/plain, Size: 4843 bytes --]
Test-Label: iol-mellanox-Performance
Test-Status: SUCCESS
http://dpdk.org/patch/88498
_Performance Testing PASS_
Submitter: Jiawen Wu <jiawenwu@trustnetic.com>
Date: Friday, March 05 2021 02:14:38
DPDK git baseline: Repo:dpdk
Branch: master
CommitID:2a2ebeab9e3309ab332baefdbcc1caa7e62ecc82
88496-88498 --> performance testing pass
Test environment and result as below:
Ubuntu 18.04
Kernel: 4.15.0-generic
Compiler: gcc 7.4
NIC: Mellanox ConnectX-5 100000 Mbps
Target: x86_64-native-linuxapp-gcc
Fail/Total: 0/6
Detail performance results:
+------------+---------+-------------------------------------+
| frame_size | txd/rxd | throughput difference from expected |
+============+=========+=====================================+
| 64 | 256 | -0.41508% |
+------------+---------+-------------------------------------+
| 128 | 256 | 0.22186% |
+------------+---------+-------------------------------------+
| 256 | 256 | -0.43018% |
+------------+---------+-------------------------------------+
| 512 | 256 | -0.22435% |
+------------+---------+-------------------------------------+
| 1024 | 256 | -1.45074% |
+------------+---------+-------------------------------------+
| 1518 | 256 | -0.42293% |
+------------+---------+-------------------------------------+
Ubuntu 18.04
Kernel: 4.15.0-generic
Compiler: gcc 7.4
NIC: Mellanox ConnectX-4 Lx 25000 Mbps
Target: x86_64-native-linuxapp-gcc
Fail/Total: 0/6
Detail performance results:
+------------+---------+-------------------------------------+
| frame_size | txd/rxd | throughput difference from expected |
+============+=========+=====================================+
| 64 | 256 | 0.28757% |
+------------+---------+-------------------------------------+
| 128 | 256 | 0.02765% |
+------------+---------+-------------------------------------+
| 256 | 256 | -0.56397% |
+------------+---------+-------------------------------------+
| 512 | 256 | 1.08705% |
+------------+---------+-------------------------------------+
| 1024 | 256 | -0.3834% |
+------------+---------+-------------------------------------+
| 1518 | 256 | -0.19695% |
+------------+---------+-------------------------------------+
Ubuntu 18.04
Kernel: 4.15.0-generic
Compiler: gcc 7.4
NIC: Mellanox ConnectX-4 Lx 40000 Mbps
Target: x86_64-native-linuxapp-gcc
Fail/Total: 0/6
Detail performance results:
+------------+---------+-------------------------------------+
| frame_size | txd/rxd | throughput difference from expected |
+============+=========+=====================================+
| 64 | 256 | -1.07212% |
+------------+---------+-------------------------------------+
| 128 | 256 | 0.53565% |
+------------+---------+-------------------------------------+
| 256 | 256 | -0.24787% |
+------------+---------+-------------------------------------+
| 512 | 256 | 0.19735% |
+------------+---------+-------------------------------------+
| 1024 | 256 | 0.12548% |
+------------+---------+-------------------------------------+
| 1518 | 256 | -0.15385% |
+------------+---------+-------------------------------------+
Ubuntu 18.04 ARM
Kernel: 4.15.0-132-generic
Compiler: gcc 7.5
NIC: Arm Mellanox ConnectX-5 10000 Mbps
Target: x86_64-native-linuxapp-gcc
Fail/Total: 0/4
Detail performance results:
+------------+---------+-------------------------------------+
| frame_size | txd/rxd | throughput difference from expected |
+============+=========+=====================================+
| 64 | 128 | -2.77371% |
+------------+---------+-------------------------------------+
| 64 | 256 | -3.14459% |
+------------+---------+-------------------------------------+
| 64 | 512 | -2.70043% |
+------------+---------+-------------------------------------+
| 64 | 2048 | -3.32638% |
+------------+---------+-------------------------------------+
To view detailed results, visit:
https://lab.dpdk.org/results/dashboard/patchsets/15805/
UNH-IOL DPDK Community Lab
To manage your email subscriptions, visit:
https://lab.dpdk.org/results/dashboard/preferences/subscriptions/
^ permalink raw reply [flat|nested] 4+ messages in thread
* [dpdk-test-report] |SUCCESS| pw88496-88498 [PATCH] [v2, 4/4] net/txgbe: fix the process of adding crypto SA
@ 2021-03-05 3:28 dpdklab
0 siblings, 0 replies; 4+ messages in thread
From: dpdklab @ 2021-03-05 3:28 UTC (permalink / raw)
To: Ali Alnubani, Test Report; +Cc: dpdk-test-reports
[-- Attachment #1: Type: text/plain, Size: 760 bytes --]
Test-Label: iol-mellanox-Functional
Test-Status: SUCCESS
http://dpdk.org/patch/88498
_Functional Testing PASS_
Submitter: Jiawen Wu <jiawenwu@trustnetic.com>
Date: Friday, March 05 2021 02:14:38
DPDK git baseline: Repo:dpdk
Branch: master
CommitID:2a2ebeab9e3309ab332baefdbcc1caa7e62ecc82
88496-88498 --> functional testing pass
Test environment and result as below:
Ubuntu 18.04 ARM
Kernel: 4.15.0-132-generic
Compiler: gcc 7.5
NIC: Arm Mellanox ConnectX-5 10000 Mbps
Target: x86_64-native-linuxapp-gcc
Fail/Total: 0/4
To view detailed results, visit:
https://lab.dpdk.org/results/dashboard/patchsets/15805/
UNH-IOL DPDK Community Lab
To manage your email subscriptions, visit:
https://lab.dpdk.org/results/dashboard/preferences/subscriptions/
^ permalink raw reply [flat|nested] 4+ messages in thread
end of thread, other threads:[~2021-03-05 4:47 UTC | newest]
Thread overview: 4+ messages (download: mbox.gz / follow: Atom feed)
-- links below jump to the message on this page --
2021-03-05 3:48 [dpdk-test-report] |SUCCESS| pw88496-88498 [PATCH] [v2, 4/4] net/txgbe: fix the process of adding crypto SA dpdklab
-- strict thread matches above, loose matches on Subject: below --
2021-03-05 4:47 dpdklab
2021-03-05 3:38 dpdklab
2021-03-05 3:28 dpdklab
This is a public inbox, see mirroring instructions
for how to clone and mirror all data and code used for this inbox;
as well as URLs for NNTP newsgroup(s).