* [dpdk-test-report] |SUCCESS| pw89855-89858 [PATCH] [v2, 4/4] telemetry: move init function to internal header
@ 2021-03-25 17:14 dpdklab
0 siblings, 0 replies; 7+ messages in thread
From: dpdklab @ 2021-03-25 17:14 UTC (permalink / raw)
To: Test Report; +Cc: dpdk-test-reports
[-- Attachment #1: Type: text/plain, Size: 933 bytes --]
Test-Label: iol-abi-testing
Test-Status: SUCCESS
http://dpdk.org/patch/89858
_Testing PASS_
Submitter: Bruce Richardson <bruce.richardson@intel.com>
Date: Thursday, March 25 2021 13:57:07
DPDK git baseline: Repo:dpdk
Branch: master
CommitID:4db9587bbf726a658807089e0af162208e9bd2ee
89855-89858 --> testing pass
Test environment and result as below:
+------------------+----------+
| Environment | abi_test |
+==================+==========+
| Ubuntu 18.04 | PASS |
+------------------+----------+
| Ubuntu 18.04 ARM | PASS |
+------------------+----------+
Ubuntu 18.04
Kernel: 4.15.0-generic
Compiler: gcc 7.5
Ubuntu 18.04 ARM
Kernel: 5.4.0-53-generic
Compiler: gcc 9.3
To view detailed results, visit:
https://lab.dpdk.org/results/dashboard/patchsets/16128/
UNH-IOL DPDK Community Lab
To manage your email subscriptions, visit:
https://lab.dpdk.org/results/dashboard/preferences/subscriptions/
^ permalink raw reply [flat|nested] 7+ messages in thread
* [dpdk-test-report] |SUCCESS| pw89855-89858 [PATCH] [v2, 4/4] telemetry: move init function to internal header
@ 2021-03-25 22:49 dpdklab
0 siblings, 0 replies; 7+ messages in thread
From: dpdklab @ 2021-03-25 22:49 UTC (permalink / raw)
To: Ali Alnubani, Test Report; +Cc: dpdk-test-reports
[-- Attachment #1: Type: text/plain, Size: 3978 bytes --]
Test-Label: iol-mellanox-Performance
Test-Status: SUCCESS
http://dpdk.org/patch/89858
_Performance Testing PASS_
Submitter: Bruce Richardson <bruce.richardson@intel.com>
Date: Thursday, March 25 2021 13:57:07
DPDK git baseline: Repo:dpdk
Branch: master
CommitID:4db9587bbf726a658807089e0af162208e9bd2ee
89855-89858 --> performance testing pass
Test environment and result as below:
Ubuntu 18.04
Kernel: 4.15.0-generic
Compiler: gcc 7.4
NIC: Mellanox ConnectX-5 100000 Mbps
Target: x86_64-native-linuxapp-gcc
Fail/Total: 0/6
Detail performance results:
+------------+---------+-------------------------------------+
| frame_size | txd/rxd | throughput difference from expected |
+============+=========+=====================================+
| 64 | 256 | -0.00162% |
+------------+---------+-------------------------------------+
| 128 | 256 | 0.07203% |
+------------+---------+-------------------------------------+
| 256 | 256 | -0.42967% |
+------------+---------+-------------------------------------+
| 512 | 256 | -0.78511% |
+------------+---------+-------------------------------------+
| 1024 | 256 | -0.58334% |
+------------+---------+-------------------------------------+
| 1518 | 256 | 0.11786% |
+------------+---------+-------------------------------------+
Ubuntu 18.04
Kernel: 4.15.0-generic
Compiler: gcc 7.4
NIC: Mellanox ConnectX-4 Lx 25000 Mbps
Target: x86_64-native-linuxapp-gcc
Fail/Total: 0/6
Detail performance results:
+------------+---------+-------------------------------------+
| frame_size | txd/rxd | throughput difference from expected |
+============+=========+=====================================+
| 64 | 256 | -0.16543% |
+------------+---------+-------------------------------------+
| 128 | 256 | 0.01036% |
+------------+---------+-------------------------------------+
| 256 | 256 | -0.12889% |
+------------+---------+-------------------------------------+
| 512 | 256 | 0.72177% |
+------------+---------+-------------------------------------+
| 1024 | 256 | -0.20053% |
+------------+---------+-------------------------------------+
| 1518 | 256 | -0.0986% |
+------------+---------+-------------------------------------+
Ubuntu 18.04
Kernel: 4.15.0-generic
Compiler: gcc 7.4
NIC: Mellanox ConnectX-4 Lx 40000 Mbps
Target: x86_64-native-linuxapp-gcc
Fail/Total: 0/6
Detail performance results:
+------------+---------+-------------------------------------+
| frame_size | txd/rxd | throughput difference from expected |
+============+=========+=====================================+
| 64 | 256 | -0.02286% |
+------------+---------+-------------------------------------+
| 128 | 256 | 1.72191% |
+------------+---------+-------------------------------------+
| 256 | 256 | -0.1824% |
+------------+---------+-------------------------------------+
| 512 | 256 | -0.20218% |
+------------+---------+-------------------------------------+
| 1024 | 256 | -0.19841% |
+------------+---------+-------------------------------------+
| 1518 | 256 | -0.12327% |
+------------+---------+-------------------------------------+
To view detailed results, visit:
https://lab.dpdk.org/results/dashboard/patchsets/16128/
UNH-IOL DPDK Community Lab
To manage your email subscriptions, visit:
https://lab.dpdk.org/results/dashboard/preferences/subscriptions/
^ permalink raw reply [flat|nested] 7+ messages in thread
* [dpdk-test-report] |SUCCESS| pw89855-89858 [PATCH] [v2, 4/4] telemetry: move init function to internal header
@ 2021-03-25 22:10 dpdklab
0 siblings, 0 replies; 7+ messages in thread
From: dpdklab @ 2021-03-25 22:10 UTC (permalink / raw)
To: Ali Alnubani, Test Report; +Cc: dpdk-test-reports
[-- Attachment #1: Type: text/plain, Size: 3978 bytes --]
Test-Label: iol-mellanox-Performance
Test-Status: SUCCESS
http://dpdk.org/patch/89858
_Performance Testing PASS_
Submitter: Bruce Richardson <bruce.richardson@intel.com>
Date: Thursday, March 25 2021 13:57:07
DPDK git baseline: Repo:dpdk
Branch: master
CommitID:4db9587bbf726a658807089e0af162208e9bd2ee
89855-89858 --> performance testing pass
Test environment and result as below:
Ubuntu 18.04
Kernel: 4.15.0-generic
Compiler: gcc 7.4
NIC: Mellanox ConnectX-5 100000 Mbps
Target: x86_64-native-linuxapp-gcc
Fail/Total: 0/6
Detail performance results:
+------------+---------+-------------------------------------+
| frame_size | txd/rxd | throughput difference from expected |
+============+=========+=====================================+
| 64 | 256 | 0.05515% |
+------------+---------+-------------------------------------+
| 128 | 256 | 0.19763% |
+------------+---------+-------------------------------------+
| 256 | 256 | -0.5936% |
+------------+---------+-------------------------------------+
| 512 | 256 | 0.73659% |
+------------+---------+-------------------------------------+
| 1024 | 256 | 1.45835% |
+------------+---------+-------------------------------------+
| 1518 | 256 | -0.07071% |
+------------+---------+-------------------------------------+
Ubuntu 18.04
Kernel: 4.15.0-generic
Compiler: gcc 7.4
NIC: Mellanox ConnectX-4 Lx 25000 Mbps
Target: x86_64-native-linuxapp-gcc
Fail/Total: 0/6
Detail performance results:
+------------+---------+-------------------------------------+
| frame_size | txd/rxd | throughput difference from expected |
+============+=========+=====================================+
| 64 | 256 | -0.41071% |
+------------+---------+-------------------------------------+
| 128 | 256 | 0.13465% |
+------------+---------+-------------------------------------+
| 256 | 256 | -1.43757% |
+------------+---------+-------------------------------------+
| 512 | 256 | 0.28355% |
+------------+---------+-------------------------------------+
| 1024 | 256 | -0.01671% |
+------------+---------+-------------------------------------+
| 1518 | 256 | 0.14789% |
+------------+---------+-------------------------------------+
Ubuntu 18.04
Kernel: 4.15.0-generic
Compiler: gcc 7.4
NIC: Mellanox ConnectX-4 Lx 40000 Mbps
Target: x86_64-native-linuxapp-gcc
Fail/Total: 0/6
Detail performance results:
+------------+---------+-------------------------------------+
| frame_size | txd/rxd | throughput difference from expected |
+============+=========+=====================================+
| 64 | 256 | 0.71725% |
+------------+---------+-------------------------------------+
| 128 | 256 | 0.65254% |
+------------+---------+-------------------------------------+
| 256 | 256 | 0.0% |
+------------+---------+-------------------------------------+
| 512 | 256 | -0.12237% |
+------------+---------+-------------------------------------+
| 1024 | 256 | -0.17753% |
+------------+---------+-------------------------------------+
| 1518 | 256 | 0.12327% |
+------------+---------+-------------------------------------+
To view detailed results, visit:
https://lab.dpdk.org/results/dashboard/patchsets/16128/
UNH-IOL DPDK Community Lab
To manage your email subscriptions, visit:
https://lab.dpdk.org/results/dashboard/preferences/subscriptions/
^ permalink raw reply [flat|nested] 7+ messages in thread
* [dpdk-test-report] |SUCCESS| pw89855-89858 [PATCH] [v2, 4/4] telemetry: move init function to internal header
@ 2021-03-25 20:29 dpdklab
0 siblings, 0 replies; 7+ messages in thread
From: dpdklab @ 2021-03-25 20:29 UTC (permalink / raw)
To: Test Report; +Cc: dpdk-test-reports
[-- Attachment #1: Type: text/plain, Size: 4252 bytes --]
Test-Label: iol-testing
Test-Status: SUCCESS
http://dpdk.org/patch/89858
_Testing PASS_
Submitter: Bruce Richardson <bruce.richardson@intel.com>
Date: Thursday, March 25 2021 13:57:07
DPDK git baseline: Repo:dpdk
Branch: master
CommitID:4db9587bbf726a658807089e0af162208e9bd2ee
89855-89858 --> testing pass
Test environment and result as below:
+---------------------+----------------------+--------------------+-------------------+----------------+
| Environment | dpdk_mingw64_compile | dpdk_meson_compile | dpdk_compile_spdk | dpdk_unit_test |
+=====================+======================+====================+===================+================+
| Windows Server 2019 | PASS | PASS | SKIPPED | SKIPPED |
+---------------------+----------------------+--------------------+-------------------+----------------+
| Fedora 32 | SKIPPED | PASS | SKIPPED | SKIPPED |
+---------------------+----------------------+--------------------+-------------------+----------------+
| CentOS Stream 8 | SKIPPED | PASS | SKIPPED | SKIPPED |
+---------------------+----------------------+--------------------+-------------------+----------------+
| Ubuntu 20.04 | SKIPPED | PASS | SKIPPED | SKIPPED |
+---------------------+----------------------+--------------------+-------------------+----------------+
| FreeBSD 11.2 | SKIPPED | PASS | SKIPPED | SKIPPED |
+---------------------+----------------------+--------------------+-------------------+----------------+
| RHEL 7 | SKIPPED | PASS | SKIPPED | SKIPPED |
+---------------------+----------------------+--------------------+-------------------+----------------+
| RHEL8 | SKIPPED | PASS | SKIPPED | SKIPPED |
+---------------------+----------------------+--------------------+-------------------+----------------+
| Ubuntu 18.04 | SKIPPED | PASS | PASS | PASS |
+---------------------+----------------------+--------------------+-------------------+----------------+
| Ubuntu 18.04 ARM | SKIPPED | PASS | SKIPPED | PASS |
+---------------------+----------------------+--------------------+-------------------+----------------+
| openSUSE Leap 15 | SKIPPED | PASS | SKIPPED | SKIPPED |
+---------------------+----------------------+--------------------+-------------------+----------------+
| Fedora 31 | SKIPPED | PASS | PASS | SKIPPED |
+---------------------+----------------------+--------------------+-------------------+----------------+
| Arch Linux | SKIPPED | PASS | SKIPPED | SKIPPED |
+---------------------+----------------------+--------------------+-------------------+----------------+
Windows Server 2019
Kernel: 10.0
Compiler: clang 9.0 and gcc 8.1.0 (MinGW)
Fedora 32
Kernel: 4.18.0-240.10.1.el8_3.x86_64
Compiler: gcc 10.2.1
CentOS Stream 8
Kernel: 4.18.0-240.10.1.el8_3.x86_64
Compiler: gcc 8.4.1 20200928
Ubuntu 20.04
Kernel: 4.18.0-240.10.1.el8_3.x86_64
Compiler: gcc 9.3.0-17ubuntu1~20.04
FreeBSD 11.2
Kernel: 11.2
Compiler: gcc 8.3
RHEL 7
Kernel: 4.18.0-240.10.1.el8_3.x86_64
Compiler: gcc 4.8.5 20150623 (Red Hat 4.8.5-44)
RHEL8
Kernel: 4.18.0-240.10.1.el8_3.x86_64
Compiler: gcc 8.3.1 20191121 (Red Hat 8.3.1-5)
Ubuntu 18.04
Kernel: 4.15.0-generic
Compiler: gcc 7.5
Ubuntu 18.04 ARM
Kernel: 5.4.0-53-generic
Compiler: gcc 9.3
openSUSE Leap 15
Kernel: 4.12.14
Compiler: gcc 7.4.1
Fedora 31
Kernel: 5.3.16
Compiler: gcc 9.2.1
Arch Linux
Kernel: latest
Compiler: gcc latest
To view detailed results, visit:
https://lab.dpdk.org/results/dashboard/patchsets/16128/
UNH-IOL DPDK Community Lab
To manage your email subscriptions, visit:
https://lab.dpdk.org/results/dashboard/preferences/subscriptions/
^ permalink raw reply [flat|nested] 7+ messages in thread
* [dpdk-test-report] |SUCCESS| pw89855-89858 [PATCH] [v2, 4/4] telemetry: move init function to internal header
@ 2021-03-25 18:15 dpdklab
0 siblings, 0 replies; 7+ messages in thread
From: dpdklab @ 2021-03-25 18:15 UTC (permalink / raw)
To: Test Report; +Cc: dpdk-test-reports
[-- Attachment #1: Type: text/plain, Size: 1928 bytes --]
Test-Label: iol-intel-Performance
Test-Status: SUCCESS
http://dpdk.org/patch/89858
_Performance Testing PASS_
Submitter: Bruce Richardson <bruce.richardson@intel.com>
Date: Thursday, March 25 2021 13:57:07
DPDK git baseline: Repo:dpdk
Branch: master
CommitID:4db9587bbf726a658807089e0af162208e9bd2ee
89855-89858 --> performance testing pass
Test environment and result as below:
Ubuntu 18.04
Kernel: 4.15.0-generic
Compiler: gcc 7.4
NIC: Intel Corporation Ethernet Converged Network Adapter 82599ES 10000 Mbps
Target: x86_64-native-linuxapp-gcc
Fail/Total: 0/2
Detail performance results:
+------------+---------+-------------------------------------+
| frame_size | txd/rxd | throughput difference from expected |
+============+=========+=====================================+
| 64 | 512 | 3.3362% |
+------------+---------+-------------------------------------+
| 64 | 2048 | 2.42466% |
+------------+---------+-------------------------------------+
Ubuntu 18.04
Kernel: 4.15.0-generic
Compiler: gcc 7.4
NIC: Intel Corporation Ethernet Converged Network Adapter XL710-QDA2 40000 Mbps
Target: x86_64-native-linuxapp-gcc
Fail/Total: 0/2
Detail performance results:
+------------+---------+-------------------------------------+
| frame_size | txd/rxd | throughput difference from expected |
+============+=========+=====================================+
| 64 | 512 | 5.32444% |
+------------+---------+-------------------------------------+
| 64 | 2048 | 5.17547% |
+------------+---------+-------------------------------------+
To view detailed results, visit:
https://lab.dpdk.org/results/dashboard/patchsets/16128/
UNH-IOL DPDK Community Lab
To manage your email subscriptions, visit:
https://lab.dpdk.org/results/dashboard/preferences/subscriptions/
^ permalink raw reply [flat|nested] 7+ messages in thread
* [dpdk-test-report] |SUCCESS| pw89855-89858 [PATCH] [v2, 4/4] telemetry: move init function to internal header
@ 2021-03-25 17:30 dpdklab
0 siblings, 0 replies; 7+ messages in thread
From: dpdklab @ 2021-03-25 17:30 UTC (permalink / raw)
To: Test Report; +Cc: dpdk-test-reports
[-- Attachment #1: Type: text/plain, Size: 1928 bytes --]
Test-Label: iol-intel-Performance
Test-Status: SUCCESS
http://dpdk.org/patch/89858
_Performance Testing PASS_
Submitter: Bruce Richardson <bruce.richardson@intel.com>
Date: Thursday, March 25 2021 13:57:07
DPDK git baseline: Repo:dpdk
Branch: master
CommitID:4db9587bbf726a658807089e0af162208e9bd2ee
89855-89858 --> performance testing pass
Test environment and result as below:
Ubuntu 18.04
Kernel: 4.15.0-generic
Compiler: gcc 7.4
NIC: Intel Corporation Ethernet Converged Network Adapter 82599ES 10000 Mbps
Target: x86_64-native-linuxapp-gcc
Fail/Total: 0/2
Detail performance results:
+------------+---------+-------------------------------------+
| frame_size | txd/rxd | throughput difference from expected |
+============+=========+=====================================+
| 64 | 512 | 3.70765% |
+------------+---------+-------------------------------------+
| 64 | 2048 | 2.31262% |
+------------+---------+-------------------------------------+
Ubuntu 18.04
Kernel: 4.15.0-generic
Compiler: gcc 7.4
NIC: Intel Corporation Ethernet Converged Network Adapter XL710-QDA2 40000 Mbps
Target: x86_64-native-linuxapp-gcc
Fail/Total: 0/2
Detail performance results:
+------------+---------+-------------------------------------+
| frame_size | txd/rxd | throughput difference from expected |
+============+=========+=====================================+
| 64 | 512 | 5.34841% |
+------------+---------+-------------------------------------+
| 64 | 2048 | 5.18295% |
+------------+---------+-------------------------------------+
To view detailed results, visit:
https://lab.dpdk.org/results/dashboard/patchsets/16128/
UNH-IOL DPDK Community Lab
To manage your email subscriptions, visit:
https://lab.dpdk.org/results/dashboard/preferences/subscriptions/
^ permalink raw reply [flat|nested] 7+ messages in thread
* [dpdk-test-report] |SUCCESS| pw89855-89858 [PATCH] [v2, 4/4] telemetry: move init function to internal header
@ 2021-03-25 16:42 dpdklab
0 siblings, 0 replies; 7+ messages in thread
From: dpdklab @ 2021-03-25 16:42 UTC (permalink / raw)
To: Test Report; +Cc: dpdk-test-reports
[-- Attachment #1: Type: text/plain, Size: 933 bytes --]
Test-Label: iol-abi-testing
Test-Status: SUCCESS
http://dpdk.org/patch/89858
_Testing PASS_
Submitter: Bruce Richardson <bruce.richardson@intel.com>
Date: Thursday, March 25 2021 13:57:07
DPDK git baseline: Repo:dpdk
Branch: master
CommitID:4db9587bbf726a658807089e0af162208e9bd2ee
89855-89858 --> testing pass
Test environment and result as below:
+------------------+----------+
| Environment | abi_test |
+==================+==========+
| Ubuntu 18.04 ARM | PASS |
+------------------+----------+
| Ubuntu 18.04 | PASS |
+------------------+----------+
Ubuntu 18.04 ARM
Kernel: 5.4.0-53-generic
Compiler: gcc 9.3
Ubuntu 18.04
Kernel: 4.15.0-generic
Compiler: gcc 7.5
To view detailed results, visit:
https://lab.dpdk.org/results/dashboard/patchsets/16128/
UNH-IOL DPDK Community Lab
To manage your email subscriptions, visit:
https://lab.dpdk.org/results/dashboard/preferences/subscriptions/
^ permalink raw reply [flat|nested] 7+ messages in thread
end of thread, other threads:[~2021-03-25 22:49 UTC | newest]
Thread overview: 7+ messages (download: mbox.gz / follow: Atom feed)
-- links below jump to the message on this page --
2021-03-25 17:14 [dpdk-test-report] |SUCCESS| pw89855-89858 [PATCH] [v2, 4/4] telemetry: move init function to internal header dpdklab
-- strict thread matches above, loose matches on Subject: below --
2021-03-25 22:49 dpdklab
2021-03-25 22:10 dpdklab
2021-03-25 20:29 dpdklab
2021-03-25 18:15 dpdklab
2021-03-25 17:30 dpdklab
2021-03-25 16:42 dpdklab
This is a public inbox, see mirroring instructions
for how to clone and mirror all data and code used for this inbox;
as well as URLs for NNTP newsgroup(s).