* [dpdk-test-report] |SUCCESS| pw90167-90168 [PATCH] [v2, 2/2] net/hns3: support IEEE 1588 PTP
@ 2021-04-01 4:15 dpdklab
0 siblings, 0 replies; 8+ messages in thread
From: dpdklab @ 2021-04-01 4:15 UTC (permalink / raw)
To: Test Report; +Cc: dpdk-test-reports
[-- Attachment #1: Type: text/plain, Size: 1929 bytes --]
Test-Label: iol-intel-Performance
Test-Status: SUCCESS
http://dpdk.org/patch/90168
_Performance Testing PASS_
Submitter: Min Hu (Connor) <humin29@huawei.com>
Date: Wednesday, March 31 2021 07:01:10
DPDK git baseline: Repo:dpdk-next-net
Branch: master
CommitID:54f1e03d4828bea6386fef1b065c03d73073b59e
90167-90168 --> performance testing pass
Test environment and result as below:
Ubuntu 18.04
Kernel: 4.15.0-generic
Compiler: gcc 7.4
NIC: Intel Corporation Ethernet Converged Network Adapter 82599ES 10000 Mbps
Target: x86_64-native-linuxapp-gcc
Fail/Total: 0/2
Detail performance results:
+------------+---------+-------------------------------------+
| frame_size | txd/rxd | throughput difference from expected |
+============+=========+=====================================+
| 64 | 512 | 3.33394% |
+------------+---------+-------------------------------------+
| 64 | 2048 | 2.51372% |
+------------+---------+-------------------------------------+
Ubuntu 18.04
Kernel: 4.15.0-generic
Compiler: gcc 7.4
NIC: Intel Corporation Ethernet Converged Network Adapter XL710-QDA2 40000 Mbps
Target: x86_64-native-linuxapp-gcc
Fail/Total: 0/2
Detail performance results:
+------------+---------+-------------------------------------+
| frame_size | txd/rxd | throughput difference from expected |
+============+=========+=====================================+
| 64 | 512 | 5.88964% |
+------------+---------+-------------------------------------+
| 64 | 2048 | 4.50952% |
+------------+---------+-------------------------------------+
To view detailed results, visit:
https://lab.dpdk.org/results/dashboard/patchsets/16206/
UNH-IOL DPDK Community Lab
To manage your email subscriptions, visit:
https://lab.dpdk.org/results/dashboard/preferences/subscriptions/
^ permalink raw reply [flat|nested] 8+ messages in thread
* [dpdk-test-report] |SUCCESS| pw90167-90168 [PATCH] [v2, 2/2] net/hns3: support IEEE 1588 PTP
@ 2021-04-01 15:22 dpdklab
0 siblings, 0 replies; 8+ messages in thread
From: dpdklab @ 2021-04-01 15:22 UTC (permalink / raw)
To: Test Report; +Cc: dpdk-test-reports
[-- Attachment #1: Type: text/plain, Size: 3993 bytes --]
Test-Label: iol-testing
Test-Status: SUCCESS
http://dpdk.org/patch/90168
_Testing PASS_
Submitter: Min Hu (Connor) <humin29@huawei.com>
Date: Wednesday, March 31 2021 07:01:10
DPDK git baseline: Repo:dpdk-next-net
Branch: master
CommitID:54f1e03d4828bea6386fef1b065c03d73073b59e
90167-90168 --> testing pass
Test environment and result as below:
+---------------------+----------------------+--------------------+-------------------+----------------+
| Environment | dpdk_mingw64_compile | dpdk_meson_compile | dpdk_compile_spdk | dpdk_unit_test |
+=====================+======================+====================+===================+================+
| Windows Server 2019 | PASS | PASS | SKIPPED | SKIPPED |
+---------------------+----------------------+--------------------+-------------------+----------------+
| Fedora 32 | SKIPPED | PASS | SKIPPED | SKIPPED |
+---------------------+----------------------+--------------------+-------------------+----------------+
| CentOS Stream 8 | SKIPPED | PASS | SKIPPED | SKIPPED |
+---------------------+----------------------+--------------------+-------------------+----------------+
| Ubuntu 20.04 | SKIPPED | PASS | SKIPPED | SKIPPED |
+---------------------+----------------------+--------------------+-------------------+----------------+
| RHEL 7 | SKIPPED | PASS | SKIPPED | SKIPPED |
+---------------------+----------------------+--------------------+-------------------+----------------+
| RHEL8 | SKIPPED | PASS | SKIPPED | SKIPPED |
+---------------------+----------------------+--------------------+-------------------+----------------+
| FreeBSD 11.2 | SKIPPED | PASS | SKIPPED | SKIPPED |
+---------------------+----------------------+--------------------+-------------------+----------------+
| Ubuntu 18.04 | SKIPPED | PASS | PASS | PASS |
+---------------------+----------------------+--------------------+-------------------+----------------+
| openSUSE Leap 15 | SKIPPED | PASS | SKIPPED | SKIPPED |
+---------------------+----------------------+--------------------+-------------------+----------------+
| Fedora 31 | SKIPPED | PASS | PASS | SKIPPED |
+---------------------+----------------------+--------------------+-------------------+----------------+
| Ubuntu 18.04 ARM | SKIPPED | PASS | SKIPPED | PASS |
+---------------------+----------------------+--------------------+-------------------+----------------+
Windows Server 2019
Kernel: 10.0
Compiler: clang 9.0 and gcc 8.1.0 (MinGW)
Fedora 32
Kernel: 4.18.0-240.10.1.el8_3.x86_64
Compiler: gcc 10.2.1
CentOS Stream 8
Kernel: 4.18.0-240.10.1.el8_3.x86_64
Compiler: gcc 8.4.1 20200928
Ubuntu 20.04
Kernel: 4.18.0-240.10.1.el8_3.x86_64
Compiler: gcc 9.3.0-17ubuntu1~20.04
RHEL 7
Kernel: 4.18.0-240.10.1.el8_3.x86_64
Compiler: gcc 4.8.5 20150623 (Red Hat 4.8.5-44)
RHEL8
Kernel: 4.18.0-240.10.1.el8_3.x86_64
Compiler: gcc 8.3.1 20191121 (Red Hat 8.3.1-5)
FreeBSD 11.2
Kernel: 11.2
Compiler: gcc 8.3
Ubuntu 18.04
Kernel: 4.15.0-generic
Compiler: gcc 7.5
openSUSE Leap 15
Kernel: 4.12.14
Compiler: gcc 7.4.1
Fedora 31
Kernel: 5.3.16
Compiler: gcc 9.2.1
Ubuntu 18.04 ARM
Kernel: 5.4.0-53-generic
Compiler: gcc 9.3
To view detailed results, visit:
https://lab.dpdk.org/results/dashboard/patchsets/16206/
UNH-IOL DPDK Community Lab
To manage your email subscriptions, visit:
https://lab.dpdk.org/results/dashboard/preferences/subscriptions/
^ permalink raw reply [flat|nested] 8+ messages in thread
* [dpdk-test-report] |SUCCESS| pw90167-90168 [PATCH] [v2, 2/2] net/hns3: support IEEE 1588 PTP
@ 2021-04-01 14:13 dpdklab
0 siblings, 0 replies; 8+ messages in thread
From: dpdklab @ 2021-04-01 14:13 UTC (permalink / raw)
To: Test Report; +Cc: dpdk-test-reports
[-- Attachment #1: Type: text/plain, Size: 3993 bytes --]
Test-Label: iol-testing
Test-Status: SUCCESS
http://dpdk.org/patch/90168
_Testing PASS_
Submitter: Min Hu (Connor) <humin29@huawei.com>
Date: Wednesday, March 31 2021 07:01:10
DPDK git baseline: Repo:dpdk-next-net
Branch: master
CommitID:54f1e03d4828bea6386fef1b065c03d73073b59e
90167-90168 --> testing pass
Test environment and result as below:
+---------------------+----------------------+--------------------+-------------------+----------------+
| Environment | dpdk_mingw64_compile | dpdk_meson_compile | dpdk_compile_spdk | dpdk_unit_test |
+=====================+======================+====================+===================+================+
| Windows Server 2019 | PASS | PASS | SKIPPED | SKIPPED |
+---------------------+----------------------+--------------------+-------------------+----------------+
| Fedora 32 | SKIPPED | PASS | SKIPPED | SKIPPED |
+---------------------+----------------------+--------------------+-------------------+----------------+
| CentOS Stream 8 | SKIPPED | PASS | SKIPPED | SKIPPED |
+---------------------+----------------------+--------------------+-------------------+----------------+
| Ubuntu 20.04 | SKIPPED | PASS | SKIPPED | SKIPPED |
+---------------------+----------------------+--------------------+-------------------+----------------+
| FreeBSD 11.2 | SKIPPED | PASS | SKIPPED | SKIPPED |
+---------------------+----------------------+--------------------+-------------------+----------------+
| RHEL 7 | SKIPPED | PASS | SKIPPED | SKIPPED |
+---------------------+----------------------+--------------------+-------------------+----------------+
| RHEL8 | SKIPPED | PASS | SKIPPED | SKIPPED |
+---------------------+----------------------+--------------------+-------------------+----------------+
| Ubuntu 18.04 | SKIPPED | PASS | PASS | PASS |
+---------------------+----------------------+--------------------+-------------------+----------------+
| Ubuntu 18.04 ARM | SKIPPED | PASS | SKIPPED | PASS |
+---------------------+----------------------+--------------------+-------------------+----------------+
| openSUSE Leap 15 | SKIPPED | PASS | SKIPPED | SKIPPED |
+---------------------+----------------------+--------------------+-------------------+----------------+
| Fedora 31 | SKIPPED | PASS | PASS | SKIPPED |
+---------------------+----------------------+--------------------+-------------------+----------------+
Windows Server 2019
Kernel: 10.0
Compiler: clang 9.0 and gcc 8.1.0 (MinGW)
Fedora 32
Kernel: 4.18.0-240.10.1.el8_3.x86_64
Compiler: gcc 10.2.1
CentOS Stream 8
Kernel: 4.18.0-240.10.1.el8_3.x86_64
Compiler: gcc 8.4.1 20200928
Ubuntu 20.04
Kernel: 4.18.0-240.10.1.el8_3.x86_64
Compiler: gcc 9.3.0-17ubuntu1~20.04
FreeBSD 11.2
Kernel: 11.2
Compiler: gcc 8.3
RHEL 7
Kernel: 4.18.0-240.10.1.el8_3.x86_64
Compiler: gcc 4.8.5 20150623 (Red Hat 4.8.5-44)
RHEL8
Kernel: 4.18.0-240.10.1.el8_3.x86_64
Compiler: gcc 8.3.1 20191121 (Red Hat 8.3.1-5)
Ubuntu 18.04
Kernel: 4.15.0-generic
Compiler: gcc 7.5
Ubuntu 18.04 ARM
Kernel: 5.4.0-53-generic
Compiler: gcc 9.3
openSUSE Leap 15
Kernel: 4.12.14
Compiler: gcc 7.4.1
Fedora 31
Kernel: 5.3.16
Compiler: gcc 9.2.1
To view detailed results, visit:
https://lab.dpdk.org/results/dashboard/patchsets/16206/
UNH-IOL DPDK Community Lab
To manage your email subscriptions, visit:
https://lab.dpdk.org/results/dashboard/preferences/subscriptions/
^ permalink raw reply [flat|nested] 8+ messages in thread
* [dpdk-test-report] |SUCCESS| pw90167-90168 [PATCH] [v2, 2/2] net/hns3: support IEEE 1588 PTP
@ 2021-04-01 9:51 dpdklab
0 siblings, 0 replies; 8+ messages in thread
From: dpdklab @ 2021-04-01 9:51 UTC (permalink / raw)
To: Ali Alnubani, Test Report; +Cc: dpdk-test-reports
[-- Attachment #1: Type: text/plain, Size: 3979 bytes --]
Test-Label: iol-mellanox-Performance
Test-Status: SUCCESS
http://dpdk.org/patch/90168
_Performance Testing PASS_
Submitter: Min Hu (Connor) <humin29@huawei.com>
Date: Wednesday, March 31 2021 07:01:10
DPDK git baseline: Repo:dpdk-next-net
Branch: master
CommitID:54f1e03d4828bea6386fef1b065c03d73073b59e
90167-90168 --> performance testing pass
Test environment and result as below:
Ubuntu 18.04
Kernel: 4.15.0-generic
Compiler: gcc 7.4
NIC: Mellanox ConnectX-5 100000 Mbps
Target: x86_64-native-linuxapp-gcc
Fail/Total: 0/6
Detail performance results:
+------------+---------+-------------------------------------+
| frame_size | txd/rxd | throughput difference from expected |
+============+=========+=====================================+
| 64 | 256 | 0.33391% |
+------------+---------+-------------------------------------+
| 128 | 256 | 0.22551% |
+------------+---------+-------------------------------------+
| 256 | 256 | 0.1673% |
+------------+---------+-------------------------------------+
| 512 | 256 | -1.19511% |
+------------+---------+-------------------------------------+
| 1024 | 256 | 1.91318% |
+------------+---------+-------------------------------------+
| 1518 | 256 | 0.30657% |
+------------+---------+-------------------------------------+
Ubuntu 18.04
Kernel: 4.15.0-generic
Compiler: gcc 7.4
NIC: Mellanox ConnectX-4 Lx 25000 Mbps
Target: x86_64-native-linuxapp-gcc
Fail/Total: 0/6
Detail performance results:
+------------+---------+-------------------------------------+
| frame_size | txd/rxd | throughput difference from expected |
+============+=========+=====================================+
| 64 | 256 | 0.43426% |
+------------+---------+-------------------------------------+
| 128 | 256 | 0.36021% |
+------------+---------+-------------------------------------+
| 256 | 256 | -0.48115% |
+------------+---------+-------------------------------------+
| 512 | 256 | 0.22333% |
+------------+---------+-------------------------------------+
| 1024 | 256 | -0.0502% |
+------------+---------+-------------------------------------+
| 1518 | 256 | 0.02466% |
+------------+---------+-------------------------------------+
Ubuntu 18.04
Kernel: 4.15.0-generic
Compiler: gcc 7.4
NIC: Mellanox ConnectX-4 Lx 40000 Mbps
Target: x86_64-native-linuxapp-gcc
Fail/Total: 0/6
Detail performance results:
+------------+---------+-------------------------------------+
| frame_size | txd/rxd | throughput difference from expected |
+============+=========+=====================================+
| 64 | 256 | 0.27312% |
+------------+---------+-------------------------------------+
| 128 | 256 | -0.60275% |
+------------+---------+-------------------------------------+
| 256 | 256 | -0.04743% |
+------------+---------+-------------------------------------+
| 512 | 256 | 0.20802% |
+------------+---------+-------------------------------------+
| 1024 | 256 | 0.46049% |
+------------+---------+-------------------------------------+
| 1518 | 256 | 0.0% |
+------------+---------+-------------------------------------+
To view detailed results, visit:
https://lab.dpdk.org/results/dashboard/patchsets/16206/
UNH-IOL DPDK Community Lab
To manage your email subscriptions, visit:
https://lab.dpdk.org/results/dashboard/preferences/subscriptions/
^ permalink raw reply [flat|nested] 8+ messages in thread
* [dpdk-test-report] |SUCCESS| pw90167-90168 [PATCH] [v2, 2/2] net/hns3: support IEEE 1588 PTP
@ 2021-04-01 9:04 dpdklab
0 siblings, 0 replies; 8+ messages in thread
From: dpdklab @ 2021-04-01 9:04 UTC (permalink / raw)
To: Ali Alnubani, Test Report; +Cc: dpdk-test-reports
[-- Attachment #1: Type: text/plain, Size: 3979 bytes --]
Test-Label: iol-mellanox-Performance
Test-Status: SUCCESS
http://dpdk.org/patch/90168
_Performance Testing PASS_
Submitter: Min Hu (Connor) <humin29@huawei.com>
Date: Wednesday, March 31 2021 07:01:10
DPDK git baseline: Repo:dpdk-next-net
Branch: master
CommitID:54f1e03d4828bea6386fef1b065c03d73073b59e
90167-90168 --> performance testing pass
Test environment and result as below:
Ubuntu 18.04
Kernel: 4.15.0-generic
Compiler: gcc 7.4
NIC: Mellanox ConnectX-5 100000 Mbps
Target: x86_64-native-linuxapp-gcc
Fail/Total: 0/6
Detail performance results:
+------------+---------+-------------------------------------+
| frame_size | txd/rxd | throughput difference from expected |
+============+=========+=====================================+
| 64 | 256 | 0.63688% |
+------------+---------+-------------------------------------+
| 128 | 256 | 0.19224% |
+------------+---------+-------------------------------------+
| 256 | 256 | -0.34459% |
+------------+---------+-------------------------------------+
| 512 | 256 | 0.93839% |
+------------+---------+-------------------------------------+
| 1024 | 256 | 1.98181% |
+------------+---------+-------------------------------------+
| 1518 | 256 | 0.6603% |
+------------+---------+-------------------------------------+
Ubuntu 18.04
Kernel: 4.15.0-generic
Compiler: gcc 7.4
NIC: Mellanox ConnectX-4 Lx 25000 Mbps
Target: x86_64-native-linuxapp-gcc
Fail/Total: 0/6
Detail performance results:
+------------+---------+-------------------------------------+
| frame_size | txd/rxd | throughput difference from expected |
+============+=========+=====================================+
| 64 | 256 | 0.65996% |
+------------+---------+-------------------------------------+
| 128 | 256 | 0.30133% |
+------------+---------+-------------------------------------+
| 256 | 256 | -0.95238% |
+------------+---------+-------------------------------------+
| 512 | 256 | -0.29205% |
+------------+---------+-------------------------------------+
| 1024 | 256 | 0.16734% |
+------------+---------+-------------------------------------+
| 1518 | 256 | -0.07398% |
+------------+---------+-------------------------------------+
Ubuntu 18.04
Kernel: 4.15.0-generic
Compiler: gcc 7.4
NIC: Mellanox ConnectX-4 Lx 40000 Mbps
Target: x86_64-native-linuxapp-gcc
Fail/Total: 0/6
Detail performance results:
+------------+---------+-------------------------------------+
| frame_size | txd/rxd | throughput difference from expected |
+============+=========+=====================================+
| 64 | 256 | 0.0313% |
+------------+---------+-------------------------------------+
| 128 | 256 | 0.31423% |
+------------+---------+-------------------------------------+
| 256 | 256 | -0.08756% |
+------------+---------+-------------------------------------+
| 512 | 256 | 0.08001% |
+------------+---------+-------------------------------------+
| 1024 | 256 | 0.02093% |
+------------+---------+-------------------------------------+
| 1518 | 256 | 0.01538% |
+------------+---------+-------------------------------------+
To view detailed results, visit:
https://lab.dpdk.org/results/dashboard/patchsets/16206/
UNH-IOL DPDK Community Lab
To manage your email subscriptions, visit:
https://lab.dpdk.org/results/dashboard/preferences/subscriptions/
^ permalink raw reply [flat|nested] 8+ messages in thread
* [dpdk-test-report] |SUCCESS| pw90167-90168 [PATCH] [v2, 2/2] net/hns3: support IEEE 1588 PTP
@ 2021-04-01 7:49 dpdklab
0 siblings, 0 replies; 8+ messages in thread
From: dpdklab @ 2021-04-01 7:49 UTC (permalink / raw)
To: Test Report; +Cc: dpdk-test-reports
[-- Attachment #1: Type: text/plain, Size: 934 bytes --]
Test-Label: iol-abi-testing
Test-Status: SUCCESS
http://dpdk.org/patch/90168
_Testing PASS_
Submitter: Min Hu (Connor) <humin29@huawei.com>
Date: Wednesday, March 31 2021 07:01:10
DPDK git baseline: Repo:dpdk-next-net
Branch: master
CommitID:54f1e03d4828bea6386fef1b065c03d73073b59e
90167-90168 --> testing pass
Test environment and result as below:
+------------------+----------+
| Environment | abi_test |
+==================+==========+
| Ubuntu 18.04 ARM | PASS |
+------------------+----------+
| Ubuntu 18.04 | PASS |
+------------------+----------+
Ubuntu 18.04 ARM
Kernel: 5.4.0-53-generic
Compiler: gcc 9.3
Ubuntu 18.04
Kernel: 4.15.0-generic
Compiler: gcc 7.5
To view detailed results, visit:
https://lab.dpdk.org/results/dashboard/patchsets/16206/
UNH-IOL DPDK Community Lab
To manage your email subscriptions, visit:
https://lab.dpdk.org/results/dashboard/preferences/subscriptions/
^ permalink raw reply [flat|nested] 8+ messages in thread
* [dpdk-test-report] |SUCCESS| pw90167-90168 [PATCH] [v2, 2/2] net/hns3: support IEEE 1588 PTP
@ 2021-04-01 7:09 dpdklab
0 siblings, 0 replies; 8+ messages in thread
From: dpdklab @ 2021-04-01 7:09 UTC (permalink / raw)
To: Test Report; +Cc: dpdk-test-reports
[-- Attachment #1: Type: text/plain, Size: 934 bytes --]
Test-Label: iol-abi-testing
Test-Status: SUCCESS
http://dpdk.org/patch/90168
_Testing PASS_
Submitter: Min Hu (Connor) <humin29@huawei.com>
Date: Wednesday, March 31 2021 07:01:10
DPDK git baseline: Repo:dpdk-next-net
Branch: master
CommitID:54f1e03d4828bea6386fef1b065c03d73073b59e
90167-90168 --> testing pass
Test environment and result as below:
+------------------+----------+
| Environment | abi_test |
+==================+==========+
| Ubuntu 18.04 ARM | PASS |
+------------------+----------+
| Ubuntu 18.04 | PASS |
+------------------+----------+
Ubuntu 18.04 ARM
Kernel: 5.4.0-53-generic
Compiler: gcc 9.3
Ubuntu 18.04
Kernel: 4.15.0-generic
Compiler: gcc 7.5
To view detailed results, visit:
https://lab.dpdk.org/results/dashboard/patchsets/16206/
UNH-IOL DPDK Community Lab
To manage your email subscriptions, visit:
https://lab.dpdk.org/results/dashboard/preferences/subscriptions/
^ permalink raw reply [flat|nested] 8+ messages in thread
* [dpdk-test-report] |SUCCESS| pw90167-90168 [PATCH] [v2, 2/2] net/hns3: support IEEE 1588 PTP
@ 2021-04-01 3:36 dpdklab
0 siblings, 0 replies; 8+ messages in thread
From: dpdklab @ 2021-04-01 3:36 UTC (permalink / raw)
To: Test Report; +Cc: dpdk-test-reports
[-- Attachment #1: Type: text/plain, Size: 1929 bytes --]
Test-Label: iol-intel-Performance
Test-Status: SUCCESS
http://dpdk.org/patch/90168
_Performance Testing PASS_
Submitter: Min Hu (Connor) <humin29@huawei.com>
Date: Wednesday, March 31 2021 07:01:10
DPDK git baseline: Repo:dpdk-next-net
Branch: master
CommitID:54f1e03d4828bea6386fef1b065c03d73073b59e
90167-90168 --> performance testing pass
Test environment and result as below:
Ubuntu 18.04
Kernel: 4.15.0-generic
Compiler: gcc 7.4
NIC: Intel Corporation Ethernet Converged Network Adapter 82599ES 10000 Mbps
Target: x86_64-native-linuxapp-gcc
Fail/Total: 0/2
Detail performance results:
+------------+---------+-------------------------------------+
| frame_size | txd/rxd | throughput difference from expected |
+============+=========+=====================================+
| 64 | 512 | 2.10862% |
+------------+---------+-------------------------------------+
| 64 | 2048 | 2.89006% |
+------------+---------+-------------------------------------+
Ubuntu 18.04
Kernel: 4.15.0-generic
Compiler: gcc 7.4
NIC: Intel Corporation Ethernet Converged Network Adapter XL710-QDA2 40000 Mbps
Target: x86_64-native-linuxapp-gcc
Fail/Total: 0/2
Detail performance results:
+------------+---------+-------------------------------------+
| frame_size | txd/rxd | throughput difference from expected |
+============+=========+=====================================+
| 64 | 512 | 5.44027% |
+------------+---------+-------------------------------------+
| 64 | 2048 | 5.21288% |
+------------+---------+-------------------------------------+
To view detailed results, visit:
https://lab.dpdk.org/results/dashboard/patchsets/16206/
UNH-IOL DPDK Community Lab
To manage your email subscriptions, visit:
https://lab.dpdk.org/results/dashboard/preferences/subscriptions/
^ permalink raw reply [flat|nested] 8+ messages in thread
end of thread, other threads:[~2021-04-01 15:22 UTC | newest]
Thread overview: 8+ messages (download: mbox.gz / follow: Atom feed)
-- links below jump to the message on this page --
2021-04-01 4:15 [dpdk-test-report] |SUCCESS| pw90167-90168 [PATCH] [v2, 2/2] net/hns3: support IEEE 1588 PTP dpdklab
-- strict thread matches above, loose matches on Subject: below --
2021-04-01 15:22 dpdklab
2021-04-01 14:13 dpdklab
2021-04-01 9:51 dpdklab
2021-04-01 9:04 dpdklab
2021-04-01 7:49 dpdklab
2021-04-01 7:09 dpdklab
2021-04-01 3:36 dpdklab
This is a public inbox, see mirroring instructions
for how to clone and mirror all data and code used for this inbox;
as well as URLs for NNTP newsgroup(s).