* [dpdk-test-report] |SUCCESS| pw90372 [PATCH] build: fix symlink of drivers for Windows
@ 2021-04-02 5:31 dpdklab
0 siblings, 0 replies; 7+ messages in thread
From: dpdklab @ 2021-04-02 5:31 UTC (permalink / raw)
To: Test Report; +Cc: dpdk-test-reports
[-- Attachment #1: Type: text/plain, Size: 4317 bytes --]
Test-Label: iol-testing
Test-Status: SUCCESS
http://dpdk.org/patch/90372
_Testing PASS_
Submitter: Nick Connolly <nick.connolly@mayadata.io>
Date: Thursday, April 01 2021 12:27:23
DPDK git baseline: Repo:dpdk
Branch: master
CommitID:6545d6c52bbc28402b7bde5ee64744a99a3caf3e
90372 --> testing pass
Test environment and result as below:
+---------------------+----------------------+--------------------+----------------+-------------------+
| Environment | dpdk_mingw64_compile | dpdk_meson_compile | dpdk_unit_test | dpdk_compile_spdk |
+=====================+======================+====================+================+===================+
| Windows Server 2019 | PASS | PASS | SKIPPED | SKIPPED |
+---------------------+----------------------+--------------------+----------------+-------------------+
| Fedora 32 | SKIPPED | PASS | SKIPPED | SKIPPED |
+---------------------+----------------------+--------------------+----------------+-------------------+
| Fedora 31 | SKIPPED | PASS | SKIPPED | PASS |
+---------------------+----------------------+--------------------+----------------+-------------------+
| Ubuntu 20.04 | SKIPPED | PASS | SKIPPED | SKIPPED |
+---------------------+----------------------+--------------------+----------------+-------------------+
| CentOS Stream 8 | SKIPPED | PASS | SKIPPED | SKIPPED |
+---------------------+----------------------+--------------------+----------------+-------------------+
| Ubuntu 18.04 | SKIPPED | PASS | PASS | PASS |
+---------------------+----------------------+--------------------+----------------+-------------------+
| RHEL8 | SKIPPED | PASS | SKIPPED | SKIPPED |
+---------------------+----------------------+--------------------+----------------+-------------------+
| RHEL 7 | SKIPPED | PASS | SKIPPED | SKIPPED |
+---------------------+----------------------+--------------------+----------------+-------------------+
| Arch Linux | SKIPPED | PASS | SKIPPED | SKIPPED |
+---------------------+----------------------+--------------------+----------------+-------------------+
| FreeBSD 11.2 | SKIPPED | PASS | SKIPPED | SKIPPED |
+---------------------+----------------------+--------------------+----------------+-------------------+
| openSUSE Leap 15 | SKIPPED | PASS | SKIPPED | SKIPPED |
+---------------------+----------------------+--------------------+----------------+-------------------+
| Ubuntu 18.04 ARM | SKIPPED | PASS | PASS | SKIPPED |
+---------------------+----------------------+--------------------+----------------+-------------------+
Windows Server 2019
Kernel: 10.0
Compiler: clang 9.0 and gcc 8.1.0 (MinGW)
Fedora 32
Kernel: 4.18.0-240.10.1.el8_3.x86_64
Compiler: gcc 10.2.1
Fedora 31
Kernel: 4.18.0-240.10.1.el8_3.x86_64
Compiler: gcc 9.3.1
Ubuntu 20.04
Kernel: 4.18.0-240.10.1.el8_3.x86_64
Compiler: gcc 9.3.0-17ubuntu1~20.04
CentOS Stream 8
Kernel: 4.18.0-240.10.1.el8_3.x86_64
Compiler: gcc 8.4.1 20200928
Ubuntu 18.04
Kernel: 4.18.0-240.10.1.el8_3.x86_64
Compiler: gcc 7.5.0-3ubuntu1~18.04
RHEL8
Kernel: 4.18.0-240.10.1.el8_3.x86_64
Compiler: gcc 8.3.1 20191121 (Red Hat 8.3.1-5)
RHEL 7
Kernel: 4.18.0-240.10.1.el8_3.x86_64
Compiler: gcc 4.8.5 20150623 (Red Hat 4.8.5-44)
Arch Linux
Kernel: 4.18.0-240.10.1.el8_3.x86_64
Compiler: gcc 10.2.0
FreeBSD 11.2
Kernel: 11.2
Compiler: gcc 8.3
openSUSE Leap 15
Kernel: 4.12.14
Compiler: gcc 7.4.1
Ubuntu 18.04 ARM
Kernel: 5.4.0-53-generic
Compiler: gcc 9.3
To view detailed results, visit:
https://lab.dpdk.org/results/dashboard/patchsets/16256/
UNH-IOL DPDK Community Lab
To manage your email subscriptions, visit:
https://lab.dpdk.org/results/dashboard/preferences/subscriptions/
^ permalink raw reply [flat|nested] 7+ messages in thread
* [dpdk-test-report] |SUCCESS| pw90372 [PATCH] build: fix symlink of drivers for Windows
@ 2021-04-02 6:36 dpdklab
0 siblings, 0 replies; 7+ messages in thread
From: dpdklab @ 2021-04-02 6:36 UTC (permalink / raw)
To: Test Report; +Cc: dpdk-test-reports
[-- Attachment #1: Type: text/plain, Size: 4317 bytes --]
Test-Label: iol-testing
Test-Status: SUCCESS
http://dpdk.org/patch/90372
_Testing PASS_
Submitter: Nick Connolly <nick.connolly@mayadata.io>
Date: Thursday, April 01 2021 12:27:23
DPDK git baseline: Repo:dpdk
Branch: master
CommitID:6545d6c52bbc28402b7bde5ee64744a99a3caf3e
90372 --> testing pass
Test environment and result as below:
+---------------------+----------------------+--------------------+----------------+-------------------+
| Environment | dpdk_mingw64_compile | dpdk_meson_compile | dpdk_unit_test | dpdk_compile_spdk |
+=====================+======================+====================+================+===================+
| Windows Server 2019 | PASS | PASS | SKIPPED | SKIPPED |
+---------------------+----------------------+--------------------+----------------+-------------------+
| Fedora 32 | SKIPPED | PASS | SKIPPED | SKIPPED |
+---------------------+----------------------+--------------------+----------------+-------------------+
| CentOS Stream 8 | SKIPPED | PASS | SKIPPED | SKIPPED |
+---------------------+----------------------+--------------------+----------------+-------------------+
| Fedora 31 | SKIPPED | PASS | SKIPPED | PASS |
+---------------------+----------------------+--------------------+----------------+-------------------+
| Ubuntu 18.04 | SKIPPED | PASS | PASS | PASS |
+---------------------+----------------------+--------------------+----------------+-------------------+
| Ubuntu 20.04 | SKIPPED | PASS | SKIPPED | SKIPPED |
+---------------------+----------------------+--------------------+----------------+-------------------+
| RHEL8 | SKIPPED | PASS | SKIPPED | SKIPPED |
+---------------------+----------------------+--------------------+----------------+-------------------+
| RHEL 7 | SKIPPED | PASS | SKIPPED | SKIPPED |
+---------------------+----------------------+--------------------+----------------+-------------------+
| Arch Linux | SKIPPED | PASS | SKIPPED | SKIPPED |
+---------------------+----------------------+--------------------+----------------+-------------------+
| FreeBSD 11.2 | SKIPPED | PASS | SKIPPED | SKIPPED |
+---------------------+----------------------+--------------------+----------------+-------------------+
| openSUSE Leap 15 | SKIPPED | PASS | SKIPPED | SKIPPED |
+---------------------+----------------------+--------------------+----------------+-------------------+
| Ubuntu 18.04 ARM | SKIPPED | PASS | PASS | SKIPPED |
+---------------------+----------------------+--------------------+----------------+-------------------+
Windows Server 2019
Kernel: 10.0
Compiler: clang 9.0 and gcc 8.1.0 (MinGW)
Fedora 32
Kernel: 4.18.0-240.10.1.el8_3.x86_64
Compiler: gcc 10.2.1
CentOS Stream 8
Kernel: 4.18.0-240.10.1.el8_3.x86_64
Compiler: gcc 8.4.1 20200928
Fedora 31
Kernel: 4.18.0-240.10.1.el8_3.x86_64
Compiler: gcc 9.3.1
Ubuntu 18.04
Kernel: 4.18.0-240.10.1.el8_3.x86_64
Compiler: gcc 7.5.0-3ubuntu1~18.04
Ubuntu 20.04
Kernel: 4.18.0-240.10.1.el8_3.x86_64
Compiler: gcc 9.3.0-17ubuntu1~20.04
RHEL8
Kernel: 4.18.0-240.10.1.el8_3.x86_64
Compiler: gcc 8.3.1 20191121 (Red Hat 8.3.1-5)
RHEL 7
Kernel: 4.18.0-240.10.1.el8_3.x86_64
Compiler: gcc 4.8.5 20150623 (Red Hat 4.8.5-44)
Arch Linux
Kernel: 4.18.0-240.10.1.el8_3.x86_64
Compiler: gcc 10.2.0
FreeBSD 11.2
Kernel: 11.2
Compiler: gcc 8.3
openSUSE Leap 15
Kernel: 4.12.14
Compiler: gcc 7.4.1
Ubuntu 18.04 ARM
Kernel: 5.4.0-53-generic
Compiler: gcc 9.3
To view detailed results, visit:
https://lab.dpdk.org/results/dashboard/patchsets/16256/
UNH-IOL DPDK Community Lab
To manage your email subscriptions, visit:
https://lab.dpdk.org/results/dashboard/preferences/subscriptions/
^ permalink raw reply [flat|nested] 7+ messages in thread
* [dpdk-test-report] |SUCCESS| pw90372 [PATCH] build: fix symlink of drivers for Windows
@ 2021-04-01 20:39 dpdklab
0 siblings, 0 replies; 7+ messages in thread
From: dpdklab @ 2021-04-01 20:39 UTC (permalink / raw)
To: Test Report; +Cc: dpdk-test-reports
[-- Attachment #1: Type: text/plain, Size: 954 bytes --]
Test-Label: iol-abi-testing
Test-Status: SUCCESS
http://dpdk.org/patch/90372
_Testing PASS_
Submitter: Nick Connolly <nick.connolly@mayadata.io>
Date: Thursday, April 01 2021 12:27:23
DPDK git baseline: Repo:dpdk
Branch: master
CommitID:6545d6c52bbc28402b7bde5ee64744a99a3caf3e
90372 --> testing pass
Test environment and result as below:
+------------------+----------+
| Environment | abi_test |
+==================+==========+
| Ubuntu 18.04 ARM | PASS |
+------------------+----------+
| Ubuntu 18.04 | PASS |
+------------------+----------+
Ubuntu 18.04 ARM
Kernel: 5.4.0-53-generic
Compiler: gcc 9.3
Ubuntu 18.04
Kernel: 4.18.0-240.10.1.el8_3.x86_64
Compiler: gcc 7.5.0-3ubuntu1~18.04
To view detailed results, visit:
https://lab.dpdk.org/results/dashboard/patchsets/16256/
UNH-IOL DPDK Community Lab
To manage your email subscriptions, visit:
https://lab.dpdk.org/results/dashboard/preferences/subscriptions/
^ permalink raw reply [flat|nested] 7+ messages in thread
* [dpdk-test-report] |SUCCESS| pw90372 [PATCH] build: fix symlink of drivers for Windows
@ 2021-04-01 19:20 dpdklab
0 siblings, 0 replies; 7+ messages in thread
From: dpdklab @ 2021-04-01 19:20 UTC (permalink / raw)
To: Ali Alnubani, Test Report; +Cc: dpdk-test-reports
[-- Attachment #1: Type: text/plain, Size: 3968 bytes --]
Test-Label: iol-mellanox-Performance
Test-Status: SUCCESS
http://dpdk.org/patch/90372
_Performance Testing PASS_
Submitter: Nick Connolly <nick.connolly@mayadata.io>
Date: Thursday, April 01 2021 12:27:23
DPDK git baseline: Repo:dpdk
Branch: master
CommitID:6545d6c52bbc28402b7bde5ee64744a99a3caf3e
90372 --> performance testing pass
Test environment and result as below:
Ubuntu 18.04
Kernel: 4.15.0-generic
Compiler: gcc 7.4
NIC: Mellanox ConnectX-5 100000 Mbps
Target: x86_64-native-linuxapp-gcc
Fail/Total: 0/6
Detail performance results:
+------------+---------+-------------------------------------+
| frame_size | txd/rxd | throughput difference from expected |
+============+=========+=====================================+
| 64 | 256 | 0.37138% |
+------------+---------+-------------------------------------+
| 128 | 256 | 0.15712% |
+------------+---------+-------------------------------------+
| 256 | 256 | -0.15232% |
+------------+---------+-------------------------------------+
| 512 | 256 | 0.46034% |
+------------+---------+-------------------------------------+
| 1024 | 256 | 0.36891% |
+------------+---------+-------------------------------------+
| 1518 | 256 | 0.33015% |
+------------+---------+-------------------------------------+
Ubuntu 18.04
Kernel: 4.15.0-generic
Compiler: gcc 7.4
NIC: Mellanox ConnectX-4 Lx 40000 Mbps
Target: x86_64-native-linuxapp-gcc
Fail/Total: 0/6
Detail performance results:
+------------+---------+-------------------------------------+
| frame_size | txd/rxd | throughput difference from expected |
+============+=========+=====================================+
| 64 | 256 | -0.51211% |
+------------+---------+-------------------------------------+
| 128 | 256 | 0.27138% |
+------------+---------+-------------------------------------+
| 256 | 256 | -0.0985% |
+------------+---------+-------------------------------------+
| 512 | 256 | 0.23469% |
+------------+---------+-------------------------------------+
| 1024 | 256 | 0.20931% |
+------------+---------+-------------------------------------+
| 1518 | 256 | -0.13842% |
+------------+---------+-------------------------------------+
Ubuntu 18.04
Kernel: 4.15.0-generic
Compiler: gcc 7.4
NIC: Mellanox ConnectX-4 Lx 25000 Mbps
Target: x86_64-native-linuxapp-gcc
Fail/Total: 0/6
Detail performance results:
+------------+---------+-------------------------------------+
| frame_size | txd/rxd | throughput difference from expected |
+============+=========+=====================================+
| 64 | 256 | 0.27998% |
+------------+---------+-------------------------------------+
| 128 | 256 | 0.54378% |
+------------+---------+-------------------------------------+
| 256 | 256 | 0.19841% |
+------------+---------+-------------------------------------+
| 512 | 256 | 0.37794% |
+------------+---------+-------------------------------------+
| 1024 | 256 | -0.08367% |
+------------+---------+-------------------------------------+
| 1518 | 256 | -0.04932% |
+------------+---------+-------------------------------------+
To view detailed results, visit:
https://lab.dpdk.org/results/dashboard/patchsets/16256/
UNH-IOL DPDK Community Lab
To manage your email subscriptions, visit:
https://lab.dpdk.org/results/dashboard/preferences/subscriptions/
^ permalink raw reply [flat|nested] 7+ messages in thread
* [dpdk-test-report] |SUCCESS| pw90372 [PATCH] build: fix symlink of drivers for Windows
@ 2021-04-01 18:28 dpdklab
0 siblings, 0 replies; 7+ messages in thread
From: dpdklab @ 2021-04-01 18:28 UTC (permalink / raw)
To: Test Report; +Cc: dpdk-test-reports
[-- Attachment #1: Type: text/plain, Size: 923 bytes --]
Test-Label: iol-abi-testing
Test-Status: SUCCESS
http://dpdk.org/patch/90372
_Testing PASS_
Submitter: Nick Connolly <nick.connolly@mayadata.io>
Date: Thursday, April 01 2021 12:27:23
DPDK git baseline: Repo:dpdk
Branch: master
CommitID:6545d6c52bbc28402b7bde5ee64744a99a3caf3e
90372 --> testing pass
Test environment and result as below:
+------------------+----------+
| Environment | abi_test |
+==================+==========+
| Ubuntu 18.04 | PASS |
+------------------+----------+
| Ubuntu 18.04 ARM | PASS |
+------------------+----------+
Ubuntu 18.04
Kernel: 4.15.0-generic
Compiler: gcc 7.5
Ubuntu 18.04 ARM
Kernel: 5.4.0-53-generic
Compiler: gcc 9.3
To view detailed results, visit:
https://lab.dpdk.org/results/dashboard/patchsets/16256/
UNH-IOL DPDK Community Lab
To manage your email subscriptions, visit:
https://lab.dpdk.org/results/dashboard/preferences/subscriptions/
^ permalink raw reply [flat|nested] 7+ messages in thread
* [dpdk-test-report] |SUCCESS| pw90372 [PATCH] build: fix symlink of drivers for Windows
@ 2021-04-01 18:22 dpdklab
0 siblings, 0 replies; 7+ messages in thread
From: dpdklab @ 2021-04-01 18:22 UTC (permalink / raw)
To: Ali Alnubani, Test Report; +Cc: dpdk-test-reports
[-- Attachment #1: Type: text/plain, Size: 3968 bytes --]
Test-Label: iol-mellanox-Performance
Test-Status: SUCCESS
http://dpdk.org/patch/90372
_Performance Testing PASS_
Submitter: Nick Connolly <nick.connolly@mayadata.io>
Date: Thursday, April 01 2021 12:27:23
DPDK git baseline: Repo:dpdk
Branch: master
CommitID:6545d6c52bbc28402b7bde5ee64744a99a3caf3e
90372 --> performance testing pass
Test environment and result as below:
Ubuntu 18.04
Kernel: 4.15.0-generic
Compiler: gcc 7.4
NIC: Mellanox ConnectX-5 100000 Mbps
Target: x86_64-native-linuxapp-gcc
Fail/Total: 0/6
Detail performance results:
+------------+---------+-------------------------------------+
| frame_size | txd/rxd | throughput difference from expected |
+============+=========+=====================================+
| 64 | 256 | 0.56847% |
+------------+---------+-------------------------------------+
| 128 | 256 | 0.35675% |
+------------+---------+-------------------------------------+
| 256 | 256 | 0.51688% |
+------------+---------+-------------------------------------+
| 512 | 256 | 0.39394% |
+------------+---------+-------------------------------------+
| 1024 | 256 | 1.79307% |
+------------+---------+-------------------------------------+
| 1518 | 256 | 0.64851% |
+------------+---------+-------------------------------------+
Ubuntu 18.04
Kernel: 4.15.0-generic
Compiler: gcc 7.4
NIC: Mellanox ConnectX-4 Lx 40000 Mbps
Target: x86_64-native-linuxapp-gcc
Fail/Total: 0/6
Detail performance results:
+------------+---------+-------------------------------------+
| frame_size | txd/rxd | throughput difference from expected |
+============+=========+=====================================+
| 64 | 256 | -0.09389% |
+------------+---------+-------------------------------------+
| 128 | 256 | -0.56276% |
+------------+---------+-------------------------------------+
| 256 | 256 | -0.14958% |
+------------+---------+-------------------------------------+
| 512 | 256 | 0.24003% |
+------------+---------+-------------------------------------+
| 1024 | 256 | 0.21978% |
+------------+---------+-------------------------------------+
| 1518 | 256 | 0.03076% |
+------------+---------+-------------------------------------+
Ubuntu 18.04
Kernel: 4.15.0-generic
Compiler: gcc 7.4
NIC: Mellanox ConnectX-4 Lx 25000 Mbps
Target: x86_64-native-linuxapp-gcc
Fail/Total: 0/6
Detail performance results:
+------------+---------+-------------------------------------+
| frame_size | txd/rxd | throughput difference from expected |
+============+=========+=====================================+
| 64 | 256 | 0.10571% |
+------------+---------+-------------------------------------+
| 128 | 256 | 0.20781% |
+------------+---------+-------------------------------------+
| 256 | 256 | 0.54563% |
+------------+---------+-------------------------------------+
| 512 | 256 | 0.11166% |
+------------+---------+-------------------------------------+
| 1024 | 256 | -0.06693% |
+------------+---------+-------------------------------------+
| 1518 | 256 | -0.02466% |
+------------+---------+-------------------------------------+
To view detailed results, visit:
https://lab.dpdk.org/results/dashboard/patchsets/16256/
UNH-IOL DPDK Community Lab
To manage your email subscriptions, visit:
https://lab.dpdk.org/results/dashboard/preferences/subscriptions/
^ permalink raw reply [flat|nested] 7+ messages in thread
* [dpdk-test-report] |SUCCESS| pw90372 [PATCH] build: fix symlink of drivers for Windows
[not found] <20210401122723.23082-1-nick.connolly@mayadata.io>
@ 2021-04-01 12:29 ` checkpatch
0 siblings, 0 replies; 7+ messages in thread
From: checkpatch @ 2021-04-01 12:29 UTC (permalink / raw)
To: test-report
Test-Label: checkpatch
Test-Status: SUCCESS
http://dpdk.org/patch/90372
_coding style OK_
^ permalink raw reply [flat|nested] 7+ messages in thread
end of thread, other threads:[~2021-04-02 6:36 UTC | newest]
Thread overview: 7+ messages (download: mbox.gz / follow: Atom feed)
-- links below jump to the message on this page --
2021-04-02 5:31 [dpdk-test-report] |SUCCESS| pw90372 [PATCH] build: fix symlink of drivers for Windows dpdklab
-- strict thread matches above, loose matches on Subject: below --
2021-04-02 6:36 dpdklab
2021-04-01 20:39 dpdklab
2021-04-01 19:20 dpdklab
2021-04-01 18:28 dpdklab
2021-04-01 18:22 dpdklab
[not found] <20210401122723.23082-1-nick.connolly@mayadata.io>
2021-04-01 12:29 ` checkpatch
This is a public inbox, see mirroring instructions
for how to clone and mirror all data and code used for this inbox;
as well as URLs for NNTP newsgroup(s).