* [dpdk-test-report] |SUCCESS| pw90351-90354 [PATCH] [v2, 4/4] crypto/octeontx2: support lookaside IPv4 transport mode
@ 2021-04-02 9:33 dpdklab
0 siblings, 0 replies; 8+ messages in thread
From: dpdklab @ 2021-04-02 9:33 UTC (permalink / raw)
To: Test Report; +Cc: dpdk-test-reports
[-- Attachment #1: Type: text/plain, Size: 4321 bytes --]
Test-Label: iol-testing
Test-Status: SUCCESS
http://dpdk.org/patch/90354
_Testing PASS_
Submitter: Tejasree Kondoj <ktejasree@marvell.com>
Date: Thursday, April 01 2021 11:26:23
DPDK git baseline: Repo:dpdk
Branch: master
CommitID:6545d6c52bbc28402b7bde5ee64744a99a3caf3e
90351-90354 --> testing pass
Test environment and result as below:
+---------------------+----------------------+--------------------+-------------------+----------------+
| Environment | dpdk_mingw64_compile | dpdk_meson_compile | dpdk_compile_spdk | dpdk_unit_test |
+=====================+======================+====================+===================+================+
| Windows Server 2019 | PASS | PASS | SKIPPED | SKIPPED |
+---------------------+----------------------+--------------------+-------------------+----------------+
| Ubuntu 18.04 | SKIPPED | PASS | PASS | PASS |
+---------------------+----------------------+--------------------+-------------------+----------------+
| CentOS Stream 8 | SKIPPED | PASS | SKIPPED | SKIPPED |
+---------------------+----------------------+--------------------+-------------------+----------------+
| Fedora 31 | SKIPPED | PASS | PASS | SKIPPED |
+---------------------+----------------------+--------------------+-------------------+----------------+
| Fedora 32 | SKIPPED | PASS | SKIPPED | SKIPPED |
+---------------------+----------------------+--------------------+-------------------+----------------+
| RHEL8 | SKIPPED | PASS | SKIPPED | SKIPPED |
+---------------------+----------------------+--------------------+-------------------+----------------+
| FreeBSD 11.2 | SKIPPED | PASS | SKIPPED | SKIPPED |
+---------------------+----------------------+--------------------+-------------------+----------------+
| RHEL 7 | SKIPPED | PASS | SKIPPED | SKIPPED |
+---------------------+----------------------+--------------------+-------------------+----------------+
| Ubuntu 20.04 | SKIPPED | PASS | SKIPPED | SKIPPED |
+---------------------+----------------------+--------------------+-------------------+----------------+
| Arch Linux | SKIPPED | PASS | SKIPPED | SKIPPED |
+---------------------+----------------------+--------------------+-------------------+----------------+
| Ubuntu 18.04 ARM | SKIPPED | PASS | SKIPPED | PASS |
+---------------------+----------------------+--------------------+-------------------+----------------+
| openSUSE Leap 15 | SKIPPED | PASS | SKIPPED | SKIPPED |
+---------------------+----------------------+--------------------+-------------------+----------------+
Windows Server 2019
Kernel: 10.0
Compiler: clang 9.0 and gcc 8.1.0 (MinGW)
Ubuntu 18.04
Kernel: 4.18.0-240.10.1.el8_3.x86_64
Compiler: gcc 7.5.0-3ubuntu1~18.04
CentOS Stream 8
Kernel: 4.18.0-240.10.1.el8_3.x86_64
Compiler: gcc 8.4.1 20200928
Fedora 31
Kernel: 4.18.0-240.10.1.el8_3.x86_64
Compiler: gcc 9.3.1
Fedora 32
Kernel: 4.18.0-240.10.1.el8_3.x86_64
Compiler: gcc 10.2.1
RHEL8
Kernel: 4.18.0-240.10.1.el8_3.x86_64
Compiler: gcc 8.3.1 20191121 (Red Hat 8.3.1-5)
FreeBSD 11.2
Kernel: 11.2
Compiler: gcc 8.3
RHEL 7
Kernel: 4.18.0-240.10.1.el8_3.x86_64
Compiler: gcc 4.8.5 20150623 (Red Hat 4.8.5-44)
Ubuntu 20.04
Kernel: 4.18.0-240.10.1.el8_3.x86_64
Compiler: gcc 9.3.0-17ubuntu1~20.04
Arch Linux
Kernel: 4.18.0-240.10.1.el8_3.x86_64
Compiler: gcc 10.2.0
Ubuntu 18.04 ARM
Kernel: 5.4.0-53-generic
Compiler: gcc 9.3
openSUSE Leap 15
Kernel: 4.12.14
Compiler: gcc 7.4.1
To view detailed results, visit:
https://lab.dpdk.org/results/dashboard/patchsets/16254/
UNH-IOL DPDK Community Lab
To manage your email subscriptions, visit:
https://lab.dpdk.org/results/dashboard/preferences/subscriptions/
^ permalink raw reply [flat|nested] 8+ messages in thread
* [dpdk-test-report] |SUCCESS| pw90351-90354 [PATCH] [v2, 4/4] crypto/octeontx2: support lookaside IPv4 transport mode
@ 2021-04-02 8:43 dpdklab
0 siblings, 0 replies; 8+ messages in thread
From: dpdklab @ 2021-04-02 8:43 UTC (permalink / raw)
To: Test Report; +Cc: dpdk-test-reports
[-- Attachment #1: Type: text/plain, Size: 4321 bytes --]
Test-Label: iol-testing
Test-Status: SUCCESS
http://dpdk.org/patch/90354
_Testing PASS_
Submitter: Tejasree Kondoj <ktejasree@marvell.com>
Date: Thursday, April 01 2021 11:26:23
DPDK git baseline: Repo:dpdk
Branch: master
CommitID:6545d6c52bbc28402b7bde5ee64744a99a3caf3e
90351-90354 --> testing pass
Test environment and result as below:
+---------------------+----------------------+--------------------+----------------+-------------------+
| Environment | dpdk_mingw64_compile | dpdk_meson_compile | dpdk_unit_test | dpdk_compile_spdk |
+=====================+======================+====================+================+===================+
| Windows Server 2019 | PASS | PASS | SKIPPED | SKIPPED |
+---------------------+----------------------+--------------------+----------------+-------------------+
| Ubuntu 18.04 | SKIPPED | PASS | PASS | PASS |
+---------------------+----------------------+--------------------+----------------+-------------------+
| CentOS Stream 8 | SKIPPED | PASS | SKIPPED | SKIPPED |
+---------------------+----------------------+--------------------+----------------+-------------------+
| Fedora 32 | SKIPPED | PASS | SKIPPED | SKIPPED |
+---------------------+----------------------+--------------------+----------------+-------------------+
| Fedora 31 | SKIPPED | PASS | SKIPPED | PASS |
+---------------------+----------------------+--------------------+----------------+-------------------+
| FreeBSD 11.2 | SKIPPED | PASS | SKIPPED | SKIPPED |
+---------------------+----------------------+--------------------+----------------+-------------------+
| RHEL 7 | SKIPPED | PASS | SKIPPED | SKIPPED |
+---------------------+----------------------+--------------------+----------------+-------------------+
| openSUSE Leap 15 | SKIPPED | PASS | SKIPPED | SKIPPED |
+---------------------+----------------------+--------------------+----------------+-------------------+
| RHEL8 | SKIPPED | PASS | SKIPPED | SKIPPED |
+---------------------+----------------------+--------------------+----------------+-------------------+
| Ubuntu 20.04 | SKIPPED | PASS | SKIPPED | SKIPPED |
+---------------------+----------------------+--------------------+----------------+-------------------+
| Ubuntu 18.04 ARM | SKIPPED | PASS | PASS | SKIPPED |
+---------------------+----------------------+--------------------+----------------+-------------------+
| Arch Linux | SKIPPED | PASS | SKIPPED | SKIPPED |
+---------------------+----------------------+--------------------+----------------+-------------------+
Windows Server 2019
Kernel: 10.0
Compiler: clang 9.0 and gcc 8.1.0 (MinGW)
Ubuntu 18.04
Kernel: 4.18.0-240.10.1.el8_3.x86_64
Compiler: gcc 7.5.0-3ubuntu1~18.04
CentOS Stream 8
Kernel: 4.18.0-240.10.1.el8_3.x86_64
Compiler: gcc 8.4.1 20200928
Fedora 32
Kernel: 4.18.0-240.10.1.el8_3.x86_64
Compiler: gcc 10.2.1
Fedora 31
Kernel: 4.18.0-240.10.1.el8_3.x86_64
Compiler: gcc 9.3.1
FreeBSD 11.2
Kernel: 11.2
Compiler: gcc 8.3
RHEL 7
Kernel: 4.18.0-240.10.1.el8_3.x86_64
Compiler: gcc 4.8.5 20150623 (Red Hat 4.8.5-44)
openSUSE Leap 15
Kernel: 4.12.14
Compiler: gcc 7.4.1
RHEL8
Kernel: 4.18.0-240.10.1.el8_3.x86_64
Compiler: gcc 8.3.1 20191121 (Red Hat 8.3.1-5)
Ubuntu 20.04
Kernel: 4.18.0-240.10.1.el8_3.x86_64
Compiler: gcc 9.3.0-17ubuntu1~20.04
Ubuntu 18.04 ARM
Kernel: 5.4.0-53-generic
Compiler: gcc 9.3
Arch Linux
Kernel: 4.18.0-240.10.1.el8_3.x86_64
Compiler: gcc 10.2.0
To view detailed results, visit:
https://lab.dpdk.org/results/dashboard/patchsets/16254/
UNH-IOL DPDK Community Lab
To manage your email subscriptions, visit:
https://lab.dpdk.org/results/dashboard/preferences/subscriptions/
^ permalink raw reply [flat|nested] 8+ messages in thread
* [dpdk-test-report] |SUCCESS| pw90351-90354 [PATCH] [v2, 4/4] crypto/octeontx2: support lookaside IPv4 transport mode
@ 2021-04-01 23:05 dpdklab
0 siblings, 0 replies; 8+ messages in thread
From: dpdklab @ 2021-04-01 23:05 UTC (permalink / raw)
To: Test Report; +Cc: dpdk-test-reports
[-- Attachment #1: Type: text/plain, Size: 958 bytes --]
Test-Label: iol-abi-testing
Test-Status: SUCCESS
http://dpdk.org/patch/90354
_Testing PASS_
Submitter: Tejasree Kondoj <ktejasree@marvell.com>
Date: Thursday, April 01 2021 11:26:23
DPDK git baseline: Repo:dpdk
Branch: master
CommitID:6545d6c52bbc28402b7bde5ee64744a99a3caf3e
90351-90354 --> testing pass
Test environment and result as below:
+------------------+----------+
| Environment | abi_test |
+==================+==========+
| Ubuntu 18.04 | PASS |
+------------------+----------+
| Ubuntu 18.04 ARM | PASS |
+------------------+----------+
Ubuntu 18.04
Kernel: 4.18.0-240.10.1.el8_3.x86_64
Compiler: gcc 7.5.0-3ubuntu1~18.04
Ubuntu 18.04 ARM
Kernel: 5.4.0-53-generic
Compiler: gcc 9.3
To view detailed results, visit:
https://lab.dpdk.org/results/dashboard/patchsets/16254/
UNH-IOL DPDK Community Lab
To manage your email subscriptions, visit:
https://lab.dpdk.org/results/dashboard/preferences/subscriptions/
^ permalink raw reply [flat|nested] 8+ messages in thread
* [dpdk-test-report] |SUCCESS| pw90351-90354 [PATCH] [v2, 4/4] crypto/octeontx2: support lookaside IPv4 transport mode
@ 2021-04-01 22:32 dpdklab
0 siblings, 0 replies; 8+ messages in thread
From: dpdklab @ 2021-04-01 22:32 UTC (permalink / raw)
To: Ali Alnubani, Test Report; +Cc: dpdk-test-reports
[-- Attachment #1: Type: text/plain, Size: 3972 bytes --]
Test-Label: iol-mellanox-Performance
Test-Status: SUCCESS
http://dpdk.org/patch/90354
_Performance Testing PASS_
Submitter: Tejasree Kondoj <ktejasree@marvell.com>
Date: Thursday, April 01 2021 11:26:23
DPDK git baseline: Repo:dpdk
Branch: master
CommitID:6545d6c52bbc28402b7bde5ee64744a99a3caf3e
90351-90354 --> performance testing pass
Test environment and result as below:
Ubuntu 18.04
Kernel: 4.15.0-generic
Compiler: gcc 7.4
NIC: Mellanox ConnectX-5 100000 Mbps
Target: x86_64-native-linuxapp-gcc
Fail/Total: 0/6
Detail performance results:
+------------+---------+-------------------------------------+
| frame_size | txd/rxd | throughput difference from expected |
+============+=========+=====================================+
| 64 | 256 | 0.57498% |
+------------+---------+-------------------------------------+
| 128 | 256 | 0.25694% |
+------------+---------+-------------------------------------+
| 256 | 256 | 0.0025% |
+------------+---------+-------------------------------------+
| 512 | 256 | 0.46477% |
+------------+---------+-------------------------------------+
| 1024 | 256 | 1.63006% |
+------------+---------+-------------------------------------+
| 1518 | 256 | 0.55418% |
+------------+---------+-------------------------------------+
Ubuntu 18.04
Kernel: 4.15.0-generic
Compiler: gcc 7.4
NIC: Mellanox ConnectX-4 Lx 40000 Mbps
Target: x86_64-native-linuxapp-gcc
Fail/Total: 0/6
Detail performance results:
+------------+---------+-------------------------------------+
| frame_size | txd/rxd | throughput difference from expected |
+============+=========+=====================================+
| 64 | 256 | -0.35278% |
+------------+---------+-------------------------------------+
| 128 | 256 | 0.817% |
+------------+---------+-------------------------------------+
| 256 | 256 | -0.09486% |
+------------+---------+-------------------------------------+
| 512 | 256 | 0.06401% |
+------------+---------+-------------------------------------+
| 1024 | 256 | 0.12559% |
+------------+---------+-------------------------------------+
| 1518 | 256 | -0.21532% |
+------------+---------+-------------------------------------+
Ubuntu 18.04
Kernel: 4.15.0-generic
Compiler: gcc 7.4
NIC: Mellanox ConnectX-4 Lx 25000 Mbps
Target: x86_64-native-linuxapp-gcc
Fail/Total: 0/6
Detail performance results:
+------------+---------+-------------------------------------+
| frame_size | txd/rxd | throughput difference from expected |
+============+=========+=====================================+
| 64 | 256 | 0.15999% |
+------------+---------+-------------------------------------+
| 128 | 256 | 0.24591% |
+------------+---------+-------------------------------------+
| 256 | 256 | -0.48611% |
+------------+---------+-------------------------------------+
| 512 | 256 | 0.58409% |
+------------+---------+-------------------------------------+
| 1024 | 256 | -0.0502% |
+------------+---------+-------------------------------------+
| 1518 | 256 | 0.02466% |
+------------+---------+-------------------------------------+
To view detailed results, visit:
https://lab.dpdk.org/results/dashboard/patchsets/16254/
UNH-IOL DPDK Community Lab
To manage your email subscriptions, visit:
https://lab.dpdk.org/results/dashboard/preferences/subscriptions/
^ permalink raw reply [flat|nested] 8+ messages in thread
* [dpdk-test-report] |SUCCESS| pw90351-90354 [PATCH] [v2, 4/4] crypto/octeontx2: support lookaside IPv4 transport mode
@ 2021-04-01 21:37 dpdklab
0 siblings, 0 replies; 8+ messages in thread
From: dpdklab @ 2021-04-01 21:37 UTC (permalink / raw)
To: Test Report; +Cc: dpdk-test-reports
[-- Attachment #1: Type: text/plain, Size: 958 bytes --]
Test-Label: iol-abi-testing
Test-Status: SUCCESS
http://dpdk.org/patch/90354
_Testing PASS_
Submitter: Tejasree Kondoj <ktejasree@marvell.com>
Date: Thursday, April 01 2021 11:26:23
DPDK git baseline: Repo:dpdk
Branch: master
CommitID:6545d6c52bbc28402b7bde5ee64744a99a3caf3e
90351-90354 --> testing pass
Test environment and result as below:
+------------------+----------+
| Environment | abi_test |
+==================+==========+
| Ubuntu 18.04 ARM | PASS |
+------------------+----------+
| Ubuntu 18.04 | PASS |
+------------------+----------+
Ubuntu 18.04 ARM
Kernel: 5.4.0-53-generic
Compiler: gcc 9.3
Ubuntu 18.04
Kernel: 4.18.0-240.10.1.el8_3.x86_64
Compiler: gcc 7.5.0-3ubuntu1~18.04
To view detailed results, visit:
https://lab.dpdk.org/results/dashboard/patchsets/16254/
UNH-IOL DPDK Community Lab
To manage your email subscriptions, visit:
https://lab.dpdk.org/results/dashboard/preferences/subscriptions/
^ permalink raw reply [flat|nested] 8+ messages in thread
* [dpdk-test-report] |SUCCESS| pw90351-90354 [PATCH] [v2, 4/4] crypto/octeontx2: support lookaside IPv4 transport mode
@ 2021-04-01 21:35 dpdklab
0 siblings, 0 replies; 8+ messages in thread
From: dpdklab @ 2021-04-01 21:35 UTC (permalink / raw)
To: Ali Alnubani, Test Report; +Cc: dpdk-test-reports
[-- Attachment #1: Type: text/plain, Size: 3972 bytes --]
Test-Label: iol-mellanox-Performance
Test-Status: SUCCESS
http://dpdk.org/patch/90354
_Performance Testing PASS_
Submitter: Tejasree Kondoj <ktejasree@marvell.com>
Date: Thursday, April 01 2021 11:26:23
DPDK git baseline: Repo:dpdk
Branch: master
CommitID:6545d6c52bbc28402b7bde5ee64744a99a3caf3e
90351-90354 --> performance testing pass
Test environment and result as below:
Ubuntu 18.04
Kernel: 4.15.0-generic
Compiler: gcc 7.4
NIC: Mellanox ConnectX-5 100000 Mbps
Target: x86_64-native-linuxapp-gcc
Fail/Total: 0/6
Detail performance results:
+------------+---------+-------------------------------------+
| frame_size | txd/rxd | throughput difference from expected |
+============+=========+=====================================+
| 64 | 256 | 0.58313% |
+------------+---------+-------------------------------------+
| 128 | 256 | 0.03142% |
+------------+---------+-------------------------------------+
| 256 | 256 | 0.13484% |
+------------+---------+-------------------------------------+
| 512 | 256 | -0.03098% |
+------------+---------+-------------------------------------+
| 1024 | 256 | 1.87028% |
+------------+---------+-------------------------------------+
| 1518 | 256 | 0.48343% |
+------------+---------+-------------------------------------+
Ubuntu 18.04
Kernel: 4.15.0-generic
Compiler: gcc 7.4
NIC: Mellanox ConnectX-4 Lx 40000 Mbps
Target: x86_64-native-linuxapp-gcc
Fail/Total: 0/6
Detail performance results:
+------------+---------+-------------------------------------+
| frame_size | txd/rxd | throughput difference from expected |
+============+=========+=====================================+
| 64 | 256 | -0.18493% |
+------------+---------+-------------------------------------+
| 128 | 256 | 0.67417% |
+------------+---------+-------------------------------------+
| 256 | 256 | -0.01094% |
+------------+---------+-------------------------------------+
| 512 | 256 | 0.25603% |
+------------+---------+-------------------------------------+
| 1024 | 256 | 0.01047% |
+------------+---------+-------------------------------------+
| 1518 | 256 | -0.19994% |
+------------+---------+-------------------------------------+
Ubuntu 18.04
Kernel: 4.15.0-generic
Compiler: gcc 7.4
NIC: Mellanox ConnectX-4 Lx 25000 Mbps
Target: x86_64-native-linuxapp-gcc
Fail/Total: 0/6
Detail performance results:
+------------+---------+-------------------------------------+
| frame_size | txd/rxd | throughput difference from expected |
+============+=========+=====================================+
| 64 | 256 | -0.01714% |
+------------+---------+-------------------------------------+
| 128 | 256 | 0.41216% |
+------------+---------+-------------------------------------+
| 256 | 256 | 0.25298% |
+------------+---------+-------------------------------------+
| 512 | 256 | -0.53255% |
+------------+---------+-------------------------------------+
| 1024 | 256 | -0.0502% |
+------------+---------+-------------------------------------+
| 1518 | 256 | 0.02466% |
+------------+---------+-------------------------------------+
To view detailed results, visit:
https://lab.dpdk.org/results/dashboard/patchsets/16254/
UNH-IOL DPDK Community Lab
To manage your email subscriptions, visit:
https://lab.dpdk.org/results/dashboard/preferences/subscriptions/
^ permalink raw reply [flat|nested] 8+ messages in thread
* [dpdk-test-report] |SUCCESS| pw90351-90354 [PATCH] [v2, 4/4] crypto/octeontx2: support lookaside IPv4 transport mode
@ 2021-04-01 20:49 dpdklab
0 siblings, 0 replies; 8+ messages in thread
From: dpdklab @ 2021-04-01 20:49 UTC (permalink / raw)
To: Test Report; +Cc: dpdk-test-reports
[-- Attachment #1: Type: text/plain, Size: 1922 bytes --]
Test-Label: iol-intel-Performance
Test-Status: SUCCESS
http://dpdk.org/patch/90354
_Performance Testing PASS_
Submitter: Tejasree Kondoj <ktejasree@marvell.com>
Date: Thursday, April 01 2021 11:26:23
DPDK git baseline: Repo:dpdk
Branch: master
CommitID:6545d6c52bbc28402b7bde5ee64744a99a3caf3e
90351-90354 --> performance testing pass
Test environment and result as below:
Ubuntu 18.04
Kernel: 4.15.0-generic
Compiler: gcc 7.4
NIC: Intel Corporation Ethernet Converged Network Adapter 82599ES 10000 Mbps
Target: x86_64-native-linuxapp-gcc
Fail/Total: 0/2
Detail performance results:
+------------+---------+-------------------------------------+
| frame_size | txd/rxd | throughput difference from expected |
+============+=========+=====================================+
| 64 | 512 | 3.44492% |
+------------+---------+-------------------------------------+
| 64 | 2048 | 1.98512% |
+------------+---------+-------------------------------------+
Ubuntu 18.04
Kernel: 4.15.0-generic
Compiler: gcc 7.4
NIC: Intel Corporation Ethernet Converged Network Adapter XL710-QDA2 40000 Mbps
Target: x86_64-native-linuxapp-gcc
Fail/Total: 0/2
Detail performance results:
+------------+---------+-------------------------------------+
| frame_size | txd/rxd | throughput difference from expected |
+============+=========+=====================================+
| 64 | 512 | 4.76523% |
+------------+---------+-------------------------------------+
| 64 | 2048 | 5.00087% |
+------------+---------+-------------------------------------+
To view detailed results, visit:
https://lab.dpdk.org/results/dashboard/patchsets/16254/
UNH-IOL DPDK Community Lab
To manage your email subscriptions, visit:
https://lab.dpdk.org/results/dashboard/preferences/subscriptions/
^ permalink raw reply [flat|nested] 8+ messages in thread
* [dpdk-test-report] |SUCCESS| pw90351-90354 [PATCH] [v2, 4/4] crypto/octeontx2: support lookaside IPv4 transport mode
@ 2021-04-01 19:51 dpdklab
0 siblings, 0 replies; 8+ messages in thread
From: dpdklab @ 2021-04-01 19:51 UTC (permalink / raw)
To: Test Report; +Cc: dpdk-test-reports
[-- Attachment #1: Type: text/plain, Size: 1922 bytes --]
Test-Label: iol-intel-Performance
Test-Status: SUCCESS
http://dpdk.org/patch/90354
_Performance Testing PASS_
Submitter: Tejasree Kondoj <ktejasree@marvell.com>
Date: Thursday, April 01 2021 11:26:23
DPDK git baseline: Repo:dpdk
Branch: master
CommitID:6545d6c52bbc28402b7bde5ee64744a99a3caf3e
90351-90354 --> performance testing pass
Test environment and result as below:
Ubuntu 18.04
Kernel: 4.15.0-generic
Compiler: gcc 7.4
NIC: Intel Corporation Ethernet Converged Network Adapter 82599ES 10000 Mbps
Target: x86_64-native-linuxapp-gcc
Fail/Total: 0/2
Detail performance results:
+------------+---------+-------------------------------------+
| frame_size | txd/rxd | throughput difference from expected |
+============+=========+=====================================+
| 64 | 512 | 3.50381% |
+------------+---------+-------------------------------------+
| 64 | 2048 | 1.80413% |
+------------+---------+-------------------------------------+
Ubuntu 18.04
Kernel: 4.15.0-generic
Compiler: gcc 7.4
NIC: Intel Corporation Ethernet Converged Network Adapter XL710-QDA2 40000 Mbps
Target: x86_64-native-linuxapp-gcc
Fail/Total: 0/2
Detail performance results:
+------------+---------+-------------------------------------+
| frame_size | txd/rxd | throughput difference from expected |
+============+=========+=====================================+
| 64 | 512 | 5.12073% |
+------------+---------+-------------------------------------+
| 64 | 2048 | 4.71155% |
+------------+---------+-------------------------------------+
To view detailed results, visit:
https://lab.dpdk.org/results/dashboard/patchsets/16254/
UNH-IOL DPDK Community Lab
To manage your email subscriptions, visit:
https://lab.dpdk.org/results/dashboard/preferences/subscriptions/
^ permalink raw reply [flat|nested] 8+ messages in thread
end of thread, other threads:[~2021-04-02 9:33 UTC | newest]
Thread overview: 8+ messages (download: mbox.gz / follow: Atom feed)
-- links below jump to the message on this page --
2021-04-02 9:33 [dpdk-test-report] |SUCCESS| pw90351-90354 [PATCH] [v2, 4/4] crypto/octeontx2: support lookaside IPv4 transport mode dpdklab
-- strict thread matches above, loose matches on Subject: below --
2021-04-02 8:43 dpdklab
2021-04-01 23:05 dpdklab
2021-04-01 22:32 dpdklab
2021-04-01 21:37 dpdklab
2021-04-01 21:35 dpdklab
2021-04-01 20:49 dpdklab
2021-04-01 19:51 dpdklab
This is a public inbox, see mirroring instructions
for how to clone and mirror all data and code used for this inbox;
as well as URLs for NNTP newsgroup(s).