* [dpdk-test-report] |SUCCESS| pw90263 [PATCH] [v2] net/e1000: fix Rx error counter for badlen packets
@ 2021-04-02 23:52 dpdklab
0 siblings, 0 replies; 9+ messages in thread
From: dpdklab @ 2021-04-02 23:52 UTC (permalink / raw)
To: Test Report; +Cc: dpdk-test-reports
[-- Attachment #1: Type: text/plain, Size: 4312 bytes --]
Test-Label: iol-testing
Test-Status: SUCCESS
http://dpdk.org/patch/90263
_Testing PASS_
Submitter: Alvin Zhang <alvinx.zhang@intel.com>
Date: Thursday, April 01 2021 05:21:32
DPDK git baseline: Repo:dpdk
Branch: master
CommitID:846ec2ea75adc6ce00ad79485fca5d9943ebecaa
90263 --> testing pass
Test environment and result as below:
+---------------------+----------------------+--------------------+----------------+-------------------+
| Environment | dpdk_mingw64_compile | dpdk_meson_compile | dpdk_unit_test | dpdk_compile_spdk |
+=====================+======================+====================+================+===================+
| Windows Server 2019 | PASS | PASS | SKIPPED | SKIPPED |
+---------------------+----------------------+--------------------+----------------+-------------------+
| Ubuntu 18.04 | SKIPPED | PASS | PASS | PASS |
+---------------------+----------------------+--------------------+----------------+-------------------+
| Fedora 31 | SKIPPED | PASS | SKIPPED | PASS |
+---------------------+----------------------+--------------------+----------------+-------------------+
| Fedora 32 | SKIPPED | PASS | SKIPPED | SKIPPED |
+---------------------+----------------------+--------------------+----------------+-------------------+
| FreeBSD 11.2 | SKIPPED | PASS | SKIPPED | SKIPPED |
+---------------------+----------------------+--------------------+----------------+-------------------+
| RHEL8 | SKIPPED | PASS | SKIPPED | SKIPPED |
+---------------------+----------------------+--------------------+----------------+-------------------+
| CentOS Stream 8 | SKIPPED | PASS | SKIPPED | SKIPPED |
+---------------------+----------------------+--------------------+----------------+-------------------+
| Ubuntu 18.04 ARM | SKIPPED | PASS | PASS | SKIPPED |
+---------------------+----------------------+--------------------+----------------+-------------------+
| Arch Linux | SKIPPED | PASS | SKIPPED | SKIPPED |
+---------------------+----------------------+--------------------+----------------+-------------------+
| Ubuntu 20.04 | SKIPPED | PASS | SKIPPED | SKIPPED |
+---------------------+----------------------+--------------------+----------------+-------------------+
| RHEL 7 | SKIPPED | PASS | SKIPPED | SKIPPED |
+---------------------+----------------------+--------------------+----------------+-------------------+
| openSUSE Leap 15 | SKIPPED | PASS | SKIPPED | SKIPPED |
+---------------------+----------------------+--------------------+----------------+-------------------+
Windows Server 2019
Kernel: 10.0
Compiler: clang 9.0 and gcc 8.1.0 (MinGW)
Ubuntu 18.04
Kernel: 4.18.0-240.10.1.el8_3.x86_64
Compiler: gcc 7.5.0-3ubuntu1~18.04
Fedora 31
Kernel: 4.18.0-240.10.1.el8_3.x86_64
Compiler: gcc 9.3.1
Fedora 32
Kernel: 4.18.0-240.10.1.el8_3.x86_64
Compiler: gcc 10.2.1
FreeBSD 11.2
Kernel: 11.2
Compiler: gcc 8.3
RHEL8
Kernel: 4.18.0-240.10.1.el8_3.x86_64
Compiler: gcc 8.3.1 20191121 (Red Hat 8.3.1-5)
CentOS Stream 8
Kernel: 4.18.0-240.10.1.el8_3.x86_64
Compiler: gcc 8.4.1 20200928
Ubuntu 18.04 ARM
Kernel: 5.4.0-53-generic
Compiler: gcc 9.3
Arch Linux
Kernel: 4.18.0-240.10.1.el8_3.x86_64
Compiler: gcc 10.2.0
Ubuntu 20.04
Kernel: 4.18.0-240.10.1.el8_3.x86_64
Compiler: gcc 9.3.0-17ubuntu1~20.04
RHEL 7
Kernel: 4.18.0-240.10.1.el8_3.x86_64
Compiler: gcc 4.8.5 20150623 (Red Hat 4.8.5-44)
openSUSE Leap 15
Kernel: 4.12.14
Compiler: gcc 7.4.1
To view detailed results, visit:
https://lab.dpdk.org/results/dashboard/patchsets/16243/
UNH-IOL DPDK Community Lab
To manage your email subscriptions, visit:
https://lab.dpdk.org/results/dashboard/preferences/subscriptions/
^ permalink raw reply [flat|nested] 9+ messages in thread
* [dpdk-test-report] |SUCCESS| pw90263 [PATCH] [v2] net/e1000: fix Rx error counter for badlen packets
@ 2021-04-02 22:32 dpdklab
0 siblings, 0 replies; 9+ messages in thread
From: dpdklab @ 2021-04-02 22:32 UTC (permalink / raw)
To: Test Report; +Cc: dpdk-test-reports
[-- Attachment #1: Type: text/plain, Size: 4312 bytes --]
Test-Label: iol-testing
Test-Status: SUCCESS
http://dpdk.org/patch/90263
_Testing PASS_
Submitter: Alvin Zhang <alvinx.zhang@intel.com>
Date: Thursday, April 01 2021 05:21:32
DPDK git baseline: Repo:dpdk
Branch: master
CommitID:846ec2ea75adc6ce00ad79485fca5d9943ebecaa
90263 --> testing pass
Test environment and result as below:
+---------------------+----------------------+--------------------+----------------+-------------------+
| Environment | dpdk_mingw64_compile | dpdk_meson_compile | dpdk_unit_test | dpdk_compile_spdk |
+=====================+======================+====================+================+===================+
| Windows Server 2019 | PASS | PASS | SKIPPED | SKIPPED |
+---------------------+----------------------+--------------------+----------------+-------------------+
| Ubuntu 18.04 | SKIPPED | PASS | PASS | SKIPPED |
+---------------------+----------------------+--------------------+----------------+-------------------+
| CentOS Stream 8 | SKIPPED | PASS | SKIPPED | SKIPPED |
+---------------------+----------------------+--------------------+----------------+-------------------+
| Fedora 32 | SKIPPED | PASS | SKIPPED | SKIPPED |
+---------------------+----------------------+--------------------+----------------+-------------------+
| Fedora 31 | SKIPPED | PASS | SKIPPED | PASS |
+---------------------+----------------------+--------------------+----------------+-------------------+
| RHEL 7 | SKIPPED | PASS | SKIPPED | SKIPPED |
+---------------------+----------------------+--------------------+----------------+-------------------+
| Ubuntu 20.04 | SKIPPED | PASS | SKIPPED | SKIPPED |
+---------------------+----------------------+--------------------+----------------+-------------------+
| RHEL8 | SKIPPED | PASS | SKIPPED | SKIPPED |
+---------------------+----------------------+--------------------+----------------+-------------------+
| FreeBSD 11.2 | SKIPPED | PASS | SKIPPED | SKIPPED |
+---------------------+----------------------+--------------------+----------------+-------------------+
| Arch Linux | SKIPPED | PASS | SKIPPED | SKIPPED |
+---------------------+----------------------+--------------------+----------------+-------------------+
| openSUSE Leap 15 | SKIPPED | PASS | SKIPPED | SKIPPED |
+---------------------+----------------------+--------------------+----------------+-------------------+
| Ubuntu 18.04 ARM | SKIPPED | PASS | PASS | SKIPPED |
+---------------------+----------------------+--------------------+----------------+-------------------+
Windows Server 2019
Kernel: 10.0
Compiler: clang 9.0 and gcc 8.1.0 (MinGW)
Ubuntu 18.04
Kernel: 4.18.0-240.10.1.el8_3.x86_64
Compiler: gcc 7.5.0-3ubuntu1~18.04
CentOS Stream 8
Kernel: 4.18.0-240.10.1.el8_3.x86_64
Compiler: gcc 8.4.1 20200928
Fedora 32
Kernel: 4.18.0-240.10.1.el8_3.x86_64
Compiler: gcc 10.2.1
Fedora 31
Kernel: 4.18.0-240.10.1.el8_3.x86_64
Compiler: gcc 9.3.1
RHEL 7
Kernel: 4.18.0-240.10.1.el8_3.x86_64
Compiler: gcc 4.8.5 20150623 (Red Hat 4.8.5-44)
Ubuntu 20.04
Kernel: 4.18.0-240.10.1.el8_3.x86_64
Compiler: gcc 9.3.0-17ubuntu1~20.04
RHEL8
Kernel: 4.18.0-240.10.1.el8_3.x86_64
Compiler: gcc 8.3.1 20191121 (Red Hat 8.3.1-5)
FreeBSD 11.2
Kernel: 11.2
Compiler: gcc 8.3
Arch Linux
Kernel: 4.18.0-240.10.1.el8_3.x86_64
Compiler: gcc 10.2.0
openSUSE Leap 15
Kernel: 4.12.14
Compiler: gcc 7.4.1
Ubuntu 18.04 ARM
Kernel: 5.4.0-53-generic
Compiler: gcc 9.3
To view detailed results, visit:
https://lab.dpdk.org/results/dashboard/patchsets/16243/
UNH-IOL DPDK Community Lab
To manage your email subscriptions, visit:
https://lab.dpdk.org/results/dashboard/preferences/subscriptions/
^ permalink raw reply [flat|nested] 9+ messages in thread
* [dpdk-test-report] |SUCCESS| pw90263 [PATCH] [v2] net/e1000: fix Rx error counter for badlen packets
@ 2021-04-02 9:21 dpdklab
0 siblings, 0 replies; 9+ messages in thread
From: dpdklab @ 2021-04-02 9:21 UTC (permalink / raw)
To: Ali Alnubani, Test Report; +Cc: dpdk-test-reports
[-- Attachment #1: Type: text/plain, Size: 3963 bytes --]
Test-Label: iol-mellanox-Performance
Test-Status: SUCCESS
http://dpdk.org/patch/90263
_Performance Testing PASS_
Submitter: Alvin Zhang <alvinx.zhang@intel.com>
Date: Thursday, April 01 2021 05:21:32
DPDK git baseline: Repo:dpdk
Branch: master
CommitID:846ec2ea75adc6ce00ad79485fca5d9943ebecaa
90263 --> performance testing pass
Test environment and result as below:
Ubuntu 18.04
Kernel: 4.15.0-generic
Compiler: gcc 7.4
NIC: Mellanox ConnectX-5 100000 Mbps
Target: x86_64-native-linuxapp-gcc
Fail/Total: 0/6
Detail performance results:
+------------+---------+-------------------------------------+
| frame_size | txd/rxd | throughput difference from expected |
+============+=========+=====================================+
| 64 | 256 | -0.26237% |
+------------+---------+-------------------------------------+
| 128 | 256 | -0.29297% |
+------------+---------+-------------------------------------+
| 256 | 256 | 0.2646% |
+------------+---------+-------------------------------------+
| 512 | 256 | -0.54573% |
+------------+---------+-------------------------------------+
| 1024 | 256 | -0.26891% |
+------------+---------+-------------------------------------+
| 1518 | 256 | -0.22212% |
+------------+---------+-------------------------------------+
Ubuntu 18.04
Kernel: 4.15.0-generic
Compiler: gcc 7.4
NIC: Mellanox ConnectX-4 Lx 40000 Mbps
Target: x86_64-native-linuxapp-gcc
Fail/Total: 0/6
Detail performance results:
+------------+---------+-------------------------------------+
| frame_size | txd/rxd | throughput difference from expected |
+============+=========+=====================================+
| 64 | 256 | 0.76286% |
+------------+---------+-------------------------------------+
| 128 | 256 | 1.59852% |
+------------+---------+-------------------------------------+
| 256 | 256 | 0.0329% |
+------------+---------+-------------------------------------+
| 512 | 256 | 0.02134% |
+------------+---------+-------------------------------------+
| 1024 | 256 | 0.23025% |
+------------+---------+-------------------------------------+
| 1518 | 256 | -0.33763% |
+------------+---------+-------------------------------------+
Ubuntu 18.04
Kernel: 4.15.0-generic
Compiler: gcc 7.4
NIC: Mellanox ConnectX-4 Lx 25000 Mbps
Target: x86_64-native-linuxapp-gcc
Fail/Total: 0/6
Detail performance results:
+------------+---------+-------------------------------------+
| frame_size | txd/rxd | throughput difference from expected |
+============+=========+=====================================+
| 64 | 256 | 0.43611% |
+------------+---------+-------------------------------------+
| 128 | 256 | 0.22792% |
+------------+---------+-------------------------------------+
| 256 | 256 | 0.79073% |
+------------+---------+-------------------------------------+
| 512 | 256 | 0.00857% |
+------------+---------+-------------------------------------+
| 1024 | 256 | 0.06695% |
+------------+---------+-------------------------------------+
| 1518 | 256 | -0.22157% |
+------------+---------+-------------------------------------+
To view detailed results, visit:
https://lab.dpdk.org/results/dashboard/patchsets/16243/
UNH-IOL DPDK Community Lab
To manage your email subscriptions, visit:
https://lab.dpdk.org/results/dashboard/preferences/subscriptions/
^ permalink raw reply [flat|nested] 9+ messages in thread
* [dpdk-test-report] |SUCCESS| pw90263 [PATCH] [v2] net/e1000: fix Rx error counter for badlen packets
@ 2021-04-02 8:07 dpdklab
0 siblings, 0 replies; 9+ messages in thread
From: dpdklab @ 2021-04-02 8:07 UTC (permalink / raw)
To: Test Report; +Cc: dpdk-test-reports
[-- Attachment #1: Type: text/plain, Size: 949 bytes --]
Test-Label: iol-abi-testing
Test-Status: SUCCESS
http://dpdk.org/patch/90263
_Testing PASS_
Submitter: Alvin Zhang <alvinx.zhang@intel.com>
Date: Thursday, April 01 2021 05:21:32
DPDK git baseline: Repo:dpdk
Branch: master
CommitID:846ec2ea75adc6ce00ad79485fca5d9943ebecaa
90263 --> testing pass
Test environment and result as below:
+------------------+----------+
| Environment | abi_test |
+==================+==========+
| Ubuntu 18.04 ARM | PASS |
+------------------+----------+
| Ubuntu 18.04 | PASS |
+------------------+----------+
Ubuntu 18.04 ARM
Kernel: 5.4.0-53-generic
Compiler: gcc 9.3
Ubuntu 18.04
Kernel: 4.18.0-240.10.1.el8_3.x86_64
Compiler: gcc 7.5.0-3ubuntu1~18.04
To view detailed results, visit:
https://lab.dpdk.org/results/dashboard/patchsets/16243/
UNH-IOL DPDK Community Lab
To manage your email subscriptions, visit:
https://lab.dpdk.org/results/dashboard/preferences/subscriptions/
^ permalink raw reply [flat|nested] 9+ messages in thread
* [dpdk-test-report] |SUCCESS| pw90263 [PATCH] [v2] net/e1000: fix Rx error counter for badlen packets
@ 2021-04-02 7:34 dpdklab
0 siblings, 0 replies; 9+ messages in thread
From: dpdklab @ 2021-04-02 7:34 UTC (permalink / raw)
To: Test Report; +Cc: dpdk-test-reports
[-- Attachment #1: Type: text/plain, Size: 949 bytes --]
Test-Label: iol-abi-testing
Test-Status: SUCCESS
http://dpdk.org/patch/90263
_Testing PASS_
Submitter: Alvin Zhang <alvinx.zhang@intel.com>
Date: Thursday, April 01 2021 05:21:32
DPDK git baseline: Repo:dpdk
Branch: master
CommitID:846ec2ea75adc6ce00ad79485fca5d9943ebecaa
90263 --> testing pass
Test environment and result as below:
+------------------+----------+
| Environment | abi_test |
+==================+==========+
| Ubuntu 18.04 | PASS |
+------------------+----------+
| Ubuntu 18.04 ARM | PASS |
+------------------+----------+
Ubuntu 18.04
Kernel: 4.18.0-240.10.1.el8_3.x86_64
Compiler: gcc 7.5.0-3ubuntu1~18.04
Ubuntu 18.04 ARM
Kernel: 5.4.0-53-generic
Compiler: gcc 9.3
To view detailed results, visit:
https://lab.dpdk.org/results/dashboard/patchsets/16243/
UNH-IOL DPDK Community Lab
To manage your email subscriptions, visit:
https://lab.dpdk.org/results/dashboard/preferences/subscriptions/
^ permalink raw reply [flat|nested] 9+ messages in thread
* [dpdk-test-report] |SUCCESS| pw90263 [PATCH] [v2] net/e1000: fix Rx error counter for badlen packets
@ 2021-04-02 7:07 dpdklab
0 siblings, 0 replies; 9+ messages in thread
From: dpdklab @ 2021-04-02 7:07 UTC (permalink / raw)
To: Ali Alnubani, Test Report; +Cc: dpdk-test-reports
[-- Attachment #1: Type: text/plain, Size: 3963 bytes --]
Test-Label: iol-mellanox-Performance
Test-Status: SUCCESS
http://dpdk.org/patch/90263
_Performance Testing PASS_
Submitter: Alvin Zhang <alvinx.zhang@intel.com>
Date: Thursday, April 01 2021 05:21:32
DPDK git baseline: Repo:dpdk
Branch: master
CommitID:846ec2ea75adc6ce00ad79485fca5d9943ebecaa
90263 --> performance testing pass
Test environment and result as below:
Ubuntu 18.04
Kernel: 4.15.0-generic
Compiler: gcc 7.4
NIC: Mellanox ConnectX-5 100000 Mbps
Target: x86_64-native-linuxapp-gcc
Fail/Total: 0/6
Detail performance results:
+------------+---------+-------------------------------------+
| frame_size | txd/rxd | throughput difference from expected |
+============+=========+=====================================+
| 64 | 256 | -0.22836% |
+------------+---------+-------------------------------------+
| 128 | 256 | -0.48828% |
+------------+---------+-------------------------------------+
| 256 | 256 | -0.03245% |
+------------+---------+-------------------------------------+
| 512 | 256 | 0.63815% |
+------------+---------+-------------------------------------+
| 1024 | 256 | -0.4958% |
+------------+---------+-------------------------------------+
| 1518 | 256 | -0.35071% |
+------------+---------+-------------------------------------+
Ubuntu 18.04
Kernel: 4.15.0-generic
Compiler: gcc 7.4
NIC: Mellanox ConnectX-4 Lx 40000 Mbps
Target: x86_64-native-linuxapp-gcc
Fail/Total: 0/6
Detail performance results:
+------------+---------+-------------------------------------+
| frame_size | txd/rxd | throughput difference from expected |
+============+=========+=====================================+
| 64 | 256 | 0.11714% |
+------------+---------+-------------------------------------+
| 128 | 256 | 1.85335% |
+------------+---------+-------------------------------------+
| 256 | 256 | 0.42044% |
+------------+---------+-------------------------------------+
| 512 | 256 | 0.05334% |
+------------+---------+-------------------------------------+
| 1024 | 256 | 0.19885% |
+------------+---------+-------------------------------------+
| 1518 | 256 | -0.38367% |
+------------+---------+-------------------------------------+
Ubuntu 18.04
Kernel: 4.15.0-generic
Compiler: gcc 7.4
NIC: Mellanox ConnectX-4 Lx 25000 Mbps
Target: x86_64-native-linuxapp-gcc
Fail/Total: 0/6
Detail performance results:
+------------+---------+-------------------------------------+
| frame_size | txd/rxd | throughput difference from expected |
+============+=========+=====================================+
| 64 | 256 | 0.57293% |
+------------+---------+-------------------------------------+
| 128 | 256 | 0.01381% |
+------------+---------+-------------------------------------+
| 256 | 256 | 1.36264% |
+------------+---------+-------------------------------------+
| 512 | 256 | 0.45396% |
+------------+---------+-------------------------------------+
| 1024 | 256 | 0.06695% |
+------------+---------+-------------------------------------+
| 1518 | 256 | 0.02462% |
+------------+---------+-------------------------------------+
To view detailed results, visit:
https://lab.dpdk.org/results/dashboard/patchsets/16243/
UNH-IOL DPDK Community Lab
To manage your email subscriptions, visit:
https://lab.dpdk.org/results/dashboard/preferences/subscriptions/
^ permalink raw reply [flat|nested] 9+ messages in thread
* [dpdk-test-report] |SUCCESS| pw90263 [PATCH] [v2] net/e1000: fix Rx error counter for badlen packets
@ 2021-04-02 4:37 dpdklab
0 siblings, 0 replies; 9+ messages in thread
From: dpdklab @ 2021-04-02 4:37 UTC (permalink / raw)
To: Test Report; +Cc: dpdk-test-reports
[-- Attachment #1: Type: text/plain, Size: 1913 bytes --]
Test-Label: iol-intel-Performance
Test-Status: SUCCESS
http://dpdk.org/patch/90263
_Performance Testing PASS_
Submitter: Alvin Zhang <alvinx.zhang@intel.com>
Date: Thursday, April 01 2021 05:21:32
DPDK git baseline: Repo:dpdk
Branch: master
CommitID:846ec2ea75adc6ce00ad79485fca5d9943ebecaa
90263 --> performance testing pass
Test environment and result as below:
Ubuntu 18.04
Kernel: 4.15.0-generic
Compiler: gcc 7.4
NIC: Intel Corporation Ethernet Converged Network Adapter 82599ES 10000 Mbps
Target: x86_64-native-linuxapp-gcc
Fail/Total: 0/2
Detail performance results:
+------------+---------+-------------------------------------+
| frame_size | txd/rxd | throughput difference from expected |
+============+=========+=====================================+
| 64 | 512 | 3.22749% |
+------------+---------+-------------------------------------+
| 64 | 2048 | 2.29826% |
+------------+---------+-------------------------------------+
Ubuntu 18.04
Kernel: 4.15.0-generic
Compiler: gcc 7.4
NIC: Intel Corporation Ethernet Converged Network Adapter XL710-QDA2 40000 Mbps
Target: x86_64-native-linuxapp-gcc
Fail/Total: 0/2
Detail performance results:
+------------+---------+-------------------------------------+
| frame_size | txd/rxd | throughput difference from expected |
+============+=========+=====================================+
| 64 | 512 | 5.90961% |
+------------+---------+-------------------------------------+
| 64 | 2048 | 4.87616% |
+------------+---------+-------------------------------------+
To view detailed results, visit:
https://lab.dpdk.org/results/dashboard/patchsets/16243/
UNH-IOL DPDK Community Lab
To manage your email subscriptions, visit:
https://lab.dpdk.org/results/dashboard/preferences/subscriptions/
^ permalink raw reply [flat|nested] 9+ messages in thread
* [dpdk-test-report] |SUCCESS| pw90263 [PATCH] [v2] net/e1000: fix Rx error counter for badlen packets
@ 2021-04-02 3:14 dpdklab
0 siblings, 0 replies; 9+ messages in thread
From: dpdklab @ 2021-04-02 3:14 UTC (permalink / raw)
To: Test Report; +Cc: dpdk-test-reports
[-- Attachment #1: Type: text/plain, Size: 1913 bytes --]
Test-Label: iol-intel-Performance
Test-Status: SUCCESS
http://dpdk.org/patch/90263
_Performance Testing PASS_
Submitter: Alvin Zhang <alvinx.zhang@intel.com>
Date: Thursday, April 01 2021 05:21:32
DPDK git baseline: Repo:dpdk
Branch: master
CommitID:846ec2ea75adc6ce00ad79485fca5d9943ebecaa
90263 --> performance testing pass
Test environment and result as below:
Ubuntu 18.04
Kernel: 4.15.0-generic
Compiler: gcc 7.4
NIC: Intel Corporation Ethernet Converged Network Adapter 82599ES 10000 Mbps
Target: x86_64-native-linuxapp-gcc
Fail/Total: 0/2
Detail performance results:
+------------+---------+-------------------------------------+
| frame_size | txd/rxd | throughput difference from expected |
+============+=========+=====================================+
| 64 | 512 | 3.4653% |
+------------+---------+-------------------------------------+
| 64 | 2048 | 2.26378% |
+------------+---------+-------------------------------------+
Ubuntu 18.04
Kernel: 4.15.0-generic
Compiler: gcc 7.4
NIC: Intel Corporation Ethernet Converged Network Adapter XL710-QDA2 40000 Mbps
Target: x86_64-native-linuxapp-gcc
Fail/Total: 0/2
Detail performance results:
+------------+---------+-------------------------------------+
| frame_size | txd/rxd | throughput difference from expected |
+============+=========+=====================================+
| 64 | 512 | 5.95954% |
+------------+---------+-------------------------------------+
| 64 | 2048 | 4.79884% |
+------------+---------+-------------------------------------+
To view detailed results, visit:
https://lab.dpdk.org/results/dashboard/patchsets/16243/
UNH-IOL DPDK Community Lab
To manage your email subscriptions, visit:
https://lab.dpdk.org/results/dashboard/preferences/subscriptions/
^ permalink raw reply [flat|nested] 9+ messages in thread
* [dpdk-test-report] |SUCCESS| pw90263 [PATCH v2] net/e1000: fix Rx error counter for badlen packets
[not found] <20210401052132.21080-1-alvinx.zhang@intel.com>
@ 2021-04-01 5:23 ` checkpatch
0 siblings, 0 replies; 9+ messages in thread
From: checkpatch @ 2021-04-01 5:23 UTC (permalink / raw)
To: test-report
Test-Label: checkpatch
Test-Status: SUCCESS
http://dpdk.org/patch/90263
_coding style OK_
^ permalink raw reply [flat|nested] 9+ messages in thread
end of thread, other threads:[~2021-04-02 23:52 UTC | newest]
Thread overview: 9+ messages (download: mbox.gz / follow: Atom feed)
-- links below jump to the message on this page --
2021-04-02 23:52 [dpdk-test-report] |SUCCESS| pw90263 [PATCH] [v2] net/e1000: fix Rx error counter for badlen packets dpdklab
-- strict thread matches above, loose matches on Subject: below --
2021-04-02 22:32 dpdklab
2021-04-02 9:21 dpdklab
2021-04-02 8:07 dpdklab
2021-04-02 7:34 dpdklab
2021-04-02 7:07 dpdklab
2021-04-02 4:37 dpdklab
2021-04-02 3:14 dpdklab
[not found] <20210401052132.21080-1-alvinx.zhang@intel.com>
2021-04-01 5:23 ` [dpdk-test-report] |SUCCESS| pw90263 [PATCH v2] " checkpatch
This is a public inbox, see mirroring instructions
for how to clone and mirror all data and code used for this inbox;
as well as URLs for NNTP newsgroup(s).