[-- Attachment #1: Type: text/plain, Size: 1905 bytes --] Test-Label: iol-intel-Performance Test-Status: SUCCESS http://dpdk.org/patch/90548 _Performance Testing PASS_ Submitter: Matan Azrad <matan@nvidia.com> Date: Sunday, April 04 2021 15:17:02 DPDK git baseline: Repo:dpdk Branch: master CommitID:aa9cb78f66c53728593c1f65f69f2bbc7ca4a4a9 90548 --> performance testing pass Test environment and result as below: Ubuntu 18.04 Kernel: 4.15.0-generic Compiler: gcc 7.4 NIC: Intel Corporation Ethernet Converged Network Adapter 82599ES 10000 Mbps Target: x86_64-native-linuxapp-gcc Fail/Total: 0/2 Detail performance results: +------------+---------+-------------------------------------+ | frame_size | txd/rxd | throughput difference from expected | +============+=========+=====================================+ | 64 | 512 | 2.98061% | +------------+---------+-------------------------------------+ | 64 | 2048 | 2.44764% | +------------+---------+-------------------------------------+ Ubuntu 18.04 Kernel: 4.15.0-generic Compiler: gcc 7.4 NIC: Intel Corporation Ethernet Converged Network Adapter XL710-QDA2 40000 Mbps Target: x86_64-native-linuxapp-gcc Fail/Total: 0/2 Detail performance results: +------------+---------+-------------------------------------+ | frame_size | txd/rxd | throughput difference from expected | +============+=========+=====================================+ | 64 | 512 | 6.14527% | +------------+---------+-------------------------------------+ | 64 | 2048 | 5.25778% | +------------+---------+-------------------------------------+ To view detailed results, visit: https://lab.dpdk.org/results/dashboard/patchsets/16289/ UNH-IOL DPDK Community Lab To manage your email subscriptions, visit: https://lab.dpdk.org/results/dashboard/preferences/subscriptions/
[-- Attachment #1: Type: text/plain, Size: 941 bytes --] Test-Label: iol-abi-testing Test-Status: SUCCESS http://dpdk.org/patch/90548 _Testing PASS_ Submitter: Matan Azrad <matan@nvidia.com> Date: Sunday, April 04 2021 15:17:02 DPDK git baseline: Repo:dpdk Branch: master CommitID:aa9cb78f66c53728593c1f65f69f2bbc7ca4a4a9 90548 --> testing pass Test environment and result as below: +------------------+----------+ | Environment | abi_test | +==================+==========+ | Ubuntu 18.04 ARM | PASS | +------------------+----------+ | Ubuntu 18.04 | PASS | +------------------+----------+ Ubuntu 18.04 ARM Kernel: 5.4.0-53-generic Compiler: gcc 9.3 Ubuntu 18.04 Kernel: 4.18.0-240.10.1.el8_3.x86_64 Compiler: gcc 7.5.0-3ubuntu1~18.04 To view detailed results, visit: https://lab.dpdk.org/results/dashboard/patchsets/16289/ UNH-IOL DPDK Community Lab To manage your email subscriptions, visit: https://lab.dpdk.org/results/dashboard/preferences/subscriptions/
[-- Attachment #1: Type: text/plain, Size: 4304 bytes --] Test-Label: iol-testing Test-Status: SUCCESS http://dpdk.org/patch/90548 _Testing PASS_ Submitter: Matan Azrad <matan@nvidia.com> Date: Sunday, April 04 2021 15:17:02 DPDK git baseline: Repo:dpdk Branch: master CommitID:aa9cb78f66c53728593c1f65f69f2bbc7ca4a4a9 90548 --> testing pass Test environment and result as below: +---------------------+----------------------+--------------------+----------------+-------------------+ | Environment | dpdk_mingw64_compile | dpdk_meson_compile | dpdk_unit_test | dpdk_compile_spdk | +=====================+======================+====================+================+===================+ | Windows Server 2019 | PASS | PASS | SKIPPED | SKIPPED | +---------------------+----------------------+--------------------+----------------+-------------------+ | Ubuntu 18.04 | SKIPPED | PASS | PASS | PASS | +---------------------+----------------------+--------------------+----------------+-------------------+ | CentOS Stream 8 | SKIPPED | PASS | SKIPPED | SKIPPED | +---------------------+----------------------+--------------------+----------------+-------------------+ | FreeBSD 11.2 | SKIPPED | PASS | SKIPPED | SKIPPED | +---------------------+----------------------+--------------------+----------------+-------------------+ | Fedora 32 | SKIPPED | PASS | SKIPPED | SKIPPED | +---------------------+----------------------+--------------------+----------------+-------------------+ | Fedora 31 | SKIPPED | PASS | SKIPPED | PASS | +---------------------+----------------------+--------------------+----------------+-------------------+ | Ubuntu 20.04 | SKIPPED | PASS | SKIPPED | SKIPPED | +---------------------+----------------------+--------------------+----------------+-------------------+ | RHEL 7 | SKIPPED | PASS | SKIPPED | SKIPPED | +---------------------+----------------------+--------------------+----------------+-------------------+ | RHEL8 | SKIPPED | PASS | SKIPPED | SKIPPED | +---------------------+----------------------+--------------------+----------------+-------------------+ | Arch Linux | SKIPPED | PASS | SKIPPED | SKIPPED | +---------------------+----------------------+--------------------+----------------+-------------------+ | openSUSE Leap 15 | SKIPPED | PASS | SKIPPED | SKIPPED | +---------------------+----------------------+--------------------+----------------+-------------------+ | Ubuntu 18.04 ARM | SKIPPED | PASS | PASS | SKIPPED | +---------------------+----------------------+--------------------+----------------+-------------------+ Windows Server 2019 Kernel: 10.0 Compiler: clang 9.0 and gcc 8.1.0 (MinGW) Ubuntu 18.04 Kernel: 4.18.0-240.10.1.el8_3.x86_64 Compiler: gcc 7.5.0-3ubuntu1~18.04 CentOS Stream 8 Kernel: 4.18.0-240.10.1.el8_3.x86_64 Compiler: gcc 8.4.1 20200928 FreeBSD 11.2 Kernel: 11.2 Compiler: gcc 8.3 Fedora 32 Kernel: 4.18.0-240.10.1.el8_3.x86_64 Compiler: gcc 10.2.1 Fedora 31 Kernel: 4.18.0-240.10.1.el8_3.x86_64 Compiler: gcc 9.3.1 Ubuntu 20.04 Kernel: 4.18.0-240.10.1.el8_3.x86_64 Compiler: gcc 9.3.0-17ubuntu1~20.04 RHEL 7 Kernel: 4.18.0-240.10.1.el8_3.x86_64 Compiler: gcc 4.8.5 20150623 (Red Hat 4.8.5-44) RHEL8 Kernel: 4.18.0-240.10.1.el8_3.x86_64 Compiler: gcc 8.3.1 20191121 (Red Hat 8.3.1-5) Arch Linux Kernel: 4.18.0-240.10.1.el8_3.x86_64 Compiler: gcc 10.2.0 openSUSE Leap 15 Kernel: 4.12.14 Compiler: gcc 7.4.1 Ubuntu 18.04 ARM Kernel: 5.4.0-53-generic Compiler: gcc 9.3 To view detailed results, visit: https://lab.dpdk.org/results/dashboard/patchsets/16289/ UNH-IOL DPDK Community Lab To manage your email subscriptions, visit: https://lab.dpdk.org/results/dashboard/preferences/subscriptions/
[-- Attachment #1: Type: text/plain, Size: 3955 bytes --] Test-Label: iol-mellanox-Performance Test-Status: SUCCESS http://dpdk.org/patch/90548 _Performance Testing PASS_ Submitter: Matan Azrad <matan@nvidia.com> Date: Sunday, April 04 2021 15:17:02 DPDK git baseline: Repo:dpdk Branch: master CommitID:aa9cb78f66c53728593c1f65f69f2bbc7ca4a4a9 90548 --> performance testing pass Test environment and result as below: Ubuntu 18.04 Kernel: 4.15.0-generic Compiler: gcc 7.4 NIC: Mellanox ConnectX-5 100000 Mbps Target: x86_64-native-linuxapp-gcc Fail/Total: 0/6 Detail performance results: +------------+---------+-------------------------------------+ | frame_size | txd/rxd | throughput difference from expected | +============+=========+=====================================+ | 64 | 256 | 0.25157% | +------------+---------+-------------------------------------+ | 128 | 256 | -0.50565% | +------------+---------+-------------------------------------+ | 256 | 256 | 0.065% | +------------+---------+-------------------------------------+ | 512 | 256 | -0.40275% | +------------+---------+-------------------------------------+ | 1024 | 256 | 0.8869% | +------------+---------+-------------------------------------+ | 1518 | 256 | -0.02345% | +------------+---------+-------------------------------------+ Ubuntu 18.04 Kernel: 4.15.0-generic Compiler: gcc 7.4 NIC: Mellanox ConnectX-4 Lx 25000 Mbps Target: x86_64-native-linuxapp-gcc Fail/Total: 0/6 Detail performance results: +------------+---------+-------------------------------------+ | frame_size | txd/rxd | throughput difference from expected | +============+=========+=====================================+ | 64 | 256 | -0.62619% | +------------+---------+-------------------------------------+ | 128 | 256 | 0.00691% | +------------+---------+-------------------------------------+ | 256 | 256 | -0.45043% | +------------+---------+-------------------------------------+ | 512 | 256 | -0.811% | +------------+---------+-------------------------------------+ | 1024 | 256 | 0.01671% | +------------+---------+-------------------------------------+ | 1518 | 256 | -0.17203% | +------------+---------+-------------------------------------+ Ubuntu 18.04 Kernel: 4.15.0-generic Compiler: gcc 7.4 NIC: Mellanox ConnectX-4 Lx 40000 Mbps Target: x86_64-native-linuxapp-gcc Fail/Total: 0/6 Detail performance results: +------------+---------+-------------------------------------+ | frame_size | txd/rxd | throughput difference from expected | +============+=========+=====================================+ | 64 | 256 | -0.69056% | +------------+---------+-------------------------------------+ | 128 | 256 | -0.24703% | +------------+---------+-------------------------------------+ | 256 | 256 | 0.01824% | +------------+---------+-------------------------------------+ | 512 | 256 | 0.02662% | +------------+---------+-------------------------------------+ | 1024 | 256 | -0.1776% | +------------+---------+-------------------------------------+ | 1518 | 256 | 0.01539% | +------------+---------+-------------------------------------+ To view detailed results, visit: https://lab.dpdk.org/results/dashboard/patchsets/16289/ UNH-IOL DPDK Community Lab To manage your email subscriptions, visit: https://lab.dpdk.org/results/dashboard/preferences/subscriptions/