Test-Label: checkpatch Test-Status: SUCCESS http://dpdk.org/patch/90552 _coding style OK_
From: robot@bytheb.org Test-Label: travis-robot Test-Status: SUCCESS http://patchwork.dpdk.org/patch/90552/ _travis build: passed_ Build URL: https://travis-ci.com/ovsrobot/dpdk/builds/222131902
From: robot@bytheb.org Test-Label: github-robot Test-Status: SUCCESS http://patchwork.dpdk.org/patch/90552/ _github build: passed_ Build URL: https://github.com/ovsrobot/dpdk/actions/runs/718997521
[-- Attachment #1: Type: text/plain, Size: 1915 bytes --] Test-Label: iol-intel-Performance Test-Status: SUCCESS http://dpdk.org/patch/90552 _Performance Testing PASS_ Submitter: Slava Ovsiienko <viacheslavo@nvidia.com> Date: Monday, April 05 2021 09:59:01 DPDK git baseline: Repo:dpdk Branch: master CommitID:aa9cb78f66c53728593c1f65f69f2bbc7ca4a4a9 90552 --> performance testing pass Test environment and result as below: Ubuntu 18.04 Kernel: 4.15.0-generic Compiler: gcc 7.4 NIC: Intel Corporation Ethernet Converged Network Adapter 82599ES 10000 Mbps Target: x86_64-native-linuxapp-gcc Fail/Total: 0/2 Detail performance results: +------------+---------+-------------------------------------+ | frame_size | txd/rxd | throughput difference from expected | +============+=========+=====================================+ | 64 | 512 | 3.66235% | +------------+---------+-------------------------------------+ | 64 | 2048 | 2.51084% | +------------+---------+-------------------------------------+ Ubuntu 18.04 Kernel: 4.15.0-generic Compiler: gcc 7.4 NIC: Intel Corporation Ethernet Converged Network Adapter XL710-QDA2 40000 Mbps Target: x86_64-native-linuxapp-gcc Fail/Total: 0/2 Detail performance results: +------------+---------+-------------------------------------+ | frame_size | txd/rxd | throughput difference from expected | +============+=========+=====================================+ | 64 | 512 | 5.80775% | +------------+---------+-------------------------------------+ | 64 | 2048 | 4.67912% | +------------+---------+-------------------------------------+ To view detailed results, visit: https://lab.dpdk.org/results/dashboard/patchsets/16291/ UNH-IOL DPDK Community Lab To manage your email subscriptions, visit: https://lab.dpdk.org/results/dashboard/preferences/subscriptions/
[-- Attachment #1: Type: text/plain, Size: 3965 bytes --] Test-Label: iol-mellanox-Performance Test-Status: SUCCESS http://dpdk.org/patch/90552 _Performance Testing PASS_ Submitter: Slava Ovsiienko <viacheslavo@nvidia.com> Date: Monday, April 05 2021 09:59:01 DPDK git baseline: Repo:dpdk Branch: master CommitID:aa9cb78f66c53728593c1f65f69f2bbc7ca4a4a9 90552 --> performance testing pass Test environment and result as below: Ubuntu 18.04 Kernel: 4.15.0-generic Compiler: gcc 7.4 NIC: Mellanox ConnectX-5 100000 Mbps Target: x86_64-native-linuxapp-gcc Fail/Total: 0/6 Detail performance results: +------------+---------+-------------------------------------+ | frame_size | txd/rxd | throughput difference from expected | +============+=========+=====================================+ | 64 | 256 | 0.23372% | +------------+---------+-------------------------------------+ | 128 | 256 | -0.2639% | +------------+---------+-------------------------------------+ | 256 | 256 | 0.16% | +------------+---------+-------------------------------------+ | 512 | 256 | -0.6479% | +------------+---------+-------------------------------------+ | 1024 | 256 | 0.68418% | +------------+---------+-------------------------------------+ | 1518 | 256 | 0.12897% | +------------+---------+-------------------------------------+ Ubuntu 18.04 Kernel: 4.15.0-generic Compiler: gcc 7.4 NIC: Mellanox ConnectX-4 Lx 25000 Mbps Target: x86_64-native-linuxapp-gcc Fail/Total: 0/6 Detail performance results: +------------+---------+-------------------------------------+ | frame_size | txd/rxd | throughput difference from expected | +============+=========+=====================================+ | 64 | 256 | -0.136% | +------------+---------+-------------------------------------+ | 128 | 256 | 0.09326% | +------------+---------+-------------------------------------+ | 256 | 256 | 0.10394% | +------------+---------+-------------------------------------+ | 512 | 256 | -0.64026% | +------------+---------+-------------------------------------+ | 1024 | 256 | -0.10027% | +------------+---------+-------------------------------------+ | 1518 | 256 | -0.27034% | +------------+---------+-------------------------------------+ Ubuntu 18.04 Kernel: 4.15.0-generic Compiler: gcc 7.4 NIC: Mellanox ConnectX-4 Lx 40000 Mbps Target: x86_64-native-linuxapp-gcc Fail/Total: 0/6 Detail performance results: +------------+---------+-------------------------------------+ | frame_size | txd/rxd | throughput difference from expected | +============+=========+=====================================+ | 64 | 256 | 0.59962% | +------------+---------+-------------------------------------+ | 128 | 256 | -0.14937% | +------------+---------+-------------------------------------+ | 256 | 256 | -0.24811% | +------------+---------+-------------------------------------+ | 512 | 256 | -0.21294% | +------------+---------+-------------------------------------+ | 1024 | 256 | 0.26118% | +------------+---------+-------------------------------------+ | 1518 | 256 | -0.10771% | +------------+---------+-------------------------------------+ To view detailed results, visit: https://lab.dpdk.org/results/dashboard/patchsets/16291/ UNH-IOL DPDK Community Lab To manage your email subscriptions, visit: https://lab.dpdk.org/results/dashboard/preferences/subscriptions/
[-- Attachment #1: Type: text/plain, Size: 951 bytes --] Test-Label: iol-abi-testing Test-Status: SUCCESS http://dpdk.org/patch/90552 _Testing PASS_ Submitter: Slava Ovsiienko <viacheslavo@nvidia.com> Date: Monday, April 05 2021 09:59:01 DPDK git baseline: Repo:dpdk Branch: master CommitID:aa9cb78f66c53728593c1f65f69f2bbc7ca4a4a9 90552 --> testing pass Test environment and result as below: +------------------+----------+ | Environment | abi_test | +==================+==========+ | Ubuntu 18.04 | PASS | +------------------+----------+ | Ubuntu 18.04 ARM | PASS | +------------------+----------+ Ubuntu 18.04 Kernel: 4.18.0-240.10.1.el8_3.x86_64 Compiler: gcc 7.5.0-3ubuntu1~18.04 Ubuntu 18.04 ARM Kernel: 5.4.0-53-generic Compiler: gcc 9.3 To view detailed results, visit: https://lab.dpdk.org/results/dashboard/patchsets/16291/ UNH-IOL DPDK Community Lab To manage your email subscriptions, visit: https://lab.dpdk.org/results/dashboard/preferences/subscriptions/
[-- Attachment #1: Type: text/plain, Size: 4314 bytes --] Test-Label: iol-testing Test-Status: SUCCESS http://dpdk.org/patch/90552 _Testing PASS_ Submitter: Slava Ovsiienko <viacheslavo@nvidia.com> Date: Monday, April 05 2021 09:59:01 DPDK git baseline: Repo:dpdk Branch: master CommitID:aa9cb78f66c53728593c1f65f69f2bbc7ca4a4a9 90552 --> testing pass Test environment and result as below: +---------------------+----------------------+--------------------+-------------------+----------------+ | Environment | dpdk_mingw64_compile | dpdk_meson_compile | dpdk_compile_spdk | dpdk_unit_test | +=====================+======================+====================+===================+================+ | Windows Server 2019 | PASS | PASS | SKIPPED | SKIPPED | +---------------------+----------------------+--------------------+-------------------+----------------+ | Fedora 32 | SKIPPED | PASS | SKIPPED | SKIPPED | +---------------------+----------------------+--------------------+-------------------+----------------+ | CentOS Stream 8 | SKIPPED | PASS | SKIPPED | SKIPPED | +---------------------+----------------------+--------------------+-------------------+----------------+ | Ubuntu 18.04 | SKIPPED | PASS | PASS | PASS | +---------------------+----------------------+--------------------+-------------------+----------------+ | FreeBSD 11.2 | SKIPPED | PASS | SKIPPED | SKIPPED | +---------------------+----------------------+--------------------+-------------------+----------------+ | RHEL 7 | SKIPPED | PASS | SKIPPED | SKIPPED | +---------------------+----------------------+--------------------+-------------------+----------------+ | Fedora 31 | SKIPPED | PASS | PASS | SKIPPED | +---------------------+----------------------+--------------------+-------------------+----------------+ | Ubuntu 20.04 | SKIPPED | PASS | SKIPPED | SKIPPED | +---------------------+----------------------+--------------------+-------------------+----------------+ | RHEL8 | SKIPPED | PASS | SKIPPED | SKIPPED | +---------------------+----------------------+--------------------+-------------------+----------------+ | Arch Linux | SKIPPED | PASS | SKIPPED | SKIPPED | +---------------------+----------------------+--------------------+-------------------+----------------+ | openSUSE Leap 15 | SKIPPED | PASS | SKIPPED | SKIPPED | +---------------------+----------------------+--------------------+-------------------+----------------+ | Ubuntu 18.04 ARM | SKIPPED | PASS | SKIPPED | PASS | +---------------------+----------------------+--------------------+-------------------+----------------+ Windows Server 2019 Kernel: 10.0 Compiler: clang 9.0 and gcc 8.1.0 (MinGW) Fedora 32 Kernel: 4.18.0-240.10.1.el8_3.x86_64 Compiler: gcc 10.2.1 CentOS Stream 8 Kernel: 4.18.0-240.10.1.el8_3.x86_64 Compiler: gcc 8.4.1 20200928 Ubuntu 18.04 Kernel: 4.18.0-240.10.1.el8_3.x86_64 Compiler: gcc 7.5.0-3ubuntu1~18.04 FreeBSD 11.2 Kernel: 11.2 Compiler: gcc 8.3 RHEL 7 Kernel: 4.18.0-240.10.1.el8_3.x86_64 Compiler: gcc 4.8.5 20150623 (Red Hat 4.8.5-44) Fedora 31 Kernel: 4.18.0-240.10.1.el8_3.x86_64 Compiler: gcc 9.3.1 Ubuntu 20.04 Kernel: 4.18.0-240.10.1.el8_3.x86_64 Compiler: gcc 9.3.0-17ubuntu1~20.04 RHEL8 Kernel: 4.18.0-240.10.1.el8_3.x86_64 Compiler: gcc 8.3.1 20191121 (Red Hat 8.3.1-5) Arch Linux Kernel: 4.18.0-240.10.1.el8_3.x86_64 Compiler: gcc 10.2.0 openSUSE Leap 15 Kernel: 4.12.14 Compiler: gcc 7.4.1 Ubuntu 18.04 ARM Kernel: 5.4.0-53-generic Compiler: gcc 9.3 To view detailed results, visit: https://lab.dpdk.org/results/dashboard/patchsets/16291/ UNH-IOL DPDK Community Lab To manage your email subscriptions, visit: https://lab.dpdk.org/results/dashboard/preferences/subscriptions/