* [dpdk-test-report] |SUCCESS| pw90593 [PATCH] [v2] net/mlx5: fix link speed calculation on Windows
@ 2021-04-06 8:42 dpdklab
0 siblings, 0 replies; 5+ messages in thread
From: dpdklab @ 2021-04-06 8:42 UTC (permalink / raw)
To: Test Report; +Cc: dpdk-test-reports
[-- Attachment #1: Type: text/plain, Size: 947 bytes --]
Test-Label: iol-abi-testing
Test-Status: SUCCESS
http://dpdk.org/patch/90593
_Testing PASS_
Submitter: Tal Shnaiderman <talshn@nvidia.com>
Date: Tuesday, April 06 2021 07:31:59
DPDK git baseline: Repo:dpdk
Branch: master
CommitID:aa9cb78f66c53728593c1f65f69f2bbc7ca4a4a9
90593 --> testing pass
Test environment and result as below:
+------------------+----------+
| Environment | abi_test |
+==================+==========+
| Ubuntu 18.04 ARM | PASS |
+------------------+----------+
| Ubuntu 18.04 | PASS |
+------------------+----------+
Ubuntu 18.04 ARM
Kernel: 5.4.0-53-generic
Compiler: gcc 9.3
Ubuntu 18.04
Kernel: 4.18.0-240.10.1.el8_3.x86_64
Compiler: gcc 7.5.0-3ubuntu1~18.04
To view detailed results, visit:
https://lab.dpdk.org/results/dashboard/patchsets/16311/
UNH-IOL DPDK Community Lab
To manage your email subscriptions, visit:
https://lab.dpdk.org/results/dashboard/preferences/subscriptions/
^ permalink raw reply [flat|nested] 5+ messages in thread
* [dpdk-test-report] |SUCCESS| pw90593 [PATCH] [v2] net/mlx5: fix link speed calculation on Windows
@ 2021-04-06 8:45 dpdklab
0 siblings, 0 replies; 5+ messages in thread
From: dpdklab @ 2021-04-06 8:45 UTC (permalink / raw)
To: Test Report; +Cc: dpdk-test-reports
[-- Attachment #1: Type: text/plain, Size: 4310 bytes --]
Test-Label: iol-testing
Test-Status: SUCCESS
http://dpdk.org/patch/90593
_Testing PASS_
Submitter: Tal Shnaiderman <talshn@nvidia.com>
Date: Tuesday, April 06 2021 07:31:59
DPDK git baseline: Repo:dpdk
Branch: master
CommitID:aa9cb78f66c53728593c1f65f69f2bbc7ca4a4a9
90593 --> testing pass
Test environment and result as below:
+---------------------+----------------------+--------------------+----------------+-------------------+
| Environment | dpdk_mingw64_compile | dpdk_meson_compile | dpdk_unit_test | dpdk_compile_spdk |
+=====================+======================+====================+================+===================+
| Windows Server 2019 | PASS | PASS | SKIPPED | SKIPPED |
+---------------------+----------------------+--------------------+----------------+-------------------+
| Ubuntu 18.04 | SKIPPED | PASS | PASS | PASS |
+---------------------+----------------------+--------------------+----------------+-------------------+
| Fedora 32 | SKIPPED | PASS | SKIPPED | SKIPPED |
+---------------------+----------------------+--------------------+----------------+-------------------+
| Fedora 31 | SKIPPED | PASS | SKIPPED | PASS |
+---------------------+----------------------+--------------------+----------------+-------------------+
| CentOS Stream 8 | SKIPPED | PASS | SKIPPED | SKIPPED |
+---------------------+----------------------+--------------------+----------------+-------------------+
| RHEL 7 | SKIPPED | PASS | SKIPPED | SKIPPED |
+---------------------+----------------------+--------------------+----------------+-------------------+
| Ubuntu 20.04 | SKIPPED | PASS | SKIPPED | SKIPPED |
+---------------------+----------------------+--------------------+----------------+-------------------+
| RHEL8 | SKIPPED | PASS | SKIPPED | SKIPPED |
+---------------------+----------------------+--------------------+----------------+-------------------+
| Arch Linux | SKIPPED | PASS | SKIPPED | SKIPPED |
+---------------------+----------------------+--------------------+----------------+-------------------+
| FreeBSD 11.2 | SKIPPED | PASS | SKIPPED | SKIPPED |
+---------------------+----------------------+--------------------+----------------+-------------------+
| openSUSE Leap 15 | SKIPPED | PASS | SKIPPED | SKIPPED |
+---------------------+----------------------+--------------------+----------------+-------------------+
| Ubuntu 18.04 ARM | SKIPPED | PASS | PASS | SKIPPED |
+---------------------+----------------------+--------------------+----------------+-------------------+
Windows Server 2019
Kernel: 10.0
Compiler: clang 9.0 and gcc 8.1.0 (MinGW)
Ubuntu 18.04
Kernel: 4.18.0-240.10.1.el8_3.x86_64
Compiler: gcc 7.5.0-3ubuntu1~18.04
Fedora 32
Kernel: 4.18.0-240.10.1.el8_3.x86_64
Compiler: gcc 10.2.1
Fedora 31
Kernel: 4.18.0-240.10.1.el8_3.x86_64
Compiler: gcc 9.3.1
CentOS Stream 8
Kernel: 4.18.0-240.10.1.el8_3.x86_64
Compiler: gcc 8.4.1 20200928
RHEL 7
Kernel: 4.18.0-240.10.1.el8_3.x86_64
Compiler: gcc 4.8.5 20150623 (Red Hat 4.8.5-44)
Ubuntu 20.04
Kernel: 4.18.0-240.10.1.el8_3.x86_64
Compiler: gcc 9.3.0-17ubuntu1~20.04
RHEL8
Kernel: 4.18.0-240.10.1.el8_3.x86_64
Compiler: gcc 8.3.1 20191121 (Red Hat 8.3.1-5)
Arch Linux
Kernel: 4.18.0-240.10.1.el8_3.x86_64
Compiler: gcc 10.2.0
FreeBSD 11.2
Kernel: 11.2
Compiler: gcc 8.3
openSUSE Leap 15
Kernel: 4.12.14
Compiler: gcc 7.4.1
Ubuntu 18.04 ARM
Kernel: 5.4.0-53-generic
Compiler: gcc 9.3
To view detailed results, visit:
https://lab.dpdk.org/results/dashboard/patchsets/16311/
UNH-IOL DPDK Community Lab
To manage your email subscriptions, visit:
https://lab.dpdk.org/results/dashboard/preferences/subscriptions/
^ permalink raw reply [flat|nested] 5+ messages in thread
* [dpdk-test-report] |SUCCESS| pw90593 [PATCH] [v2] net/mlx5: fix link speed calculation on Windows
@ 2021-04-06 8:39 dpdklab
0 siblings, 0 replies; 5+ messages in thread
From: dpdklab @ 2021-04-06 8:39 UTC (permalink / raw)
To: Ali Alnubani, Test Report; +Cc: dpdk-test-reports
[-- Attachment #1: Type: text/plain, Size: 3961 bytes --]
Test-Label: iol-mellanox-Performance
Test-Status: SUCCESS
http://dpdk.org/patch/90593
_Performance Testing PASS_
Submitter: Tal Shnaiderman <talshn@nvidia.com>
Date: Tuesday, April 06 2021 07:31:59
DPDK git baseline: Repo:dpdk
Branch: master
CommitID:aa9cb78f66c53728593c1f65f69f2bbc7ca4a4a9
90593 --> performance testing pass
Test environment and result as below:
Ubuntu 18.04
Kernel: 4.15.0-generic
Compiler: gcc 7.4
NIC: Mellanox ConnectX-5 100000 Mbps
Target: x86_64-native-linuxapp-gcc
Fail/Total: 0/6
Detail performance results:
+------------+---------+-------------------------------------+
| frame_size | txd/rxd | throughput difference from expected |
+============+=========+=====================================+
| 64 | 256 | -0.16068% |
+------------+---------+-------------------------------------+
| 128 | 256 | -0.36909% |
+------------+---------+-------------------------------------+
| 256 | 256 | 0.62998% |
+------------+---------+-------------------------------------+
| 512 | 256 | -0.07442% |
+------------+---------+-------------------------------------+
| 1024 | 256 | -0.18583% |
+------------+---------+-------------------------------------+
| 1518 | 256 | -0.03517% |
+------------+---------+-------------------------------------+
Ubuntu 18.04
Kernel: 4.15.0-generic
Compiler: gcc 7.4
NIC: Mellanox ConnectX-4 Lx 25000 Mbps
Target: x86_64-native-linuxapp-gcc
Fail/Total: 0/6
Detail performance results:
+------------+---------+-------------------------------------+
| frame_size | txd/rxd | throughput difference from expected |
+============+=========+=====================================+
| 64 | 256 | -0.52418% |
+------------+---------+-------------------------------------+
| 128 | 256 | -0.02418% |
+------------+---------+-------------------------------------+
| 256 | 256 | -0.12374% |
+------------+---------+-------------------------------------+
| 512 | 256 | -0.1622% |
+------------+---------+-------------------------------------+
| 1024 | 256 | -0.1504% |
+------------+---------+-------------------------------------+
| 1518 | 256 | -0.17203% |
+------------+---------+-------------------------------------+
Ubuntu 18.04
Kernel: 4.15.0-generic
Compiler: gcc 7.4
NIC: Mellanox ConnectX-4 Lx 40000 Mbps
Target: x86_64-native-linuxapp-gcc
Fail/Total: 0/6
Detail performance results:
+------------+---------+-------------------------------------+
| frame_size | txd/rxd | throughput difference from expected |
+============+=========+=====================================+
| 64 | 256 | -1.13956% |
+------------+---------+-------------------------------------+
| 128 | 256 | 0.47395% |
+------------+---------+-------------------------------------+
| 256 | 256 | -0.00365% |
+------------+---------+-------------------------------------+
| 512 | 256 | 0.09582% |
+------------+---------+-------------------------------------+
| 1024 | 256 | 0.02089% |
+------------+---------+-------------------------------------+
| 1518 | 256 | -0.1231% |
+------------+---------+-------------------------------------+
To view detailed results, visit:
https://lab.dpdk.org/results/dashboard/patchsets/16311/
UNH-IOL DPDK Community Lab
To manage your email subscriptions, visit:
https://lab.dpdk.org/results/dashboard/preferences/subscriptions/
^ permalink raw reply [flat|nested] 5+ messages in thread
* [dpdk-test-report] |SUCCESS| pw90593 [PATCH] [v2] net/mlx5: fix link speed calculation on Windows
@ 2021-04-06 8:16 dpdklab
0 siblings, 0 replies; 5+ messages in thread
From: dpdklab @ 2021-04-06 8:16 UTC (permalink / raw)
To: Test Report; +Cc: dpdk-test-reports
[-- Attachment #1: Type: text/plain, Size: 1911 bytes --]
Test-Label: iol-intel-Performance
Test-Status: SUCCESS
http://dpdk.org/patch/90593
_Performance Testing PASS_
Submitter: Tal Shnaiderman <talshn@nvidia.com>
Date: Tuesday, April 06 2021 07:31:59
DPDK git baseline: Repo:dpdk
Branch: master
CommitID:aa9cb78f66c53728593c1f65f69f2bbc7ca4a4a9
90593 --> performance testing pass
Test environment and result as below:
Ubuntu 18.04
Kernel: 4.15.0-generic
Compiler: gcc 7.4
NIC: Intel Corporation Ethernet Converged Network Adapter 82599ES 10000 Mbps
Target: x86_64-native-linuxapp-gcc
Fail/Total: 0/2
Detail performance results:
+------------+---------+-------------------------------------+
| frame_size | txd/rxd | throughput difference from expected |
+============+=========+=====================================+
| 64 | 512 | 3.01459% |
+------------+---------+-------------------------------------+
| 64 | 2048 | 2.72343% |
+------------+---------+-------------------------------------+
Ubuntu 18.04
Kernel: 4.15.0-generic
Compiler: gcc 7.4
NIC: Intel Corporation Ethernet Converged Network Adapter XL710-QDA2 40000 Mbps
Target: x86_64-native-linuxapp-gcc
Fail/Total: 0/2
Detail performance results:
+------------+---------+-------------------------------------+
| frame_size | txd/rxd | throughput difference from expected |
+============+=========+=====================================+
| 64 | 512 | 4.45767% |
+------------+---------+-------------------------------------+
| 64 | 2048 | 4.99588% |
+------------+---------+-------------------------------------+
To view detailed results, visit:
https://lab.dpdk.org/results/dashboard/patchsets/16311/
UNH-IOL DPDK Community Lab
To manage your email subscriptions, visit:
https://lab.dpdk.org/results/dashboard/preferences/subscriptions/
^ permalink raw reply [flat|nested] 5+ messages in thread
* [dpdk-test-report] |SUCCESS| pw90593 [PATCH v2] net/mlx5: fix link speed calculation on Windows
[not found] <20210406073159.3912-1-talshn@nvidia.com>
@ 2021-04-06 7:33 ` checkpatch
0 siblings, 0 replies; 5+ messages in thread
From: checkpatch @ 2021-04-06 7:33 UTC (permalink / raw)
To: test-report
Test-Label: checkpatch
Test-Status: SUCCESS
http://dpdk.org/patch/90593
_coding style OK_
^ permalink raw reply [flat|nested] 5+ messages in thread
end of thread, other threads:[~2021-04-06 8:45 UTC | newest]
Thread overview: 5+ messages (download: mbox.gz / follow: Atom feed)
-- links below jump to the message on this page --
2021-04-06 8:42 [dpdk-test-report] |SUCCESS| pw90593 [PATCH] [v2] net/mlx5: fix link speed calculation on Windows dpdklab
-- strict thread matches above, loose matches on Subject: below --
2021-04-06 8:45 dpdklab
2021-04-06 8:39 dpdklab
2021-04-06 8:16 dpdklab
[not found] <20210406073159.3912-1-talshn@nvidia.com>
2021-04-06 7:33 ` [dpdk-test-report] |SUCCESS| pw90593 [PATCH v2] " checkpatch
This is a public inbox, see mirroring instructions
for how to clone and mirror all data and code used for this inbox;
as well as URLs for NNTP newsgroup(s).