automatic DPDK test reports
 help / color / mirror / Atom feed
* [dpdk-test-report] |SUCCESS| pw90671-90674 [PATCH] [v3, 3/3] drivers: align log names
@ 2021-04-06 15:48 dpdklab
  0 siblings, 0 replies; 4+ messages in thread
From: dpdklab @ 2021-04-06 15:48 UTC (permalink / raw)
  To: Ali Alnubani, Test Report; +Cc: dpdk-test-reports

[-- Attachment #1: Type: text/plain, Size: 3969 bytes --]

Test-Label: iol-mellanox-Performance
Test-Status: SUCCESS
http://dpdk.org/patch/90674

_Performance Testing PASS_

Submitter: Thomas Monjalon <thomas@monjalon.net>
Date: Tuesday, April 06 2021 13:22:04 
DPDK git baseline: Repo:dpdk
  Branch: master
  CommitID:aa9cb78f66c53728593c1f65f69f2bbc7ca4a4a9

90671-90674 --> performance testing pass

Test environment and result as below:

Ubuntu 18.04
Kernel: 4.15.0-generic
Compiler: gcc 7.4
NIC: Mellanox ConnectX-5 100000 Mbps
Target: x86_64-native-linuxapp-gcc
Fail/Total: 0/6

Detail performance results: 
+------------+---------+-------------------------------------+
| frame_size | txd/rxd | throughput difference from expected |
+============+=========+=====================================+
| 64         | 256     | -0.04058%                           |
+------------+---------+-------------------------------------+
| 128        | 256     | -0.1421%                            |
+------------+---------+-------------------------------------+
| 256        | 256     | 0.22499%                            |
+------------+---------+-------------------------------------+
| 512        | 256     | -0.89305%                           |
+------------+---------+-------------------------------------+
| 1024       | 256     | -0.43923%                           |
+------------+---------+-------------------------------------+
| 1518       | 256     | -0.05862%                           |
+------------+---------+-------------------------------------+

Ubuntu 18.04
Kernel: 4.15.0-generic
Compiler: gcc 7.4
NIC: Mellanox ConnectX-4 Lx 25000 Mbps
Target: x86_64-native-linuxapp-gcc
Fail/Total: 0/6

Detail performance results: 
+------------+---------+-------------------------------------+
| frame_size | txd/rxd | throughput difference from expected |
+============+=========+=====================================+
| 64         | 256     | -0.26634%                           |
+------------+---------+-------------------------------------+
| 128        | 256     | 0.27978%                            |
+------------+---------+-------------------------------------+
| 256        | 256     | -0.60882%                           |
+------------+---------+-------------------------------------+
| 512        | 256     | -0.31586%                           |
+------------+---------+-------------------------------------+
| 1024       | 256     | -0.1504%                            |
+------------+---------+-------------------------------------+
| 1518       | 256     | -0.29491%                           |
+------------+---------+-------------------------------------+

Ubuntu 18.04
Kernel: 4.15.0-generic
Compiler: gcc 7.4
NIC: Mellanox ConnectX-4 Lx 40000 Mbps
Target: x86_64-native-linuxapp-gcc
Fail/Total: 0/6

Detail performance results: 
+------------+---------+-------------------------------------+
| frame_size | txd/rxd | throughput difference from expected |
+============+=========+=====================================+
| 64         | 256     | -0.91506%                           |
+------------+---------+-------------------------------------+
| 128        | 256     | -0.43373%                           |
+------------+---------+-------------------------------------+
| 256        | 256     | -0.17149%                           |
+------------+---------+-------------------------------------+
| 512        | 256     | -0.181%                             |
+------------+---------+-------------------------------------+
| 1024       | 256     | 0.05224%                            |
+------------+---------+-------------------------------------+
| 1518       | 256     | -0.20003%                           |
+------------+---------+-------------------------------------+

To view detailed results, visit:
https://lab.dpdk.org/results/dashboard/patchsets/16320/

UNH-IOL DPDK Community Lab

To manage your email subscriptions, visit: 
https://lab.dpdk.org/results/dashboard/preferences/subscriptions/

^ permalink raw reply	[flat|nested] 4+ messages in thread

* [dpdk-test-report] |SUCCESS| pw90671-90674 [PATCH] [v3, 3/3] drivers: align log names
@ 2021-04-06 20:23 dpdklab
  0 siblings, 0 replies; 4+ messages in thread
From: dpdklab @ 2021-04-06 20:23 UTC (permalink / raw)
  To: Test Report; +Cc: dpdk-test-reports

[-- Attachment #1: Type: text/plain, Size: 4339 bytes --]

Test-Label: iol-testing
Test-Status: SUCCESS
http://dpdk.org/patch/90674

_Testing PASS_

Submitter: Thomas Monjalon <thomas@monjalon.net>
Date: Tuesday, April 06 2021 13:22:04 
DPDK git baseline: Repo:dpdk
  Branch: master
  CommitID:aa9cb78f66c53728593c1f65f69f2bbc7ca4a4a9

90671-90674 --> testing pass

Test environment and result as below:

+---------------------+--------------------+----------------------+----------------+-------------------+
|     Environment     | dpdk_meson_compile | dpdk_mingw64_compile | dpdk_unit_test | dpdk_compile_spdk |
+=====================+====================+======================+================+===================+
| Windows Server 2019 | PASS               | PASS                 | SKIPPED        | SKIPPED           |
+---------------------+--------------------+----------------------+----------------+-------------------+
| Ubuntu 18.04        | PASS               | SKIPPED              | PASS           | PASS              |
+---------------------+--------------------+----------------------+----------------+-------------------+
| Fedora 32           | PASS               | SKIPPED              | SKIPPED        | SKIPPED           |
+---------------------+--------------------+----------------------+----------------+-------------------+
| Fedora 31           | PASS               | SKIPPED              | SKIPPED        | PASS              |
+---------------------+--------------------+----------------------+----------------+-------------------+
| CentOS Stream 8     | PASS               | SKIPPED              | SKIPPED        | SKIPPED           |
+---------------------+--------------------+----------------------+----------------+-------------------+
| RHEL 7              | PASS               | SKIPPED              | SKIPPED        | SKIPPED           |
+---------------------+--------------------+----------------------+----------------+-------------------+
| Ubuntu 20.04        | PASS               | SKIPPED              | SKIPPED        | SKIPPED           |
+---------------------+--------------------+----------------------+----------------+-------------------+
| FreeBSD 11.2        | PASS               | SKIPPED              | SKIPPED        | SKIPPED           |
+---------------------+--------------------+----------------------+----------------+-------------------+
| RHEL8               | PASS               | SKIPPED              | SKIPPED        | SKIPPED           |
+---------------------+--------------------+----------------------+----------------+-------------------+
| Arch Linux          | PASS               | SKIPPED              | SKIPPED        | SKIPPED           |
+---------------------+--------------------+----------------------+----------------+-------------------+
| openSUSE Leap 15    | PASS               | SKIPPED              | SKIPPED        | SKIPPED           |
+---------------------+--------------------+----------------------+----------------+-------------------+
| Ubuntu 18.04 ARM    | PASS               | SKIPPED              | PASS           | SKIPPED           |
+---------------------+--------------------+----------------------+----------------+-------------------+


Windows Server 2019
	Kernel: 10.0
	Compiler: clang 9.0 and gcc 8.1.0 (MinGW)

Ubuntu 18.04
	Kernel: 4.18.0-240.10.1.el8_3.x86_64
	Compiler: gcc 7.5.0-3ubuntu1~18.04

Fedora 32
	Kernel: 4.18.0-240.10.1.el8_3.x86_64
	Compiler: gcc 10.2.1

Fedora 31
	Kernel: 4.18.0-240.10.1.el8_3.x86_64
	Compiler: gcc 9.3.1

CentOS Stream 8
	Kernel: 4.18.0-240.10.1.el8_3.x86_64
	Compiler: gcc 8.4.1 20200928

RHEL 7
	Kernel: 4.18.0-240.10.1.el8_3.x86_64
	Compiler: gcc 4.8.5 20150623 (Red Hat 4.8.5-44)

Ubuntu 20.04
	Kernel: 4.18.0-240.10.1.el8_3.x86_64
	Compiler: gcc 9.3.0-17ubuntu1~20.04

FreeBSD 11.2
	Kernel: 11.2
	Compiler: gcc 8.3

RHEL8
	Kernel: 4.18.0-240.10.1.el8_3.x86_64
	Compiler: gcc 8.3.1 20191121 (Red Hat 8.3.1-5)

Arch Linux
	Kernel: 4.18.0-240.10.1.el8_3.x86_64
	Compiler: gcc 10.2.0

openSUSE Leap 15
	Kernel: 4.18.0-240.10.1.el8_3.x86_64
	Compiler: gcc 7.5.0

Ubuntu 18.04 ARM
	Kernel: 5.4.0-53-generic
	Compiler: gcc 9.3

To view detailed results, visit:
https://lab.dpdk.org/results/dashboard/patchsets/16320/

UNH-IOL DPDK Community Lab

To manage your email subscriptions, visit: 
https://lab.dpdk.org/results/dashboard/preferences/subscriptions/

^ permalink raw reply	[flat|nested] 4+ messages in thread

* [dpdk-test-report] |SUCCESS| pw90671-90674 [PATCH] [v3, 3/3] drivers: align log names
@ 2021-04-06 18:17 dpdklab
  0 siblings, 0 replies; 4+ messages in thread
From: dpdklab @ 2021-04-06 18:17 UTC (permalink / raw)
  To: Test Report; +Cc: dpdk-test-reports

[-- Attachment #1: Type: text/plain, Size: 955 bytes --]

Test-Label: iol-abi-testing
Test-Status: SUCCESS
http://dpdk.org/patch/90674

_Testing PASS_

Submitter: Thomas Monjalon <thomas@monjalon.net>
Date: Tuesday, April 06 2021 13:22:04 
DPDK git baseline: Repo:dpdk
  Branch: master
  CommitID:aa9cb78f66c53728593c1f65f69f2bbc7ca4a4a9

90671-90674 --> testing pass

Test environment and result as below:

+------------------+----------+
|   Environment    | abi_test |
+==================+==========+
| Ubuntu 18.04 ARM | PASS     |
+------------------+----------+
| Ubuntu 18.04     | PASS     |
+------------------+----------+


Ubuntu 18.04 ARM
	Kernel: 5.4.0-53-generic
	Compiler: gcc 9.3

Ubuntu 18.04
	Kernel: 4.18.0-240.10.1.el8_3.x86_64
	Compiler: gcc 7.5.0-3ubuntu1~18.04

To view detailed results, visit:
https://lab.dpdk.org/results/dashboard/patchsets/16320/

UNH-IOL DPDK Community Lab

To manage your email subscriptions, visit: 
https://lab.dpdk.org/results/dashboard/preferences/subscriptions/

^ permalink raw reply	[flat|nested] 4+ messages in thread

* [dpdk-test-report] |SUCCESS| pw90671-90674 [PATCH] [v3, 3/3] drivers: align log names
@ 2021-04-06 14:26 dpdklab
  0 siblings, 0 replies; 4+ messages in thread
From: dpdklab @ 2021-04-06 14:26 UTC (permalink / raw)
  To: Test Report; +Cc: dpdk-test-reports

[-- Attachment #1: Type: text/plain, Size: 1919 bytes --]

Test-Label: iol-intel-Performance
Test-Status: SUCCESS
http://dpdk.org/patch/90674

_Performance Testing PASS_

Submitter: Thomas Monjalon <thomas@monjalon.net>
Date: Tuesday, April 06 2021 13:22:04 
DPDK git baseline: Repo:dpdk
  Branch: master
  CommitID:aa9cb78f66c53728593c1f65f69f2bbc7ca4a4a9

90671-90674 --> performance testing pass

Test environment and result as below:

Ubuntu 18.04
Kernel: 4.15.0-generic
Compiler: gcc 7.4
NIC: Intel Corporation Ethernet Converged Network Adapter 82599ES 10000 Mbps
Target: x86_64-native-linuxapp-gcc
Fail/Total: 0/2

Detail performance results: 
+------------+---------+-------------------------------------+
| frame_size | txd/rxd | throughput difference from expected |
+============+=========+=====================================+
| 64         | 512     | 2.96476%                            |
+------------+---------+-------------------------------------+
| 64         | 2048    | 2.56256%                            |
+------------+---------+-------------------------------------+

Ubuntu 18.04
Kernel: 4.15.0-generic
Compiler: gcc 7.4
NIC: Intel Corporation Ethernet Converged Network Adapter XL710-QDA2 40000 Mbps
Target: x86_64-native-linuxapp-gcc
Fail/Total: 0/2

Detail performance results: 
+------------+---------+-------------------------------------+
| frame_size | txd/rxd | throughput difference from expected |
+============+=========+=====================================+
| 64         | 512     | 5.632%                              |
+------------+---------+-------------------------------------+
| 64         | 2048    | 5.54461%                            |
+------------+---------+-------------------------------------+

To view detailed results, visit:
https://lab.dpdk.org/results/dashboard/patchsets/16320/

UNH-IOL DPDK Community Lab

To manage your email subscriptions, visit: 
https://lab.dpdk.org/results/dashboard/preferences/subscriptions/

^ permalink raw reply	[flat|nested] 4+ messages in thread

end of thread, other threads:[~2021-04-06 20:23 UTC | newest]

Thread overview: 4+ messages (download: mbox.gz / follow: Atom feed)
-- links below jump to the message on this page --
2021-04-06 15:48 [dpdk-test-report] |SUCCESS| pw90671-90674 [PATCH] [v3, 3/3] drivers: align log names dpdklab
  -- strict thread matches above, loose matches on Subject: below --
2021-04-06 20:23 dpdklab
2021-04-06 18:17 dpdklab
2021-04-06 14:26 dpdklab

automatic DPDK test reports

This inbox may be cloned and mirrored by anyone:

	git clone --mirror https://inbox.dpdk.org/test-report/0 test-report/git/0.git

	# If you have public-inbox 1.1+ installed, you may
	# initialize and index your mirror using the following commands:
	public-inbox-init -V2 test-report test-report/ https://inbox.dpdk.org/test-report \
		test-report@dpdk.org
	public-inbox-index test-report

Example config snippet for mirrors.
Newsgroup available over NNTP:
	nntp://inbox.dpdk.org/inbox.dpdk.test-report


AGPL code for this site: git clone https://public-inbox.org/public-inbox.git