automatic DPDK test reports
 help / color / mirror / Atom feed
* [dpdk-test-report] |SUCCESS| pw90747 [PATCH] [v3] eal: fix race in ctrl thread creation
@ 2021-04-06 22:33 dpdklab
  0 siblings, 0 replies; 5+ messages in thread
From: dpdklab @ 2021-04-06 22:33 UTC (permalink / raw)
  To: Ali Alnubani, Test Report; +Cc: dpdk-test-reports

[-- Attachment #1: Type: text/plain, Size: 3964 bytes --]

Test-Label: iol-mellanox-Performance
Test-Status: SUCCESS
http://dpdk.org/patch/90747

_Performance Testing PASS_

Submitter: Luc Pelletier <lucp.at.work@gmail.com>
Date: Tuesday, April 06 2021 16:15:35 
DPDK git baseline: Repo:dpdk
  Branch: master
  CommitID:aa9cb78f66c53728593c1f65f69f2bbc7ca4a4a9

90747 --> performance testing pass

Test environment and result as below:

Ubuntu 18.04
Kernel: 4.15.0-generic
Compiler: gcc 7.4
NIC: Mellanox ConnectX-4 Lx 25000 Mbps
Target: x86_64-native-linuxapp-gcc
Fail/Total: 0/6

Detail performance results: 
+------------+---------+-------------------------------------+
| frame_size | txd/rxd | throughput difference from expected |
+============+=========+=====================================+
| 64         | 256     | -0.24934%                           |
+------------+---------+-------------------------------------+
| 128        | 256     | -0.14507%                           |
+------------+---------+-------------------------------------+
| 256        | 256     | -0.82661%                           |
+------------+---------+-------------------------------------+
| 512        | 256     | -0.54635%                           |
+------------+---------+-------------------------------------+
| 1024       | 256     | -0.08356%                           |
+------------+---------+-------------------------------------+
| 1518       | 256     | -0.31949%                           |
+------------+---------+-------------------------------------+

Ubuntu 18.04
Kernel: 4.15.0-generic
Compiler: gcc 7.4
NIC: Mellanox ConnectX-5 100000 Mbps
Target: x86_64-native-linuxapp-gcc
Fail/Total: 0/6

Detail performance results: 
+------------+---------+-------------------------------------+
| frame_size | txd/rxd | throughput difference from expected |
+============+=========+=====================================+
| 64         | 256     | -0.1201%                            |
+------------+---------+-------------------------------------+
| 128        | 256     | -0.2639%                            |
+------------+---------+-------------------------------------+
| 256        | 256     | 0.58499%                            |
+------------+---------+-------------------------------------+
| 512        | 256     | -1.02001%                           |
+------------+---------+-------------------------------------+
| 1024       | 256     | 0.35476%                            |
+------------+---------+-------------------------------------+
| 1518       | 256     | 0.22277%                            |
+------------+---------+-------------------------------------+

Ubuntu 18.04
Kernel: 4.15.0-generic
Compiler: gcc 7.4
NIC: Mellanox ConnectX-4 Lx 40000 Mbps
Target: x86_64-native-linuxapp-gcc
Fail/Total: 0/6

Detail performance results: 
+------------+---------+-------------------------------------+
| frame_size | txd/rxd | throughput difference from expected |
+============+=========+=====================================+
| 64         | 256     | -0.5371%                            |
+------------+---------+-------------------------------------+
| 128        | 256     | 1.20354%                            |
+------------+---------+-------------------------------------+
| 256        | 256     | -0.01095%                           |
+------------+---------+-------------------------------------+
| 512        | 256     | -0.19164%                           |
+------------+---------+-------------------------------------+
| 1024       | 256     | -0.14626%                           |
+------------+---------+-------------------------------------+
| 1518       | 256     | -0.01539%                           |
+------------+---------+-------------------------------------+

To view detailed results, visit:
https://lab.dpdk.org/results/dashboard/patchsets/16325/

UNH-IOL DPDK Community Lab

To manage your email subscriptions, visit: 
https://lab.dpdk.org/results/dashboard/preferences/subscriptions/

^ permalink raw reply	[flat|nested] 5+ messages in thread

* [dpdk-test-report] |SUCCESS| pw90747 [PATCH] [v3] eal: fix race in ctrl thread creation
@ 2021-04-07  2:34 dpdklab
  0 siblings, 0 replies; 5+ messages in thread
From: dpdklab @ 2021-04-07  2:34 UTC (permalink / raw)
  To: Test Report; +Cc: dpdk-test-reports

[-- Attachment #1: Type: text/plain, Size: 4334 bytes --]

Test-Label: iol-testing
Test-Status: SUCCESS
http://dpdk.org/patch/90747

_Testing PASS_

Submitter: Luc Pelletier <lucp.at.work@gmail.com>
Date: Tuesday, April 06 2021 16:15:35 
DPDK git baseline: Repo:dpdk
  Branch: master
  CommitID:aa9cb78f66c53728593c1f65f69f2bbc7ca4a4a9

90747 --> testing pass

Test environment and result as below:

+---------------------+----------------------+--------------------+----------------+-------------------+
|     Environment     | dpdk_mingw64_compile | dpdk_meson_compile | dpdk_unit_test | dpdk_compile_spdk |
+=====================+======================+====================+================+===================+
| Windows Server 2019 | PASS                 | PASS               | SKIPPED        | SKIPPED           |
+---------------------+----------------------+--------------------+----------------+-------------------+
| Ubuntu 18.04        | SKIPPED              | PASS               | PASS           | SKIPPED           |
+---------------------+----------------------+--------------------+----------------+-------------------+
| CentOS Stream 8     | SKIPPED              | PASS               | SKIPPED        | SKIPPED           |
+---------------------+----------------------+--------------------+----------------+-------------------+
| Fedora 32           | SKIPPED              | PASS               | SKIPPED        | SKIPPED           |
+---------------------+----------------------+--------------------+----------------+-------------------+
| Fedora 31           | SKIPPED              | PASS               | SKIPPED        | PASS              |
+---------------------+----------------------+--------------------+----------------+-------------------+
| Ubuntu 20.04        | SKIPPED              | PASS               | SKIPPED        | SKIPPED           |
+---------------------+----------------------+--------------------+----------------+-------------------+
| RHEL 7              | SKIPPED              | PASS               | SKIPPED        | SKIPPED           |
+---------------------+----------------------+--------------------+----------------+-------------------+
| RHEL8               | SKIPPED              | PASS               | SKIPPED        | SKIPPED           |
+---------------------+----------------------+--------------------+----------------+-------------------+
| FreeBSD 11.2        | SKIPPED              | PASS               | SKIPPED        | SKIPPED           |
+---------------------+----------------------+--------------------+----------------+-------------------+
| openSUSE Leap 15    | SKIPPED              | PASS               | SKIPPED        | SKIPPED           |
+---------------------+----------------------+--------------------+----------------+-------------------+
| Arch Linux          | SKIPPED              | PASS               | SKIPPED        | SKIPPED           |
+---------------------+----------------------+--------------------+----------------+-------------------+
| Ubuntu 18.04 ARM    | SKIPPED              | PASS               | PASS           | SKIPPED           |
+---------------------+----------------------+--------------------+----------------+-------------------+


Windows Server 2019
	Kernel: 10.0
	Compiler: clang 9.0 and gcc 8.1.0 (MinGW)

Ubuntu 18.04
	Kernel: 4.18.0-240.10.1.el8_3.x86_64
	Compiler: gcc 7.5.0-3ubuntu1~18.04

CentOS Stream 8
	Kernel: 4.18.0-240.10.1.el8_3.x86_64
	Compiler: gcc 8.4.1 20200928

Fedora 32
	Kernel: 4.18.0-240.10.1.el8_3.x86_64
	Compiler: gcc 10.2.1

Fedora 31
	Kernel: 4.18.0-240.10.1.el8_3.x86_64
	Compiler: gcc 9.3.1

Ubuntu 20.04
	Kernel: 4.18.0-240.10.1.el8_3.x86_64
	Compiler: gcc 9.3.0-17ubuntu1~20.04

RHEL 7
	Kernel: 4.18.0-240.10.1.el8_3.x86_64
	Compiler: gcc 4.8.5 20150623 (Red Hat 4.8.5-44)

RHEL8
	Kernel: 4.18.0-240.10.1.el8_3.x86_64
	Compiler: gcc 8.3.1 20191121 (Red Hat 8.3.1-5)

FreeBSD 11.2
	Kernel: 11.2
	Compiler: gcc 8.3

openSUSE Leap 15
	Kernel: 4.18.0-240.10.1.el8_3.x86_64
	Compiler: gcc 7.5.0

Arch Linux
	Kernel: 4.18.0-240.10.1.el8_3.x86_64
	Compiler: gcc 10.2.0

Ubuntu 18.04 ARM
	Kernel: 5.4.0-53-generic
	Compiler: gcc 9.3

To view detailed results, visit:
https://lab.dpdk.org/results/dashboard/patchsets/16325/

UNH-IOL DPDK Community Lab

To manage your email subscriptions, visit: 
https://lab.dpdk.org/results/dashboard/preferences/subscriptions/

^ permalink raw reply	[flat|nested] 5+ messages in thread

* [dpdk-test-report] |SUCCESS| pw90747 [PATCH] [v3] eal: fix race in ctrl thread creation
@ 2021-04-07  0:30 dpdklab
  0 siblings, 0 replies; 5+ messages in thread
From: dpdklab @ 2021-04-07  0:30 UTC (permalink / raw)
  To: Test Report; +Cc: dpdk-test-reports

[-- Attachment #1: Type: text/plain, Size: 950 bytes --]

Test-Label: iol-abi-testing
Test-Status: SUCCESS
http://dpdk.org/patch/90747

_Testing PASS_

Submitter: Luc Pelletier <lucp.at.work@gmail.com>
Date: Tuesday, April 06 2021 16:15:35 
DPDK git baseline: Repo:dpdk
  Branch: master
  CommitID:aa9cb78f66c53728593c1f65f69f2bbc7ca4a4a9

90747 --> testing pass

Test environment and result as below:

+------------------+----------+
|   Environment    | abi_test |
+==================+==========+
| Ubuntu 18.04     | PASS     |
+------------------+----------+
| Ubuntu 18.04 ARM | PASS     |
+------------------+----------+


Ubuntu 18.04
	Kernel: 4.18.0-240.10.1.el8_3.x86_64
	Compiler: gcc 7.5.0-3ubuntu1~18.04

Ubuntu 18.04 ARM
	Kernel: 5.4.0-53-generic
	Compiler: gcc 9.3

To view detailed results, visit:
https://lab.dpdk.org/results/dashboard/patchsets/16325/

UNH-IOL DPDK Community Lab

To manage your email subscriptions, visit: 
https://lab.dpdk.org/results/dashboard/preferences/subscriptions/

^ permalink raw reply	[flat|nested] 5+ messages in thread

* [dpdk-test-report] |SUCCESS| pw90747 [PATCH] [v3] eal: fix race in ctrl thread creation
@ 2021-04-06 20:00 dpdklab
  0 siblings, 0 replies; 5+ messages in thread
From: dpdklab @ 2021-04-06 20:00 UTC (permalink / raw)
  To: Test Report; +Cc: dpdk-test-reports

[-- Attachment #1: Type: text/plain, Size: 1914 bytes --]

Test-Label: iol-intel-Performance
Test-Status: SUCCESS
http://dpdk.org/patch/90747

_Performance Testing PASS_

Submitter: Luc Pelletier <lucp.at.work@gmail.com>
Date: Tuesday, April 06 2021 16:15:35 
DPDK git baseline: Repo:dpdk
  Branch: master
  CommitID:aa9cb78f66c53728593c1f65f69f2bbc7ca4a4a9

90747 --> performance testing pass

Test environment and result as below:

Ubuntu 18.04
Kernel: 4.15.0-generic
Compiler: gcc 7.4
NIC: Intel Corporation Ethernet Converged Network Adapter 82599ES 10000 Mbps
Target: x86_64-native-linuxapp-gcc
Fail/Total: 0/2

Detail performance results: 
+------------+---------+-------------------------------------+
| frame_size | txd/rxd | throughput difference from expected |
+============+=========+=====================================+
| 64         | 512     | 3.6329%                             |
+------------+---------+-------------------------------------+
| 64         | 2048    | 1.90181%                            |
+------------+---------+-------------------------------------+

Ubuntu 18.04
Kernel: 4.15.0-generic
Compiler: gcc 7.4
NIC: Intel Corporation Ethernet Converged Network Adapter XL710-QDA2 40000 Mbps
Target: x86_64-native-linuxapp-gcc
Fail/Total: 0/2

Detail performance results: 
+------------+---------+-------------------------------------+
| frame_size | txd/rxd | throughput difference from expected |
+============+=========+=====================================+
| 64         | 512     | 5.4203%                             |
+------------+---------+-------------------------------------+
| 64         | 2048    | 5.08318%                            |
+------------+---------+-------------------------------------+

To view detailed results, visit:
https://lab.dpdk.org/results/dashboard/patchsets/16325/

UNH-IOL DPDK Community Lab

To manage your email subscriptions, visit: 
https://lab.dpdk.org/results/dashboard/preferences/subscriptions/

^ permalink raw reply	[flat|nested] 5+ messages in thread

* [dpdk-test-report] |SUCCESS| pw90747 [PATCH v3] eal: fix race in ctrl thread creation
       [not found] <20210406161534.103272-1-lucp.at.work@gmail.com>
@ 2021-04-06 16:19 ` checkpatch
  0 siblings, 0 replies; 5+ messages in thread
From: checkpatch @ 2021-04-06 16:19 UTC (permalink / raw)
  To: test-report

Test-Label: checkpatch
Test-Status: SUCCESS
http://dpdk.org/patch/90747

_coding style OK_



^ permalink raw reply	[flat|nested] 5+ messages in thread

end of thread, other threads:[~2021-04-07  2:34 UTC | newest]

Thread overview: 5+ messages (download: mbox.gz / follow: Atom feed)
-- links below jump to the message on this page --
2021-04-06 22:33 [dpdk-test-report] |SUCCESS| pw90747 [PATCH] [v3] eal: fix race in ctrl thread creation dpdklab
  -- strict thread matches above, loose matches on Subject: below --
2021-04-07  2:34 dpdklab
2021-04-07  0:30 dpdklab
2021-04-06 20:00 dpdklab
     [not found] <20210406161534.103272-1-lucp.at.work@gmail.com>
2021-04-06 16:19 ` [dpdk-test-report] |SUCCESS| pw90747 [PATCH v3] " checkpatch

automatic DPDK test reports

This inbox may be cloned and mirrored by anyone:

	git clone --mirror https://inbox.dpdk.org/test-report/0 test-report/git/0.git

	# If you have public-inbox 1.1+ installed, you may
	# initialize and index your mirror using the following commands:
	public-inbox-init -V2 test-report test-report/ https://inbox.dpdk.org/test-report \
		test-report@dpdk.org
	public-inbox-index test-report

Example config snippet for mirrors.
Newsgroup available over NNTP:
	nntp://inbox.dpdk.org/inbox.dpdk.test-report


AGPL code for this site: git clone https://public-inbox.org/public-inbox.git