automatic DPDK test reports
 help / color / mirror / Atom feed
* [dpdk-test-report] |SUCCESS| pw90795 [PATCH] service: clean references to removed symbol
       [not found] <20210407090656.29176-1-david.marchand@redhat.com>
@ 2021-04-07  9:09 ` checkpatch
  2021-04-07 10:55 ` [dpdk-test-report] |SUCCESS| pw90795 " 0-day Robot
  2021-04-07 10:57 ` [dpdk-test-report] |SUCCESS| pw90795 [dpdk-dev] [PATCH] " 0-day Robot
  2 siblings, 0 replies; 7+ messages in thread
From: checkpatch @ 2021-04-07  9:09 UTC (permalink / raw)
  To: test-report

Test-Label: checkpatch
Test-Status: SUCCESS
http://dpdk.org/patch/90795

_coding style OK_



^ permalink raw reply	[flat|nested] 7+ messages in thread

* [dpdk-test-report] |SUCCESS| pw90795 service: clean references to removed symbol
       [not found] <20210407090656.29176-1-david.marchand@redhat.com>
  2021-04-07  9:09 ` [dpdk-test-report] |SUCCESS| pw90795 [PATCH] service: clean references to removed symbol checkpatch
@ 2021-04-07 10:55 ` 0-day Robot
  2021-04-07 10:57 ` [dpdk-test-report] |SUCCESS| pw90795 [dpdk-dev] [PATCH] " 0-day Robot
  2 siblings, 0 replies; 7+ messages in thread
From: 0-day Robot @ 2021-04-07 10:55 UTC (permalink / raw)
  To: test-report; +Cc: robot

From: robot@bytheb.org

Test-Label: travis-robot
Test-Status: SUCCESS
http://patchwork.dpdk.org/patch/90795/

_travis build: passed_
Build URL: https://travis-ci.com/ovsrobot/dpdk/builds/222372184

^ permalink raw reply	[flat|nested] 7+ messages in thread

* [dpdk-test-report] |SUCCESS| pw90795 [dpdk-dev] [PATCH] service: clean references to removed symbol
       [not found] <20210407090656.29176-1-david.marchand@redhat.com>
  2021-04-07  9:09 ` [dpdk-test-report] |SUCCESS| pw90795 [PATCH] service: clean references to removed symbol checkpatch
  2021-04-07 10:55 ` [dpdk-test-report] |SUCCESS| pw90795 " 0-day Robot
@ 2021-04-07 10:57 ` 0-day Robot
  2 siblings, 0 replies; 7+ messages in thread
From: 0-day Robot @ 2021-04-07 10:57 UTC (permalink / raw)
  To: test-report; +Cc: robot

From: robot@bytheb.org

Test-Label: github-robot
Test-Status: SUCCESS
http://patchwork.dpdk.org/patch/90795/

_github build: passed_
Build URL: https://github.com/ovsrobot/dpdk/actions/runs/725598059

^ permalink raw reply	[flat|nested] 7+ messages in thread

* [dpdk-test-report] |SUCCESS| pw90795 [PATCH] service: clean references to removed symbol
@ 2021-04-08 17:11 dpdklab
  0 siblings, 0 replies; 7+ messages in thread
From: dpdklab @ 2021-04-08 17:11 UTC (permalink / raw)
  To: Test Report; +Cc: dpdk-test-reports

[-- Attachment #1: Type: text/plain, Size: 4340 bytes --]

Test-Label: iol-testing
Test-Status: SUCCESS
http://dpdk.org/patch/90795

_Testing PASS_

Submitter: David Marchand <david.marchand@redhat.com>
Date: Wednesday, April 07 2021 09:06:56 
DPDK git baseline: Repo:dpdk
  Branch: master
  CommitID:5d09be1636cfb06c812edc4b5760aa7cd6866e57

90795 --> testing pass

Test environment and result as below:

+---------------------+----------------------+--------------------+----------------+-------------------+
|     Environment     | dpdk_mingw64_compile | dpdk_meson_compile | dpdk_unit_test | dpdk_compile_spdk |
+=====================+======================+====================+================+===================+
| Windows Server 2019 | PASS                 | PASS               | SKIPPED        | SKIPPED           |
+---------------------+----------------------+--------------------+----------------+-------------------+
| FreeBSD 11.2        | SKIPPED              | PASS               | SKIPPED        | SKIPPED           |
+---------------------+----------------------+--------------------+----------------+-------------------+
| Ubuntu 18.04        | SKIPPED              | PASS               | PASS           | PASS              |
+---------------------+----------------------+--------------------+----------------+-------------------+
| Fedora 32           | SKIPPED              | PASS               | SKIPPED        | SKIPPED           |
+---------------------+----------------------+--------------------+----------------+-------------------+
| CentOS Stream 8     | SKIPPED              | PASS               | SKIPPED        | SKIPPED           |
+---------------------+----------------------+--------------------+----------------+-------------------+
| Fedora 31           | SKIPPED              | PASS               | SKIPPED        | PASS              |
+---------------------+----------------------+--------------------+----------------+-------------------+
| RHEL8               | SKIPPED              | PASS               | SKIPPED        | SKIPPED           |
+---------------------+----------------------+--------------------+----------------+-------------------+
| RHEL 7              | SKIPPED              | PASS               | SKIPPED        | SKIPPED           |
+---------------------+----------------------+--------------------+----------------+-------------------+
| Ubuntu 20.04        | SKIPPED              | PASS               | SKIPPED        | SKIPPED           |
+---------------------+----------------------+--------------------+----------------+-------------------+
| Arch Linux          | SKIPPED              | PASS               | SKIPPED        | SKIPPED           |
+---------------------+----------------------+--------------------+----------------+-------------------+
| openSUSE Leap 15    | SKIPPED              | PASS               | SKIPPED        | SKIPPED           |
+---------------------+----------------------+--------------------+----------------+-------------------+
| Ubuntu 18.04 ARM    | SKIPPED              | PASS               | PASS           | SKIPPED           |
+---------------------+----------------------+--------------------+----------------+-------------------+


Windows Server 2019
	Kernel: 10.0
	Compiler: clang 9.0 and gcc 8.1.0 (MinGW)

FreeBSD 11.2
	Kernel: 11.2
	Compiler: gcc 8.3

Ubuntu 18.04
	Kernel: 4.18.0-240.10.1.el8_3.x86_64
	Compiler: gcc 7.5.0-3ubuntu1~18.04

Fedora 32
	Kernel: 4.18.0-240.10.1.el8_3.x86_64
	Compiler: gcc 10.2.1

CentOS Stream 8
	Kernel: 4.18.0-240.10.1.el8_3.x86_64
	Compiler: gcc 8.4.1 20200928

Fedora 31
	Kernel: 4.18.0-240.10.1.el8_3.x86_64
	Compiler: gcc 9.3.1

RHEL8
	Kernel: 4.18.0-240.10.1.el8_3.x86_64
	Compiler: gcc 8.3.1 20191121 (Red Hat 8.3.1-5)

RHEL 7
	Kernel: 4.18.0-240.10.1.el8_3.x86_64
	Compiler: gcc 4.8.5 20150623 (Red Hat 4.8.5-44)

Ubuntu 20.04
	Kernel: 4.18.0-240.10.1.el8_3.x86_64
	Compiler: gcc 9.3.0-17ubuntu1~20.04

Arch Linux
	Kernel: 4.18.0-240.10.1.el8_3.x86_64
	Compiler: gcc 10.2.0

openSUSE Leap 15
	Kernel: 4.18.0-240.10.1.el8_3.x86_64
	Compiler: gcc 7.5.0

Ubuntu 18.04 ARM
	Kernel: 5.4.0-53-generic
	Compiler: gcc 9.3

To view detailed results, visit:
https://lab.dpdk.org/results/dashboard/patchsets/16343/

UNH-IOL DPDK Community Lab

To manage your email subscriptions, visit: 
https://lab.dpdk.org/results/dashboard/preferences/subscriptions/

^ permalink raw reply	[flat|nested] 7+ messages in thread

* [dpdk-test-report] |SUCCESS| pw90795 [PATCH] service: clean references to removed symbol
@ 2021-04-08  9:52 dpdklab
  0 siblings, 0 replies; 7+ messages in thread
From: dpdklab @ 2021-04-08  9:52 UTC (permalink / raw)
  To: Test Report; +Cc: dpdk-test-reports

[-- Attachment #1: Type: text/plain, Size: 956 bytes --]

Test-Label: iol-abi-testing
Test-Status: SUCCESS
http://dpdk.org/patch/90795

_Testing PASS_

Submitter: David Marchand <david.marchand@redhat.com>
Date: Wednesday, April 07 2021 09:06:56 
DPDK git baseline: Repo:dpdk
  Branch: master
  CommitID:5d09be1636cfb06c812edc4b5760aa7cd6866e57

90795 --> testing pass

Test environment and result as below:

+------------------+----------+
|   Environment    | abi_test |
+==================+==========+
| Ubuntu 18.04 ARM | PASS     |
+------------------+----------+
| Ubuntu 18.04     | PASS     |
+------------------+----------+


Ubuntu 18.04 ARM
	Kernel: 5.4.0-53-generic
	Compiler: gcc 9.3

Ubuntu 18.04
	Kernel: 4.18.0-240.10.1.el8_3.x86_64
	Compiler: gcc 7.5.0-3ubuntu1~18.04

To view detailed results, visit:
https://lab.dpdk.org/results/dashboard/patchsets/16343/

UNH-IOL DPDK Community Lab

To manage your email subscriptions, visit: 
https://lab.dpdk.org/results/dashboard/preferences/subscriptions/

^ permalink raw reply	[flat|nested] 7+ messages in thread

* [dpdk-test-report] |SUCCESS| pw90795 [PATCH] service: clean references to removed symbol
@ 2021-04-08  5:20 dpdklab
  0 siblings, 0 replies; 7+ messages in thread
From: dpdklab @ 2021-04-08  5:20 UTC (permalink / raw)
  To: Ali Alnubani, Test Report; +Cc: dpdk-test-reports

[-- Attachment #1: Type: text/plain, Size: 3970 bytes --]

Test-Label: iol-mellanox-Performance
Test-Status: SUCCESS
http://dpdk.org/patch/90795

_Performance Testing PASS_

Submitter: David Marchand <david.marchand@redhat.com>
Date: Wednesday, April 07 2021 09:06:56 
DPDK git baseline: Repo:dpdk
  Branch: master
  CommitID:5d09be1636cfb06c812edc4b5760aa7cd6866e57

90795 --> performance testing pass

Test environment and result as below:

Ubuntu 18.04
Kernel: 4.15.0-generic
Compiler: gcc 7.4
NIC: Mellanox ConnectX-4 Lx 25000 Mbps
Target: x86_64-native-linuxapp-gcc
Fail/Total: 0/6

Detail performance results: 
+------------+---------+-------------------------------------+
| frame_size | txd/rxd | throughput difference from expected |
+============+=========+=====================================+
| 64         | 256     | -0.72648%                           |
+------------+---------+-------------------------------------+
| 128        | 256     | -0.1379%                            |
+------------+---------+-------------------------------------+
| 256        | 256     | -0.11885%                           |
+------------+---------+-------------------------------------+
| 512        | 256     | -1.13831%                           |
+------------+---------+-------------------------------------+
| 1024       | 256     | -0.08363%                           |
+------------+---------+-------------------------------------+
| 1518       | 256     | -0.02465%                           |
+------------+---------+-------------------------------------+

Ubuntu 18.04
Kernel: 4.15.0-generic
Compiler: gcc 7.4
NIC: Mellanox ConnectX-4 Lx 40000 Mbps
Target: x86_64-native-linuxapp-gcc
Fail/Total: 0/6

Detail performance results: 
+------------+---------+-------------------------------------+
| frame_size | txd/rxd | throughput difference from expected |
+============+=========+=====================================+
| 64         | 256     | -0.46891%                           |
+------------+---------+-------------------------------------+
| 128        | 256     | 0.56517%                            |
+------------+---------+-------------------------------------+
| 256        | 256     | 0.03649%                            |
+------------+---------+-------------------------------------+
| 512        | 256     | 0.15992%                            |
+------------+---------+-------------------------------------+
| 1024       | 256     | -0.19831%                           |
+------------+---------+-------------------------------------+
| 1518       | 256     | -0.15387%                           |
+------------+---------+-------------------------------------+

Ubuntu 18.04
Kernel: 4.15.0-generic
Compiler: gcc 7.4
NIC: Mellanox ConnectX-5 100000 Mbps
Target: x86_64-native-linuxapp-gcc
Fail/Total: 0/6

Detail performance results: 
+------------+---------+-------------------------------------+
| frame_size | txd/rxd | throughput difference from expected |
+============+=========+=====================================+
| 64         | 256     | 0.10372%                            |
+------------+---------+-------------------------------------+
| 128        | 256     | -0.11441%                           |
+------------+---------+-------------------------------------+
| 256        | 256     | -0.68921%                           |
+------------+---------+-------------------------------------+
| 512        | 256     | 0.35678%                            |
+------------+---------+-------------------------------------+
| 1024       | 256     | 0.06763%                            |
+------------+---------+-------------------------------------+
| 1518       | 256     | -0.04688%                           |
+------------+---------+-------------------------------------+

To view detailed results, visit:
https://lab.dpdk.org/results/dashboard/patchsets/16343/

UNH-IOL DPDK Community Lab

To manage your email subscriptions, visit: 
https://lab.dpdk.org/results/dashboard/preferences/subscriptions/

^ permalink raw reply	[flat|nested] 7+ messages in thread

* [dpdk-test-report] |SUCCESS| pw90795 [PATCH] service: clean references to removed symbol
@ 2021-04-08  1:29 dpdklab
  0 siblings, 0 replies; 7+ messages in thread
From: dpdklab @ 2021-04-08  1:29 UTC (permalink / raw)
  To: Test Report; +Cc: dpdk-test-reports

[-- Attachment #1: Type: text/plain, Size: 1920 bytes --]

Test-Label: iol-intel-Performance
Test-Status: SUCCESS
http://dpdk.org/patch/90795

_Performance Testing PASS_

Submitter: David Marchand <david.marchand@redhat.com>
Date: Wednesday, April 07 2021 09:06:56 
DPDK git baseline: Repo:dpdk
  Branch: master
  CommitID:5d09be1636cfb06c812edc4b5760aa7cd6866e57

90795 --> performance testing pass

Test environment and result as below:

Ubuntu 18.04
Kernel: 4.15.0-generic
Compiler: gcc 7.4
NIC: Intel Corporation Ethernet Converged Network Adapter 82599ES 10000 Mbps
Target: x86_64-native-linuxapp-gcc
Fail/Total: 0/2

Detail performance results: 
+------------+---------+-------------------------------------+
| frame_size | txd/rxd | throughput difference from expected |
+============+=========+=====================================+
| 64         | 512     | 3.39056%                            |
+------------+---------+-------------------------------------+
| 64         | 2048    | 2.62001%                            |
+------------+---------+-------------------------------------+

Ubuntu 18.04
Kernel: 4.15.0-generic
Compiler: gcc 7.4
NIC: Intel Corporation Ethernet Converged Network Adapter XL710-QDA2 40000 Mbps
Target: x86_64-native-linuxapp-gcc
Fail/Total: 0/2

Detail performance results: 
+------------+---------+-------------------------------------+
| frame_size | txd/rxd | throughput difference from expected |
+============+=========+=====================================+
| 64         | 512     | 5.68992%                            |
+------------+---------+-------------------------------------+
| 64         | 2048    | 4.26259%                            |
+------------+---------+-------------------------------------+

To view detailed results, visit:
https://lab.dpdk.org/results/dashboard/patchsets/16343/

UNH-IOL DPDK Community Lab

To manage your email subscriptions, visit: 
https://lab.dpdk.org/results/dashboard/preferences/subscriptions/

^ permalink raw reply	[flat|nested] 7+ messages in thread

end of thread, other threads:[~2021-04-08 17:11 UTC | newest]

Thread overview: 7+ messages (download: mbox.gz / follow: Atom feed)
-- links below jump to the message on this page --
     [not found] <20210407090656.29176-1-david.marchand@redhat.com>
2021-04-07  9:09 ` [dpdk-test-report] |SUCCESS| pw90795 [PATCH] service: clean references to removed symbol checkpatch
2021-04-07 10:55 ` [dpdk-test-report] |SUCCESS| pw90795 " 0-day Robot
2021-04-07 10:57 ` [dpdk-test-report] |SUCCESS| pw90795 [dpdk-dev] [PATCH] " 0-day Robot
2021-04-08  1:29 [dpdk-test-report] |SUCCESS| pw90795 " dpdklab
2021-04-08  5:20 dpdklab
2021-04-08  9:52 dpdklab
2021-04-08 17:11 dpdklab

automatic DPDK test reports

This inbox may be cloned and mirrored by anyone:

	git clone --mirror https://inbox.dpdk.org/test-report/0 test-report/git/0.git

	# If you have public-inbox 1.1+ installed, you may
	# initialize and index your mirror using the following commands:
	public-inbox-init -V2 test-report test-report/ https://inbox.dpdk.org/test-report \
		test-report@dpdk.org
	public-inbox-index test-report

Example config snippet for mirrors.
Newsgroup available over NNTP:
	nntp://inbox.dpdk.org/inbox.dpdk.test-report


AGPL code for this site: git clone https://public-inbox.org/public-inbox.git