Test-Label: checkpatch Test-Status: SUCCESS http://dpdk.org/patch/90831 _coding style OK_
[-- Attachment #1: Type: text/plain, Size: 1923 bytes --] Test-Label: iol-intel-Performance Test-Status: SUCCESS http://dpdk.org/patch/90831 _Performance Testing PASS_ Submitter: Stephen Hemminger <stephen@networkplumber.org> Date: Thursday, April 08 2021 02:00:34 DPDK git baseline: Repo:dpdk Branch: master CommitID:2e761ce184d18dfd2d11eaf8c0b1f4841f6051f4 90831 --> performance testing pass Test environment and result as below: Ubuntu 18.04 Kernel: 4.15.0-generic Compiler: gcc 7.4 NIC: Intel Corporation Ethernet Converged Network Adapter 82599ES 10000 Mbps Target: x86_64-native-linuxapp-gcc Fail/Total: 0/2 Detail performance results: +------------+---------+-------------------------------------+ | frame_size | txd/rxd | throughput difference from expected | +============+=========+=====================================+ | 64 | 512 | 3.1233% | +------------+---------+-------------------------------------+ | 64 | 2048 | 2.30975% | +------------+---------+-------------------------------------+ Ubuntu 18.04 Kernel: 4.15.0-generic Compiler: gcc 7.4 NIC: Intel Corporation Ethernet Converged Network Adapter XL710-QDA2 40000 Mbps Target: x86_64-native-linuxapp-gcc Fail/Total: 0/2 Detail performance results: +------------+---------+-------------------------------------+ | frame_size | txd/rxd | throughput difference from expected | +============+=========+=====================================+ | 64 | 512 | 5.77979% | +------------+---------+-------------------------------------+ | 64 | 2048 | 5.09565% | +------------+---------+-------------------------------------+ To view detailed results, visit: https://lab.dpdk.org/results/dashboard/patchsets/16362/ UNH-IOL DPDK Community Lab To manage your email subscriptions, visit: https://lab.dpdk.org/results/dashboard/preferences/subscriptions/
From: robot@bytheb.org Test-Label: travis-robot Test-Status: SUCCESS http://patchwork.dpdk.org/patch/90831/ _travis build: passed_ Build URL: https://travis-ci.com/ovsrobot/dpdk/builds/222465461
From: robot@bytheb.org Test-Label: github-robot Test-Status: SUCCESS http://patchwork.dpdk.org/patch/90831/ _github build: passed_ Build URL: https://github.com/ovsrobot/dpdk/actions/runs/728091757
[-- Attachment #1: Type: text/plain, Size: 3973 bytes --] Test-Label: iol-mellanox-Performance Test-Status: SUCCESS http://dpdk.org/patch/90831 _Performance Testing PASS_ Submitter: Stephen Hemminger <stephen@networkplumber.org> Date: Thursday, April 08 2021 02:00:34 DPDK git baseline: Repo:dpdk Branch: master CommitID:2e761ce184d18dfd2d11eaf8c0b1f4841f6051f4 90831 --> performance testing pass Test environment and result as below: Ubuntu 18.04 Kernel: 4.15.0-generic Compiler: gcc 7.4 NIC: Mellanox ConnectX-4 Lx 25000 Mbps Target: x86_64-native-linuxapp-gcc Fail/Total: 0/6 Detail performance results: +------------+---------+-------------------------------------+ | frame_size | txd/rxd | throughput difference from expected | +============+=========+=====================================+ | 64 | 256 | 0.28812% | +------------+---------+-------------------------------------+ | 128 | 256 | 0.21084% | +------------+---------+-------------------------------------+ | 256 | 256 | 0.36214% | +------------+---------+-------------------------------------+ | 512 | 256 | 0.25751% | +------------+---------+-------------------------------------+ | 1024 | 256 | -0.03346% | +------------+---------+-------------------------------------+ | 1518 | 256 | 0.17263% | +------------+---------+-------------------------------------+ Ubuntu 18.04 Kernel: 4.15.0-generic Compiler: gcc 7.4 NIC: Mellanox ConnectX-4 Lx 40000 Mbps Target: x86_64-native-linuxapp-gcc Fail/Total: 0/6 Detail performance results: +------------+---------+-------------------------------------+ | frame_size | txd/rxd | throughput difference from expected | +============+=========+=====================================+ | 64 | 256 | -0.38872% | +------------+---------+-------------------------------------+ | 128 | 256 | -0.42399% | +------------+---------+-------------------------------------+ | 256 | 256 | -0.20826% | +------------+---------+-------------------------------------+ | 512 | 256 | -0.0426% | +------------+---------+-------------------------------------+ | 1024 | 256 | -0.09401% | +------------+---------+-------------------------------------+ | 1518 | 256 | -0.03082% | +------------+---------+-------------------------------------+ Ubuntu 18.04 Kernel: 4.15.0-generic Compiler: gcc 7.4 NIC: Mellanox ConnectX-5 100000 Mbps Target: x86_64-native-linuxapp-gcc Fail/Total: 0/6 Detail performance results: +------------+---------+-------------------------------------+ | frame_size | txd/rxd | throughput difference from expected | +============+=========+=====================================+ | 64 | 256 | 0.07449% | +------------+---------+-------------------------------------+ | 128 | 256 | 0.32357% | +------------+---------+-------------------------------------+ | 256 | 256 | -0.90097% | +------------+---------+-------------------------------------+ | 512 | 256 | -1.70556% | +------------+---------+-------------------------------------+ | 1024 | 256 | -0.30252% | +------------+---------+-------------------------------------+ | 1518 | 256 | -0.09393% | +------------+---------+-------------------------------------+ To view detailed results, visit: https://lab.dpdk.org/results/dashboard/patchsets/16362/ UNH-IOL DPDK Community Lab To manage your email subscriptions, visit: https://lab.dpdk.org/results/dashboard/preferences/subscriptions/
[-- Attachment #1: Type: text/plain, Size: 959 bytes --] Test-Label: iol-abi-testing Test-Status: SUCCESS http://dpdk.org/patch/90831 _Testing PASS_ Submitter: Stephen Hemminger <stephen@networkplumber.org> Date: Thursday, April 08 2021 02:00:34 DPDK git baseline: Repo:dpdk Branch: master CommitID:2e761ce184d18dfd2d11eaf8c0b1f4841f6051f4 90831 --> testing pass Test environment and result as below: +------------------+----------+ | Environment | abi_test | +==================+==========+ | Ubuntu 18.04 ARM | PASS | +------------------+----------+ | Ubuntu 18.04 | PASS | +------------------+----------+ Ubuntu 18.04 ARM Kernel: 5.4.0-53-generic Compiler: gcc 9.3 Ubuntu 18.04 Kernel: 4.18.0-240.10.1.el8_3.x86_64 Compiler: gcc 7.5.0-3ubuntu1~18.04 To view detailed results, visit: https://lab.dpdk.org/results/dashboard/patchsets/16362/ UNH-IOL DPDK Community Lab To manage your email subscriptions, visit: https://lab.dpdk.org/results/dashboard/preferences/subscriptions/
[-- Attachment #1: Type: text/plain, Size: 4343 bytes --] Test-Label: iol-testing Test-Status: SUCCESS http://dpdk.org/patch/90831 _Testing PASS_ Submitter: Stephen Hemminger <stephen@networkplumber.org> Date: Thursday, April 08 2021 02:00:34 DPDK git baseline: Repo:dpdk Branch: master CommitID:2e761ce184d18dfd2d11eaf8c0b1f4841f6051f4 90831 --> testing pass Test environment and result as below: +---------------------+----------------------+--------------------+----------------+-------------------+ | Environment | dpdk_mingw64_compile | dpdk_meson_compile | dpdk_unit_test | dpdk_compile_spdk | +=====================+======================+====================+================+===================+ | Windows Server 2019 | PASS | PASS | SKIPPED | SKIPPED | +---------------------+----------------------+--------------------+----------------+-------------------+ | Fedora 32 | SKIPPED | PASS | SKIPPED | SKIPPED | +---------------------+----------------------+--------------------+----------------+-------------------+ | Ubuntu 18.04 | SKIPPED | PASS | PASS | PASS | +---------------------+----------------------+--------------------+----------------+-------------------+ | Ubuntu 20.04 | SKIPPED | PASS | SKIPPED | SKIPPED | +---------------------+----------------------+--------------------+----------------+-------------------+ | RHEL8 | SKIPPED | PASS | SKIPPED | SKIPPED | +---------------------+----------------------+--------------------+----------------+-------------------+ | Arch Linux | SKIPPED | PASS | SKIPPED | SKIPPED | +---------------------+----------------------+--------------------+----------------+-------------------+ | RHEL 7 | SKIPPED | PASS | SKIPPED | SKIPPED | +---------------------+----------------------+--------------------+----------------+-------------------+ | openSUSE Leap 15 | SKIPPED | PASS | SKIPPED | SKIPPED | +---------------------+----------------------+--------------------+----------------+-------------------+ | CentOS Stream 8 | SKIPPED | PASS | SKIPPED | SKIPPED | +---------------------+----------------------+--------------------+----------------+-------------------+ | Fedora 31 | SKIPPED | PASS | SKIPPED | PASS | +---------------------+----------------------+--------------------+----------------+-------------------+ | FreeBSD 11.2 | SKIPPED | PASS | SKIPPED | SKIPPED | +---------------------+----------------------+--------------------+----------------+-------------------+ | Ubuntu 18.04 ARM | SKIPPED | PASS | PASS | SKIPPED | +---------------------+----------------------+--------------------+----------------+-------------------+ Windows Server 2019 Kernel: 10.0 Compiler: clang 9.0 and gcc 8.1.0 (MinGW) Fedora 32 Kernel: 4.18.0-240.10.1.el8_3.x86_64 Compiler: gcc 10.2.1 Ubuntu 18.04 Kernel: 4.18.0-240.10.1.el8_3.x86_64 Compiler: gcc 7.5.0-3ubuntu1~18.04 Ubuntu 20.04 Kernel: 4.18.0-240.10.1.el8_3.x86_64 Compiler: gcc 9.3.0-17ubuntu1~20.04 RHEL8 Kernel: 4.18.0-240.10.1.el8_3.x86_64 Compiler: gcc 8.3.1 20191121 (Red Hat 8.3.1-5) Arch Linux Kernel: 4.18.0-240.10.1.el8_3.x86_64 Compiler: gcc 10.2.0 RHEL 7 Kernel: 4.18.0-240.10.1.el8_3.x86_64 Compiler: gcc 4.8.5 20150623 (Red Hat 4.8.5-44) openSUSE Leap 15 Kernel: 4.18.0-240.10.1.el8_3.x86_64 Compiler: gcc 7.5.0 CentOS Stream 8 Kernel: 4.18.0-240.10.1.el8_3.x86_64 Compiler: gcc 8.4.1 20200928 Fedora 31 Kernel: 4.18.0-240.10.1.el8_3.x86_64 Compiler: gcc 9.3.1 FreeBSD 11.2 Kernel: 11.2 Compiler: gcc 8.3 Ubuntu 18.04 ARM Kernel: 5.4.0-53-generic Compiler: gcc 9.3 To view detailed results, visit: https://lab.dpdk.org/results/dashboard/patchsets/16362/ UNH-IOL DPDK Community Lab To manage your email subscriptions, visit: https://lab.dpdk.org/results/dashboard/preferences/subscriptions/