automatic DPDK test reports
 help / color / mirror / Atom feed
From: dpdklab@iol.unh.edu
To: Test Report <test-report@dpdk.org>
Cc: dpdk-test-reports@iol.unh.edu
Subject: [dpdk-test-report] |SUCCESS| pw90813 [PATCH] [v5] eal: fix race in ctrl thread creation
Date: Thu,  8 Apr 2021 02:30:50 -0400 (EDT)
Message-ID: <20210408063050.D534FA892@noxus.dpdklab.iol.unh.edu> (raw)

[-- Attachment #1: Type: text/plain, Size: 4336 bytes --]

Test-Label: iol-testing
Test-Status: SUCCESS
http://dpdk.org/patch/90813

_Testing PASS_

Submitter: Luc Pelletier <lucp.at.work@gmail.com>
Date: Wednesday, April 07 2021 12:53:23 
DPDK git baseline: Repo:dpdk
  Branch: master
  CommitID:5d09be1636cfb06c812edc4b5760aa7cd6866e57

90813 --> testing pass

Test environment and result as below:

+---------------------+----------------------+--------------------+----------------+-------------------+
|     Environment     | dpdk_mingw64_compile | dpdk_meson_compile | dpdk_unit_test | dpdk_compile_spdk |
+=====================+======================+====================+================+===================+
| Windows Server 2019 | PASS                 | PASS               | SKIPPED        | SKIPPED           |
+---------------------+----------------------+--------------------+----------------+-------------------+
| Ubuntu 18.04        | SKIPPED              | PASS               | PASS           | PASS              |
+---------------------+----------------------+--------------------+----------------+-------------------+
| CentOS Stream 8     | SKIPPED              | PASS               | SKIPPED        | SKIPPED           |
+---------------------+----------------------+--------------------+----------------+-------------------+
| Fedora 32           | SKIPPED              | PASS               | SKIPPED        | SKIPPED           |
+---------------------+----------------------+--------------------+----------------+-------------------+
| Fedora 31           | SKIPPED              | PASS               | SKIPPED        | PASS              |
+---------------------+----------------------+--------------------+----------------+-------------------+
| Ubuntu 20.04        | SKIPPED              | PASS               | SKIPPED        | SKIPPED           |
+---------------------+----------------------+--------------------+----------------+-------------------+
| RHEL 7              | SKIPPED              | PASS               | SKIPPED        | SKIPPED           |
+---------------------+----------------------+--------------------+----------------+-------------------+
| RHEL8               | SKIPPED              | PASS               | SKIPPED        | SKIPPED           |
+---------------------+----------------------+--------------------+----------------+-------------------+
| openSUSE Leap 15    | SKIPPED              | PASS               | SKIPPED        | SKIPPED           |
+---------------------+----------------------+--------------------+----------------+-------------------+
| FreeBSD 11.2        | SKIPPED              | PASS               | SKIPPED        | SKIPPED           |
+---------------------+----------------------+--------------------+----------------+-------------------+
| Arch Linux          | SKIPPED              | PASS               | SKIPPED        | SKIPPED           |
+---------------------+----------------------+--------------------+----------------+-------------------+
| Ubuntu 18.04 ARM    | SKIPPED              | PASS               | PASS           | SKIPPED           |
+---------------------+----------------------+--------------------+----------------+-------------------+


Windows Server 2019
	Kernel: 10.0
	Compiler: clang 9.0 and gcc 8.1.0 (MinGW)

Ubuntu 18.04
	Kernel: 4.18.0-240.10.1.el8_3.x86_64
	Compiler: gcc 7.5.0-3ubuntu1~18.04

CentOS Stream 8
	Kernel: 4.18.0-240.10.1.el8_3.x86_64
	Compiler: gcc 8.4.1 20200928

Fedora 32
	Kernel: 4.18.0-240.10.1.el8_3.x86_64
	Compiler: gcc 10.2.1

Fedora 31
	Kernel: 4.18.0-240.10.1.el8_3.x86_64
	Compiler: gcc 9.3.1

Ubuntu 20.04
	Kernel: 4.18.0-240.10.1.el8_3.x86_64
	Compiler: gcc 9.3.0-17ubuntu1~20.04

RHEL 7
	Kernel: 4.18.0-240.10.1.el8_3.x86_64
	Compiler: gcc 4.8.5 20150623 (Red Hat 4.8.5-44)

RHEL8
	Kernel: 4.18.0-240.10.1.el8_3.x86_64
	Compiler: gcc 8.3.1 20191121 (Red Hat 8.3.1-5)

openSUSE Leap 15
	Kernel: 4.18.0-240.10.1.el8_3.x86_64
	Compiler: gcc 7.5.0

FreeBSD 11.2
	Kernel: 11.2
	Compiler: gcc 8.3

Arch Linux
	Kernel: 4.18.0-240.10.1.el8_3.x86_64
	Compiler: gcc 10.2.0

Ubuntu 18.04 ARM
	Kernel: 5.4.0-53-generic
	Compiler: gcc 9.3

To view detailed results, visit:
https://lab.dpdk.org/results/dashboard/patchsets/16352/

UNH-IOL DPDK Community Lab

To manage your email subscriptions, visit: 
https://lab.dpdk.org/results/dashboard/preferences/subscriptions/

             reply	other threads:[~2021-04-08  6:30 UTC|newest]

Thread overview: 5+ messages / expand[flat|nested]  mbox.gz  Atom feed  top
2021-04-08  6:30 dpdklab [this message]
  -- strict thread matches above, loose matches on Subject: below --
2021-04-08  1:42 dpdklab
2021-04-07 21:04 dpdklab
2021-04-07 20:08 dpdklab
     [not found] <20210407125322.124327-1-lucp.at.work@gmail.com>
2021-04-07 12:55 ` [dpdk-test-report] |SUCCESS| pw90813 [PATCH v5] " checkpatch

Reply instructions:

You may reply publicly to this message via plain-text email
using any one of the following methods:

* Save the following mbox file, import it into your mail client,
  and reply-to-all from there: mbox

  Avoid top-posting and favor interleaved quoting:
  https://en.wikipedia.org/wiki/Posting_style#Interleaved_style

* Reply using the --to, --cc, and --in-reply-to
  switches of git-send-email(1):

  git send-email \
    --in-reply-to=20210408063050.D534FA892@noxus.dpdklab.iol.unh.edu \
    --to=dpdklab@iol.unh.edu \
    --cc=dpdk-test-reports@iol.unh.edu \
    --cc=test-report@dpdk.org \
    /path/to/YOUR_REPLY

  https://kernel.org/pub/software/scm/git/docs/git-send-email.html

* If your mail client supports setting the In-Reply-To header
  via mailto: links, try the mailto: link

automatic DPDK test reports

This inbox may be cloned and mirrored by anyone:

	git clone --mirror https://inbox.dpdk.org/test-report/0 test-report/git/0.git

	# If you have public-inbox 1.1+ installed, you may
	# initialize and index your mirror using the following commands:
	public-inbox-init -V2 test-report test-report/ https://inbox.dpdk.org/test-report \
		test-report@dpdk.org
	public-inbox-index test-report

Example config snippet for mirrors.
Newsgroup available over NNTP:
	nntp://inbox.dpdk.org/inbox.dpdk.test-report


AGPL code for this site: git clone https://public-inbox.org/public-inbox.git