* [dpdk-test-report] |SUCCESS| pw90854 [PATCH] [v2, 1/1] raw/ifpga/base: check size before assigning
@ 2021-04-08 11:27 dpdklab
0 siblings, 0 replies; 7+ messages in thread
From: dpdklab @ 2021-04-08 11:27 UTC (permalink / raw)
To: Test Report; +Cc: dpdk-test-reports
[-- Attachment #1: Type: text/plain, Size: 1908 bytes --]
Test-Label: iol-intel-Performance
Test-Status: SUCCESS
http://dpdk.org/patch/90854
_Performance Testing PASS_
Submitter: Wei Huang <wei.huang@intel.com>
Date: Thursday, April 08 2021 08:51:51
DPDK git baseline: Repo:dpdk
Branch: master
CommitID:2e761ce184d18dfd2d11eaf8c0b1f4841f6051f4
90854 --> performance testing pass
Test environment and result as below:
Ubuntu 18.04
Kernel: 4.15.0-generic
Compiler: gcc 7.4
NIC: Intel Corporation Ethernet Converged Network Adapter 82599ES 10000 Mbps
Target: x86_64-native-linuxapp-gcc
Fail/Total: 0/2
Detail performance results:
+------------+---------+-------------------------------------+
| frame_size | txd/rxd | throughput difference from expected |
+============+=========+=====================================+
| 64 | 512 | 3.61479% |
+------------+---------+-------------------------------------+
| 64 | 2048 | 1.41343% |
+------------+---------+-------------------------------------+
Ubuntu 18.04
Kernel: 4.15.0-generic
Compiler: gcc 7.4
NIC: Intel Corporation Ethernet Converged Network Adapter XL710-QDA2 40000 Mbps
Target: x86_64-native-linuxapp-gcc
Fail/Total: 0/2
Detail performance results:
+------------+---------+-------------------------------------+
| frame_size | txd/rxd | throughput difference from expected |
+============+=========+=====================================+
| 64 | 512 | 5.67195% |
+------------+---------+-------------------------------------+
| 64 | 2048 | 5.01334% |
+------------+---------+-------------------------------------+
To view detailed results, visit:
https://lab.dpdk.org/results/dashboard/patchsets/16371/
UNH-IOL DPDK Community Lab
To manage your email subscriptions, visit:
https://lab.dpdk.org/results/dashboard/preferences/subscriptions/
^ permalink raw reply [flat|nested] 7+ messages in thread
* [dpdk-test-report] |SUCCESS| pw90854 [PATCH] [v2, 1/1] raw/ifpga/base: check size before assigning
@ 2021-04-08 16:35 dpdklab
0 siblings, 0 replies; 7+ messages in thread
From: dpdklab @ 2021-04-08 16:35 UTC (permalink / raw)
To: Ali Alnubani, Test Report; +Cc: dpdk-test-reports
[-- Attachment #1: Type: text/plain, Size: 3958 bytes --]
Test-Label: iol-mellanox-Performance
Test-Status: SUCCESS
http://dpdk.org/patch/90854
_Performance Testing PASS_
Submitter: Wei Huang <wei.huang@intel.com>
Date: Thursday, April 08 2021 08:51:51
DPDK git baseline: Repo:dpdk
Branch: master
CommitID:2e761ce184d18dfd2d11eaf8c0b1f4841f6051f4
90854 --> performance testing pass
Test environment and result as below:
Ubuntu 18.04
Kernel: 4.15.0-generic
Compiler: gcc 7.4
NIC: Mellanox ConnectX-4 Lx 25000 Mbps
Target: x86_64-native-linuxapp-gcc
Fail/Total: 0/6
Detail performance results:
+------------+---------+-------------------------------------+
| frame_size | txd/rxd | throughput difference from expected |
+============+=========+=====================================+
| 64 | 256 | 1.01269% |
+------------+---------+-------------------------------------+
| 128 | 256 | 0.2696% |
+------------+---------+-------------------------------------+
| 256 | 256 | 2.40921% |
+------------+---------+-------------------------------------+
| 512 | 256 | 0.50644% |
+------------+---------+-------------------------------------+
| 1024 | 256 | 0.15055% |
+------------+---------+-------------------------------------+
| 1518 | 256 | 0.02466% |
+------------+---------+-------------------------------------+
Ubuntu 18.04
Kernel: 4.15.0-generic
Compiler: gcc 7.4
NIC: Mellanox ConnectX-4 Lx 40000 Mbps
Target: x86_64-native-linuxapp-gcc
Fail/Total: 0/6
Detail performance results:
+------------+---------+-------------------------------------+
| frame_size | txd/rxd | throughput difference from expected |
+============+=========+=====================================+
| 64 | 256 | -0.18864% |
+------------+---------+-------------------------------------+
| 128 | 256 | 1.31467% |
+------------+---------+-------------------------------------+
| 256 | 256 | 0.04019% |
+------------+---------+-------------------------------------+
| 512 | 256 | -0.0852% |
+------------+---------+-------------------------------------+
| 1024 | 256 | -0.11491% |
+------------+---------+-------------------------------------+
| 1518 | 256 | 0.0% |
+------------+---------+-------------------------------------+
Ubuntu 18.04
Kernel: 4.15.0-generic
Compiler: gcc 7.4
NIC: Mellanox ConnectX-5 100000 Mbps
Target: x86_64-native-linuxapp-gcc
Fail/Total: 0/6
Detail performance results:
+------------+---------+-------------------------------------+
| frame_size | txd/rxd | throughput difference from expected |
+============+=========+=====================================+
| 64 | 256 | -0.18623% |
+------------+---------+-------------------------------------+
| 128 | 256 | -0.0906% |
+------------+---------+-------------------------------------+
| 256 | 256 | -0.76942% |
+------------+---------+-------------------------------------+
| 512 | 256 | -0.23991% |
+------------+---------+-------------------------------------+
| 1024 | 256 | -0.11765% |
+------------+---------+-------------------------------------+
| 1518 | 256 | 0.02348% |
+------------+---------+-------------------------------------+
To view detailed results, visit:
https://lab.dpdk.org/results/dashboard/patchsets/16371/
UNH-IOL DPDK Community Lab
To manage your email subscriptions, visit:
https://lab.dpdk.org/results/dashboard/preferences/subscriptions/
^ permalink raw reply [flat|nested] 7+ messages in thread
* [dpdk-test-report] |SUCCESS| pw90854 [PATCH] [v2, 1/1] raw/ifpga/base: check size before assigning
@ 2021-04-09 2:24 dpdklab
0 siblings, 0 replies; 7+ messages in thread
From: dpdklab @ 2021-04-09 2:24 UTC (permalink / raw)
To: Test Report; +Cc: dpdk-test-reports
[-- Attachment #1: Type: text/plain, Size: 944 bytes --]
Test-Label: iol-abi-testing
Test-Status: SUCCESS
http://dpdk.org/patch/90854
_Testing PASS_
Submitter: Wei Huang <wei.huang@intel.com>
Date: Thursday, April 08 2021 08:51:51
DPDK git baseline: Repo:dpdk
Branch: master
CommitID:2e761ce184d18dfd2d11eaf8c0b1f4841f6051f4
90854 --> testing pass
Test environment and result as below:
+------------------+----------+
| Environment | abi_test |
+==================+==========+
| Ubuntu 18.04 ARM | PASS |
+------------------+----------+
| Ubuntu 18.04 | PASS |
+------------------+----------+
Ubuntu 18.04 ARM
Kernel: 5.4.0-53-generic
Compiler: gcc 9.3
Ubuntu 18.04
Kernel: 4.18.0-240.10.1.el8_3.x86_64
Compiler: gcc 7.5.0-3ubuntu1~18.04
To view detailed results, visit:
https://lab.dpdk.org/results/dashboard/patchsets/16371/
UNH-IOL DPDK Community Lab
To manage your email subscriptions, visit:
https://lab.dpdk.org/results/dashboard/preferences/subscriptions/
^ permalink raw reply [flat|nested] 7+ messages in thread
* [dpdk-test-report] |SUCCESS| pw90854 [PATCH] [v2, 1/1] raw/ifpga/base: check size before assigning
@ 2021-04-09 19:50 dpdklab
0 siblings, 0 replies; 7+ messages in thread
From: dpdklab @ 2021-04-09 19:50 UTC (permalink / raw)
To: Test Report; +Cc: dpdk-test-reports
[-- Attachment #1: Type: text/plain, Size: 3720 bytes --]
Test-Label: iol-testing
Test-Status: SUCCESS
http://dpdk.org/patch/90854
_Testing PASS_
Submitter: Wei Huang <wei.huang@intel.com>
Date: Thursday, April 08 2021 08:51:51
DPDK git baseline: Repo:dpdk
Branch: master
CommitID:2e761ce184d18dfd2d11eaf8c0b1f4841f6051f4
90854 --> testing pass
Test environment and result as below:
+---------------------+----------------------+--------------------+----------------+-------------------+
| Environment | dpdk_mingw64_compile | dpdk_meson_compile | dpdk_unit_test | dpdk_compile_spdk |
+=====================+======================+====================+================+===================+
| Windows Server 2019 | PASS | PASS | SKIPPED | SKIPPED |
+---------------------+----------------------+--------------------+----------------+-------------------+
| Ubuntu 18.04 | SKIPPED | PASS | PASS | PASS |
+---------------------+----------------------+--------------------+----------------+-------------------+
| CentOS Stream 8 | SKIPPED | PASS | SKIPPED | SKIPPED |
+---------------------+----------------------+--------------------+----------------+-------------------+
| Fedora 32 | SKIPPED | PASS | SKIPPED | SKIPPED |
+---------------------+----------------------+--------------------+----------------+-------------------+
| Fedora 31 | SKIPPED | PASS | SKIPPED | PASS |
+---------------------+----------------------+--------------------+----------------+-------------------+
| Ubuntu 20.04 | SKIPPED | PASS | SKIPPED | SKIPPED |
+---------------------+----------------------+--------------------+----------------+-------------------+
| openSUSE Leap 15 | SKIPPED | PASS | SKIPPED | SKIPPED |
+---------------------+----------------------+--------------------+----------------+-------------------+
| Arch Linux | SKIPPED | PASS | SKIPPED | SKIPPED |
+---------------------+----------------------+--------------------+----------------+-------------------+
| FreeBSD 11.2 | SKIPPED | PASS | SKIPPED | SKIPPED |
+---------------------+----------------------+--------------------+----------------+-------------------+
| Ubuntu 18.04 ARM | SKIPPED | PASS | PASS | SKIPPED |
+---------------------+----------------------+--------------------+----------------+-------------------+
Windows Server 2019
Kernel: 10.0
Compiler: clang 9.0 and gcc 8.1.0 (MinGW)
Ubuntu 18.04
Kernel: 4.18.0-240.10.1.el8_3.x86_64
Compiler: gcc 7.5.0-3ubuntu1~18.04
CentOS Stream 8
Kernel: 4.18.0-240.10.1.el8_3.x86_64
Compiler: gcc 8.4.1 20200928
Fedora 32
Kernel: 4.18.0-240.10.1.el8_3.x86_64
Compiler: gcc 10.2.1
Fedora 31
Kernel: 4.18.0-240.10.1.el8_3.x86_64
Compiler: gcc 9.3.1
Ubuntu 20.04
Kernel: 4.18.0-240.10.1.el8_3.x86_64
Compiler: gcc 9.3.0-17ubuntu1~20.04
openSUSE Leap 15
Kernel: 4.18.0-240.10.1.el8_3.x86_64
Compiler: gcc 7.5.0
Arch Linux
Kernel: 4.18.0-240.10.1.el8_3.x86_64
Compiler: gcc 10.2.0
FreeBSD 11.2
Kernel: 11.2
Compiler: gcc 8.3
Ubuntu 18.04 ARM
Kernel: 5.4.0-53-generic
Compiler: gcc 9.3
To view detailed results, visit:
https://lab.dpdk.org/results/dashboard/patchsets/16371/
UNH-IOL DPDK Community Lab
To manage your email subscriptions, visit:
https://lab.dpdk.org/results/dashboard/preferences/subscriptions/
^ permalink raw reply [flat|nested] 7+ messages in thread
end of thread, other threads:[~2021-04-09 19:50 UTC | newest]
Thread overview: 7+ messages (download: mbox.gz / follow: Atom feed)
-- links below jump to the message on this page --
[not found] <20210408085151.54996-2-wei.huang@intel.com>
2021-04-08 8:58 ` [dpdk-test-report] |SUCCESS| pw90854 [PATCH v2 1/1] raw/ifpga/base: check size before assigning checkpatch
2021-04-08 10:55 ` [dpdk-test-report] |SUCCESS| pw90854 " 0-day Robot
2021-04-08 10:57 ` [dpdk-test-report] |SUCCESS| pw90854 [dpdk-dev] [PATCH v2 1/1] " 0-day Robot
2021-04-08 11:27 [dpdk-test-report] |SUCCESS| pw90854 [PATCH] [v2, " dpdklab
2021-04-08 16:35 dpdklab
2021-04-09 2:24 dpdklab
2021-04-09 19:50 dpdklab
This is a public inbox, see mirroring instructions
for how to clone and mirror all data and code used for this inbox;
as well as URLs for NNTP newsgroup(s).