* [dpdk-test-report] |SUCCESS| pw90858 [PATCH] net/dpaa2: fix RSS distribution size field
@ 2021-04-09 7:21 dpdklab
0 siblings, 0 replies; 5+ messages in thread
From: dpdklab @ 2021-04-09 7:21 UTC (permalink / raw)
To: Test Report; +Cc: dpdk-test-reports
[-- Attachment #1: Type: text/plain, Size: 952 bytes --]
Test-Label: iol-abi-testing
Test-Status: SUCCESS
http://dpdk.org/patch/90858
_Testing PASS_
Submitter: Hemant Agrawal <hemant.agrawal@nxp.com>
Date: Thursday, April 08 2021 09:17:43
DPDK git baseline: Repo:dpdk
Branch: master
CommitID:2e761ce184d18dfd2d11eaf8c0b1f4841f6051f4
90858 --> testing pass
Test environment and result as below:
+------------------+----------+
| Environment | abi_test |
+==================+==========+
| Ubuntu 18.04 ARM | PASS |
+------------------+----------+
| Ubuntu 18.04 | PASS |
+------------------+----------+
Ubuntu 18.04 ARM
Kernel: 5.4.0-53-generic
Compiler: gcc 9.3
Ubuntu 18.04
Kernel: 4.18.0-240.10.1.el8_3.x86_64
Compiler: gcc 7.5.0-3ubuntu1~18.04
To view detailed results, visit:
https://lab.dpdk.org/results/dashboard/patchsets/16375/
UNH-IOL DPDK Community Lab
To manage your email subscriptions, visit:
https://lab.dpdk.org/results/dashboard/preferences/subscriptions/
^ permalink raw reply [flat|nested] 5+ messages in thread
* [dpdk-test-report] |SUCCESS| pw90858 [PATCH] net/dpaa2: fix RSS distribution size field
@ 2021-04-10 3:06 dpdklab
0 siblings, 0 replies; 5+ messages in thread
From: dpdklab @ 2021-04-10 3:06 UTC (permalink / raw)
To: Test Report; +Cc: dpdk-test-reports
[-- Attachment #1: Type: text/plain, Size: 3728 bytes --]
Test-Label: iol-testing
Test-Status: SUCCESS
http://dpdk.org/patch/90858
_Testing PASS_
Submitter: Hemant Agrawal <hemant.agrawal@nxp.com>
Date: Thursday, April 08 2021 09:17:43
DPDK git baseline: Repo:dpdk
Branch: master
CommitID:2e761ce184d18dfd2d11eaf8c0b1f4841f6051f4
90858 --> testing pass
Test environment and result as below:
+---------------------+----------------------+--------------------+----------------+-------------------+
| Environment | dpdk_mingw64_compile | dpdk_meson_compile | dpdk_unit_test | dpdk_compile_spdk |
+=====================+======================+====================+================+===================+
| Windows Server 2019 | PASS | PASS | SKIPPED | SKIPPED |
+---------------------+----------------------+--------------------+----------------+-------------------+
| Ubuntu 18.04 | SKIPPED | PASS | PASS | PASS |
+---------------------+----------------------+--------------------+----------------+-------------------+
| Fedora 31 | SKIPPED | PASS | SKIPPED | PASS |
+---------------------+----------------------+--------------------+----------------+-------------------+
| Fedora 32 | SKIPPED | PASS | SKIPPED | SKIPPED |
+---------------------+----------------------+--------------------+----------------+-------------------+
| Arch Linux | SKIPPED | PASS | SKIPPED | SKIPPED |
+---------------------+----------------------+--------------------+----------------+-------------------+
| Ubuntu 20.04 | SKIPPED | PASS | SKIPPED | SKIPPED |
+---------------------+----------------------+--------------------+----------------+-------------------+
| CentOS Stream 8 | SKIPPED | PASS | SKIPPED | SKIPPED |
+---------------------+----------------------+--------------------+----------------+-------------------+
| openSUSE Leap 15 | SKIPPED | PASS | SKIPPED | SKIPPED |
+---------------------+----------------------+--------------------+----------------+-------------------+
| FreeBSD 11.2 | SKIPPED | PASS | SKIPPED | SKIPPED |
+---------------------+----------------------+--------------------+----------------+-------------------+
| Ubuntu 18.04 ARM | SKIPPED | PASS | PASS | SKIPPED |
+---------------------+----------------------+--------------------+----------------+-------------------+
Windows Server 2019
Kernel: 10.0
Compiler: clang 9.0 and gcc 8.1.0 (MinGW)
Ubuntu 18.04
Kernel: 4.18.0-240.10.1.el8_3.x86_64
Compiler: gcc 7.5.0-3ubuntu1~18.04
Fedora 31
Kernel: 4.18.0-240.10.1.el8_3.x86_64
Compiler: gcc 9.3.1
Fedora 32
Kernel: 4.18.0-240.10.1.el8_3.x86_64
Compiler: gcc 10.2.1
Arch Linux
Kernel: 4.18.0-240.10.1.el8_3.x86_64
Compiler: gcc 10.2.0
Ubuntu 20.04
Kernel: 4.18.0-240.10.1.el8_3.x86_64
Compiler: gcc 9.3.0-17ubuntu1~20.04
CentOS Stream 8
Kernel: 4.18.0-240.10.1.el8_3.x86_64
Compiler: gcc 8.4.1 20200928
openSUSE Leap 15
Kernel: 4.18.0-240.10.1.el8_3.x86_64
Compiler: gcc 7.5.0
FreeBSD 11.2
Kernel: 11.2
Compiler: gcc 8.3
Ubuntu 18.04 ARM
Kernel: 5.4.0-53-generic
Compiler: gcc 9.3
To view detailed results, visit:
https://lab.dpdk.org/results/dashboard/patchsets/16375/
UNH-IOL DPDK Community Lab
To manage your email subscriptions, visit:
https://lab.dpdk.org/results/dashboard/preferences/subscriptions/
^ permalink raw reply [flat|nested] 5+ messages in thread
* [dpdk-test-report] |SUCCESS| pw90858 [PATCH] net/dpaa2: fix RSS distribution size field
@ 2021-04-08 19:44 dpdklab
0 siblings, 0 replies; 5+ messages in thread
From: dpdklab @ 2021-04-08 19:44 UTC (permalink / raw)
To: Ali Alnubani, Test Report; +Cc: dpdk-test-reports
[-- Attachment #1: Type: text/plain, Size: 3966 bytes --]
Test-Label: iol-mellanox-Performance
Test-Status: SUCCESS
http://dpdk.org/patch/90858
_Performance Testing PASS_
Submitter: Hemant Agrawal <hemant.agrawal@nxp.com>
Date: Thursday, April 08 2021 09:17:43
DPDK git baseline: Repo:dpdk
Branch: master
CommitID:2e761ce184d18dfd2d11eaf8c0b1f4841f6051f4
90858 --> performance testing pass
Test environment and result as below:
Ubuntu 18.04
Kernel: 4.15.0-generic
Compiler: gcc 7.4
NIC: Mellanox ConnectX-4 Lx 25000 Mbps
Target: x86_64-native-linuxapp-gcc
Fail/Total: 0/6
Detail performance results:
+------------+---------+-------------------------------------+
| frame_size | txd/rxd | throughput difference from expected |
+============+=========+=====================================+
| 64 | 256 | 0.29953% |
+------------+---------+-------------------------------------+
| 128 | 256 | 0.00691% |
+------------+---------+-------------------------------------+
| 256 | 256 | 2.63555% |
+------------+---------+-------------------------------------+
| 512 | 256 | -0.15451% |
+------------+---------+-------------------------------------+
| 1024 | 256 | -0.10037% |
+------------+---------+-------------------------------------+
| 1518 | 256 | 0.19729% |
+------------+---------+-------------------------------------+
Ubuntu 18.04
Kernel: 4.15.0-generic
Compiler: gcc 7.4
NIC: Mellanox ConnectX-4 Lx 40000 Mbps
Target: x86_64-native-linuxapp-gcc
Fail/Total: 0/6
Detail performance results:
+------------+---------+-------------------------------------+
| frame_size | txd/rxd | throughput difference from expected |
+============+=========+=====================================+
| 64 | 256 | 0.09146% |
+------------+---------+-------------------------------------+
| 128 | 256 | -1.04718% |
+------------+---------+-------------------------------------+
| 256 | 256 | -0.1498% |
+------------+---------+-------------------------------------+
| 512 | 256 | -0.11183% |
+------------+---------+-------------------------------------+
| 1024 | 256 | -0.17758% |
+------------+---------+-------------------------------------+
| 1518 | 256 | 0.18493% |
+------------+---------+-------------------------------------+
Ubuntu 18.04
Kernel: 4.15.0-generic
Compiler: gcc 7.4
NIC: Mellanox ConnectX-5 100000 Mbps
Target: x86_64-native-linuxapp-gcc
Fail/Total: 0/6
Detail performance results:
+------------+---------+-------------------------------------+
| frame_size | txd/rxd | throughput difference from expected |
+============+=========+=====================================+
| 64 | 256 | -0.21538% |
+------------+---------+-------------------------------------+
| 128 | 256 | 0.05362% |
+------------+---------+-------------------------------------+
| 256 | 256 | -0.59816% |
+------------+---------+-------------------------------------+
| 512 | 256 | -1.40894% |
+------------+---------+-------------------------------------+
| 1024 | 256 | -0.48739% |
+------------+---------+-------------------------------------+
| 1518 | 256 | -0.15264% |
+------------+---------+-------------------------------------+
To view detailed results, visit:
https://lab.dpdk.org/results/dashboard/patchsets/16375/
UNH-IOL DPDK Community Lab
To manage your email subscriptions, visit:
https://lab.dpdk.org/results/dashboard/preferences/subscriptions/
^ permalink raw reply [flat|nested] 5+ messages in thread
* [dpdk-test-report] |SUCCESS| pw90858 [PATCH] net/dpaa2: fix RSS distribution size field
@ 2021-04-08 12:58 dpdklab
0 siblings, 0 replies; 5+ messages in thread
From: dpdklab @ 2021-04-08 12:58 UTC (permalink / raw)
To: Test Report; +Cc: dpdk-test-reports
[-- Attachment #1: Type: text/plain, Size: 1916 bytes --]
Test-Label: iol-intel-Performance
Test-Status: SUCCESS
http://dpdk.org/patch/90858
_Performance Testing PASS_
Submitter: Hemant Agrawal <hemant.agrawal@nxp.com>
Date: Thursday, April 08 2021 09:17:43
DPDK git baseline: Repo:dpdk
Branch: master
CommitID:2e761ce184d18dfd2d11eaf8c0b1f4841f6051f4
90858 --> performance testing pass
Test environment and result as below:
Ubuntu 18.04
Kernel: 4.15.0-generic
Compiler: gcc 7.4
NIC: Intel Corporation Ethernet Converged Network Adapter 82599ES 10000 Mbps
Target: x86_64-native-linuxapp-gcc
Fail/Total: 0/2
Detail performance results:
+------------+---------+-------------------------------------+
| frame_size | txd/rxd | throughput difference from expected |
+============+=========+=====================================+
| 64 | 512 | 3.08027% |
+------------+---------+-------------------------------------+
| 64 | 2048 | 2.38157% |
+------------+---------+-------------------------------------+
Ubuntu 18.04
Kernel: 4.15.0-generic
Compiler: gcc 7.4
NIC: Intel Corporation Ethernet Converged Network Adapter XL710-QDA2 40000 Mbps
Target: x86_64-native-linuxapp-gcc
Fail/Total: 0/2
Detail performance results:
+------------+---------+-------------------------------------+
| frame_size | txd/rxd | throughput difference from expected |
+============+=========+=====================================+
| 64 | 512 | 5.32444% |
+------------+---------+-------------------------------------+
| 64 | 2048 | 4.59681% |
+------------+---------+-------------------------------------+
To view detailed results, visit:
https://lab.dpdk.org/results/dashboard/patchsets/16375/
UNH-IOL DPDK Community Lab
To manage your email subscriptions, visit:
https://lab.dpdk.org/results/dashboard/preferences/subscriptions/
^ permalink raw reply [flat|nested] 5+ messages in thread
[parent not found: <20210408091744.21570-1-hemant.agrawal@nxp.com>]
end of thread, other threads:[~2021-04-10 3:07 UTC | newest]
Thread overview: 5+ messages (download: mbox.gz / follow: Atom feed)
-- links below jump to the message on this page --
2021-04-09 7:21 [dpdk-test-report] |SUCCESS| pw90858 [PATCH] net/dpaa2: fix RSS distribution size field dpdklab
-- strict thread matches above, loose matches on Subject: below --
2021-04-10 3:06 dpdklab
2021-04-08 19:44 dpdklab
2021-04-08 12:58 dpdklab
[not found] <20210408091744.21570-1-hemant.agrawal@nxp.com>
2021-04-08 9:20 ` checkpatch
This is a public inbox, see mirroring instructions
for how to clone and mirror all data and code used for this inbox;
as well as URLs for NNTP newsgroup(s).